BEGIN:VCALENDAR
VERSION:2.0
PRODID:-//SISSCO - ECPv6.15.20//NONSGML v1.0//EN
CALSCALE:GREGORIAN
METHOD:PUBLISH
X-ORIGINAL-URL:https://www.sissco.it
X-WR-CALDESC:Eventi per SISSCO
REFRESH-INTERVAL;VALUE=DURATION:PT1H
X-Robots-Tag:noindex
X-PUBLISHED-TTL:PT1H
BEGIN:VTIMEZONE
TZID:Europe/Rome
BEGIN:DAYLIGHT
TZOFFSETFROM:+0100
TZOFFSETTO:+0200
TZNAME:CEST
DTSTART:20250330T010000
END:DAYLIGHT
BEGIN:STANDARD
TZOFFSETFROM:+0200
TZOFFSETTO:+0100
TZNAME:CET
DTSTART:20251026T010000
END:STANDARD
BEGIN:DAYLIGHT
TZOFFSETFROM:+0100
TZOFFSETTO:+0200
TZNAME:CEST
DTSTART:20260329T010000
END:DAYLIGHT
BEGIN:STANDARD
TZOFFSETFROM:+0200
TZOFFSETTO:+0100
TZNAME:CET
DTSTART:20261025T010000
END:STANDARD
BEGIN:DAYLIGHT
TZOFFSETFROM:+0100
TZOFFSETTO:+0200
TZNAME:CEST
DTSTART:20270328T010000
END:DAYLIGHT
BEGIN:STANDARD
TZOFFSETFROM:+0200
TZOFFSETTO:+0100
TZNAME:CET
DTSTART:20271031T010000
END:STANDARD
END:VTIMEZONE
BEGIN:VEVENT
DTSTART;TZID=Europe/Rome:20260611T170000
DTEND;TZID=Europe/Rome:20260611T190000
DTSTAMP:20260424T002439
CREATED:20260421T193325Z
LAST-MODIFIED:20260421T194123Z
UID:10003490-1781197200-1781204400@www.sissco.it
SUMMARY:In the Shadow of the Vatican. Texan Evangelical Missionaries in Cold War Italy
DESCRIPTION:Il prossimo 11 giugno alle ore 17:00 si terrà al Centro Studi Americani  la presentazione del libro \n“In the Shadow of the Vatican: Texan Evangelical Missionaries in Cold War Italy” (Cambridge University Press 2025)\ndi Mario DEL PERO (SciencesPo\, Parigi) \nSi tratta del primo appuntamento di un ciclo di incontri riguardanti politica e religione negli USA\, fra storia globale e attualità. \nSaluti\nRoberto SGALLA\, Direttore del Centro Studi Americani \nInterventi \nLucia CECI\, Università di Roma Tor Vergata \nRosario FORLENZA\, Università LUISS Guido Carli\, Roma \nDaniele GARRONE\, Presidente della Federazione delle Comunità evangeliche in Italia \nModera \nLiliana NITTI\, PhD Università Roma Tre \nSARA’ PRESENTE L’AUTORE \nRSVP: library@centrostudiamericani.org
URL:https://www.sissco.it/calendario/in-the-shadow-of-the-vatican-texan-evangelical-missionaries-in-cold-war-italy/
ATTACH;FMTTYPE=image/jpeg:https://www.sissco.it/wp-content/uploads/2026/04/locandina-11-giugno.jpg
ORGANIZER;CN="Centro Studi Americani":MAILTO:event@centrostudiamericani.org
END:VEVENT
END:VCALENDAR