BEGIN:VCALENDAR
VERSION:2.0
PRODID:-//SISSCO - ECPv6.15.20//NONSGML v1.0//EN
CALSCALE:GREGORIAN
METHOD:PUBLISH
X-ORIGINAL-URL:https://www.sissco.it
X-WR-CALDESC:Eventi per SISSCO
REFRESH-INTERVAL;VALUE=DURATION:PT1H
X-Robots-Tag:noindex
X-PUBLISHED-TTL:PT1H
BEGIN:VTIMEZONE
TZID:Europe/Rome
BEGIN:DAYLIGHT
TZOFFSETFROM:+0100
TZOFFSETTO:+0200
TZNAME:CEST
DTSTART:20200329T010000
END:DAYLIGHT
BEGIN:STANDARD
TZOFFSETFROM:+0200
TZOFFSETTO:+0100
TZNAME:CET
DTSTART:20201025T010000
END:STANDARD
BEGIN:DAYLIGHT
TZOFFSETFROM:+0100
TZOFFSETTO:+0200
TZNAME:CEST
DTSTART:20210328T010000
END:DAYLIGHT
BEGIN:STANDARD
TZOFFSETFROM:+0200
TZOFFSETTO:+0100
TZNAME:CET
DTSTART:20211031T010000
END:STANDARD
BEGIN:DAYLIGHT
TZOFFSETFROM:+0100
TZOFFSETTO:+0200
TZNAME:CEST
DTSTART:20220327T010000
END:DAYLIGHT
BEGIN:STANDARD
TZOFFSETFROM:+0200
TZOFFSETTO:+0100
TZNAME:CET
DTSTART:20221030T010000
END:STANDARD
END:VTIMEZONE
BEGIN:VEVENT
DTSTART;TZID=Europe/Rome:20210512T153000
DTEND;TZID=Europe/Rome:20210512T235900
DTSTAMP:20260424T010254
CREATED:20210505T073310Z
LAST-MODIFIED:20210505T073310Z
UID:10002200-1620833400-1620863940@www.sissco.it
SUMMARY:Sigurdur Gylfi Magnusson "Far-Reaching Microhistory: a Paradox or a Possibility?"
DESCRIPTION:Per la serie dei Naples Modern and Contemporary History Seminars il 12 maggio 2021 Sigurður Gylfi Magnusson (University of Iceland) presenterà una relazione dal titolo “Far-Reaching Microhistory: a Paradox or a Possibility?”. \nLa discussione sarà aperta da Alessandro Stanziani (EHESS)\, al quale seguirà una sessione di domande dal pubblico. \nL’incontro si terrà online a partire dalle 15:30. Per collegarsi basta avviare Zoom cliccando sul seguente link: https://us02web.zoom.us/j/88620230478?pwd=Y2E5aG9UVTJTdlNtSHl1TnJEU0ZIZz09 \nPer informazioni scrivere a simoneattilio.bellezza@unina.it
URL:https://www.sissco.it/calendario/sigurdur-gylfi-magnusson-far-reaching-microhistory-a-paradox-or-a-possibility/
LOCATION:Napoli (online)\, Italia
CATEGORIES:Seminario
ORGANIZER;CN="":MAILTO:sabellezza@gmail.com
END:VEVENT
END:VCALENDAR