BEGIN:VCALENDAR
VERSION:2.0
PRODID:-//SISSCO - ECPv6.15.20//NONSGML v1.0//EN
CALSCALE:GREGORIAN
METHOD:PUBLISH
X-WR-CALNAME:SISSCO
X-ORIGINAL-URL:https://www.sissco.it
X-WR-CALDESC:Eventi per SISSCO
REFRESH-INTERVAL;VALUE=DURATION:PT1H
X-Robots-Tag:noindex
X-PUBLISHED-TTL:PT1H
BEGIN:VTIMEZONE
TZID:Europe/Rome
BEGIN:DAYLIGHT
TZOFFSETFROM:+0100
TZOFFSETTO:+0200
TZNAME:CEST
DTSTART:20230326T010000
END:DAYLIGHT
BEGIN:STANDARD
TZOFFSETFROM:+0200
TZOFFSETTO:+0100
TZNAME:CET
DTSTART:20231029T010000
END:STANDARD
BEGIN:DAYLIGHT
TZOFFSETFROM:+0100
TZOFFSETTO:+0200
TZNAME:CEST
DTSTART:20240331T010000
END:DAYLIGHT
BEGIN:STANDARD
TZOFFSETFROM:+0200
TZOFFSETTO:+0100
TZNAME:CET
DTSTART:20241027T010000
END:STANDARD
BEGIN:DAYLIGHT
TZOFFSETFROM:+0100
TZOFFSETTO:+0200
TZNAME:CEST
DTSTART:20250330T010000
END:DAYLIGHT
BEGIN:STANDARD
TZOFFSETFROM:+0200
TZOFFSETTO:+0100
TZNAME:CET
DTSTART:20251026T010000
END:STANDARD
END:VTIMEZONE
BEGIN:VEVENT
DTSTART;TZID=Europe/Rome:20240314T100000
DTEND;TZID=Europe/Rome:20240315T133000
DTSTAMP:20260424T013027
CREATED:20240303T155548Z
LAST-MODIFIED:20240303T155548Z
UID:10002749-1710410400-1710509400@www.sissco.it
SUMMARY:Tra filologia e storia: Sebastiano Timpanaro
DESCRIPTION:Il Convegno\, che si svolgerà presso l’Accademia Nazionale dei Lincei di Roma il 14 e il 15 marzo 2024\, intende illustrare da più punti di vista la figura di Sebastiano Timpanaro (1923-2000)\, filologo di fama internazionale\, studioso di linguistica e di letteratura italiana dell’Ottocento\, filosofo materialista  e attivista socialista\, restituendone la complessità intellettuale e il suo contributo nella cultura italiana\, e non solo\, del secondo Novecento.
URL:https://www.sissco.it/calendario/tra-filologia-e-storia-sebastiano-timpanaro/
LOCATION:Accademia Nazionale dei Lincei\, Palazzo Corsini - Via della Lungara 10\, Roma\, Italia
ORGANIZER;CN="Accademia Nazionale dei Lincei":MAILTO:accademianazionaledeilincei@postecert.it
END:VEVENT
END:VCALENDAR