BEGIN:VCALENDAR
VERSION:2.0
PRODID:-//SISSCO - ECPv6.15.20//NONSGML v1.0//EN
CALSCALE:GREGORIAN
METHOD:PUBLISH
X-WR-CALNAME:SISSCO
X-ORIGINAL-URL:https://www.sissco.it
X-WR-CALDESC:Eventi per SISSCO
REFRESH-INTERVAL;VALUE=DURATION:PT1H
X-Robots-Tag:noindex
X-PUBLISHED-TTL:PT1H
BEGIN:VTIMEZONE
TZID:Europe/Rome
BEGIN:DAYLIGHT
TZOFFSETFROM:+0100
TZOFFSETTO:+0200
TZNAME:CEST
DTSTART:20220327T010000
END:DAYLIGHT
BEGIN:STANDARD
TZOFFSETFROM:+0200
TZOFFSETTO:+0100
TZNAME:CET
DTSTART:20221030T010000
END:STANDARD
BEGIN:DAYLIGHT
TZOFFSETFROM:+0100
TZOFFSETTO:+0200
TZNAME:CEST
DTSTART:20230326T010000
END:DAYLIGHT
BEGIN:STANDARD
TZOFFSETFROM:+0200
TZOFFSETTO:+0100
TZNAME:CET
DTSTART:20231029T010000
END:STANDARD
BEGIN:DAYLIGHT
TZOFFSETFROM:+0100
TZOFFSETTO:+0200
TZNAME:CEST
DTSTART:20240331T010000
END:DAYLIGHT
BEGIN:STANDARD
TZOFFSETFROM:+0200
TZOFFSETTO:+0100
TZNAME:CET
DTSTART:20241027T010000
END:STANDARD
BEGIN:DAYLIGHT
TZOFFSETFROM:+0100
TZOFFSETTO:+0200
TZNAME:CEST
DTSTART:20250330T010000
END:DAYLIGHT
BEGIN:STANDARD
TZOFFSETFROM:+0200
TZOFFSETTO:+0100
TZNAME:CET
DTSTART:20251026T010000
END:STANDARD
END:VTIMEZONE
BEGIN:VEVENT
DTSTART;TZID=Europe/Rome:20240516T170000
DTEND;TZID=Europe/Rome:20240516T193000
DTSTAMP:20260425T230810
CREATED:20240510T153821Z
LAST-MODIFIED:20240510T154231Z
UID:10002832-1715878800-1715887800@www.sissco.it
SUMMARY:Microstoria e storia globale
DESCRIPTION:Giovedì 16 maggio 2024\, alle ore 17.00\, nell’ambito del Maggio dei Libri 2024\, sarà presentato il volume «Microstoria e storia globale» di Francesca Trivellato (Officina Libraria\, 2023).\nSaluti: Patrizia Rusciani.\nIntervengono: Renata Ago\, Ida Fazio\, Brigitte Marin.\nCoordina: Gabriele Pedullà.\nSarà presente l’autrice.\nDiretta sulla pagina FB della Biblioteca https://www.facebook.com/BSMCstoriamoderna \nLa parola “microstoria” fa pensare a contadini\, streghe e indemoniati – ai molti uomini e alle moltissime donne che sono state doppiamente vittime\, prima degli abusi di potere nel corso delle loro vite e poi dell’oblio da parte della Storia con la S maiuscola. “Microstoria” è anche il nome associato a una stagione storiografica italiana di altissimo profilo\, che non solo ha riportato alla luce questi protagonisti del passato ma nel farlo\, ha rinnovato il modo di fare ricerca e di scrivere di storia. In entrambi i sensi\, la microstoria si ricollega alla piccola scala\, alla dimensione del villaggio o del quartiere\, alla biografia di uno sconosciuto. Che cosa ha dunque a che fare la microstoria con la storia globale? Francesca Trivellato si è interrogata su questa domanda per oltre un decennio. I suoi saggi qui raccolti\, per la prima volta in traduzione italiana\, offrono risposte per alcuni versi sorprendenti a partire da un punto di osservazione privilegiato. Allieva di uno dei fondatori della\nmicrostoria italiana\, Giovanni Levi\, ma trasferitasi negli Stati Uniti da ormai vent’anni\, Trivellato mette in luce incontri mancati\, possibili sviluppi e intrecci tra storiografie che\, anche in un mondo sempre più interconnesso\, mantengono un’impronta marcatamente nazionale.
URL:https://www.sissco.it/calendario/microstoria-e-storia-globale/
LOCATION:Archivio centrale dello Stato\, Piazzale degli Archivi\, 27\, Roma\, 00144\, Italia
CATEGORIES:Presentazione di libro/i
ATTACH;FMTTYPE=image/jpeg:https://www.sissco.it/wp-content/uploads/2024/05/Trivellato_Locandina16_maggio.jpg
ORGANIZER;CN="Biblioteca di storia moderna e contemporanea":MAILTO:b-stmo.info@beniculturali.it
END:VEVENT
BEGIN:VEVENT
DTSTART;TZID=Europe/Rome:20230607T093000
DTEND;TZID=Europe/Rome:20230607T170000
DTSTAMP:20260425T230810
CREATED:20230531T123151Z
LAST-MODIFIED:20230531T123151Z
UID:10002542-1686130200-1686157200@www.sissco.it
SUMMARY:Via col voto: il manifesto politico e sociale nell’Italia del    Novecento
DESCRIPTION:Via col voto: il manifesto politico e sociale nell’Italia del  Novecento \nIl prossimo 7 giugno\, dalle ore 09.00 alle 16.00\, la Sala convegni    dell’Archivio centrale dello Stato ospita la giornata di studi “Via col  voto: il manifesto politico e sociale nell’Italia del Novecento”.\nL’evento\, che celebra il 70esimo anniversario delle elezioni politiche    del 7-8 giugno 1953\, ha come motore propulsore il lavoro di ordinamento  e digitalizzazione della raccolta dei manifesti politici per le  elezioni del 1952-1953\, a cura della dott.ssa Caterina Arfé. La    giornata di studi sarà occasione condivisione e riflessione sullo stato dell’arte riguardo ai criteri di schedatura e le criticità di conservazione e di fruizione di questa tipologia di documento. \nI Manifesti politici sono testimonianze tangibili di movimenti e di  ideologie che hanno plasmato il panorama politico italiano del recente  passato.\nIl nucleo documentale custodito dall’Istituto riunisce circa 900 pezzi  tra manifesti\, giornali murali e manifesti elettorali riuniti negli  Archivi di manifesti\, formatisi nel tempo attraverso l’attività di acquisto o di raccolta.\nPer questa tipologia di documenti\, viene spontaneo utilizzare il  termine “raccolta” nel suo pieno significato. Infatti\, questa\naggregazione documentaria raggruppa diversi soggetti produttori: da un  lato i Partiti politici che hanno effettivamente prodotto tali  documenti e li hanno in seguito donati\, e dall’altro le raccolte del soggetto conservatore (l’Archivio centrale dello Stato)\, che assume un  ruolo attivo sia nella conservazione nel più ampio dei termini che  nella loro valorizzazione.\nGli Archivi di manifesti\, che frequentemente sono da identificare con  gli Archivi di movimenti\, riflettono il fervore e la passione dei  movimenti politici di uno specifico periodo storico. Tuttavia i  produttori di manifesti politici\, soprattutto durante periodi di grandi  sconvolgimenti sociali\, non ne avevano considerato una conservazione  futura. Solo negli ultimi decenni\, la consapevolezza dell’indiscusso  valore storico di questa documentazione\, in quanto anch’essa  indiscutibile testimonianza del passato\, ha portato i loro eredi (e o coloro che si identificano con quella tradizione politica) alla    necessità di farne donazione agli Archivi di Stato\, istituti e fondazioni private.\nL’evento vedrà la partecipazione delle più importanti istituzioni  culturali romane che conservano manifesti (Istituto Sturzo\, Fondazioni  Gramsci\, Basso e Ugo Spirito\, Biblioteca di storia moderna e  contemporanea\, Unione donne italiane -UDI)\, della dott.ssa Valentina  Carola\, attuale responsabile del fondo\, della Soprintendenza archivistica e bibliografica del Lazio\, il prof. Edoardo Novelli\, delle restauratrici del Laboratorio interno all’Archivio centrale dello Stato e del Servizio didattica dell’Istituto. \n   PROGRAMMA DELLA GIORNATA \n   Ingresso libero e gratuito\, diretta streaming sul canale YouTube\n   dell’Istituto\, sezione “Dal vivo” \n   ore 9.30 – Saluti istituzionali e introduzione ai lavori \n   Andrea De Pasquale\, Direttore generale e Sovrintendente dell’Archivio  centrale dello Stato \n   ore 10.00\n   Caterina Arfé\, Archivio centrale dello Stato\n   Valentina Carola\, Archivio di Stato di Teramo\n   Edoardo Novelli\, Università degli Studi Roma Tre\n   Giovanna Giubbini\, Soprintendenza archivistica e bibliografica del  Lazio \n   ore 11.45 Pausa\n   ore 12.00\n   Patrizia Rusciani\, Biblioteca di storia moderna e contemporanea\n   Oriana Rizzuto\, Biblioteca di storia moderna e contemporanea\n   Simona Luciani\, Fondazione Lelio e Lisli Basso\n   Alessandra Cavaterra\, Fondazione Ugo Spirito \n   ore 13.15 Pausa\n   ore 14.00\n   Concetta Argiolas\, Fondazione Luigi Sturzo\n   Giovanna Bosman\, Fondazione Antonio Gramsci\n   Ilaria Scalmani\, Unione donne italiane \n   ore 15.00\n   Sara Belligno\, Laboratorio di conservazione e restauro Archivio\n   centrale dello Stato\n   Sara Guizzo\, Laboratorio di conservazione e restauro Archivio centrale\n   dello Stato\n   Simonetta Ceglie\, Archivio centrale dello Stato\n   Ombretta Giovannini\, Liceo artistico Caravaggio
URL:https://www.sissco.it/calendario/via-col-voto-il-manifesto-politico-e-sociale-nellitalia-del-novecento/
LOCATION:Archivio centrale dello Stato\, Piazzale degli Archivi\, 27\, Roma\, 00144\, Italia
CATEGORIES:Convegno
ATTACH;FMTTYPE=image/jpeg:https://www.sissco.it/wp-content/uploads/2023/05/acs.jpg
END:VEVENT
END:VCALENDAR