BEGIN:VCALENDAR
VERSION:2.0
PRODID:-//SISSCO - ECPv6.15.20//NONSGML v1.0//EN
CALSCALE:GREGORIAN
METHOD:PUBLISH
X-ORIGINAL-URL:https://www.sissco.it
X-WR-CALDESC:Eventi per SISSCO
REFRESH-INTERVAL;VALUE=DURATION:PT1H
X-Robots-Tag:noindex
X-PUBLISHED-TTL:PT1H
BEGIN:VTIMEZONE
TZID:Europe/Rome
BEGIN:DAYLIGHT
TZOFFSETFROM:+0100
TZOFFSETTO:+0200
TZNAME:CEST
DTSTART:20170326T010000
END:DAYLIGHT
BEGIN:STANDARD
TZOFFSETFROM:+0200
TZOFFSETTO:+0100
TZNAME:CET
DTSTART:20171029T010000
END:STANDARD
BEGIN:DAYLIGHT
TZOFFSETFROM:+0100
TZOFFSETTO:+0200
TZNAME:CEST
DTSTART:20180325T010000
END:DAYLIGHT
BEGIN:STANDARD
TZOFFSETFROM:+0200
TZOFFSETTO:+0100
TZNAME:CET
DTSTART:20181028T010000
END:STANDARD
BEGIN:DAYLIGHT
TZOFFSETFROM:+0100
TZOFFSETTO:+0200
TZNAME:CEST
DTSTART:20190331T010000
END:DAYLIGHT
BEGIN:STANDARD
TZOFFSETFROM:+0200
TZOFFSETTO:+0100
TZNAME:CET
DTSTART:20191027T010000
END:STANDARD
END:VTIMEZONE
BEGIN:VEVENT
DTSTART;TZID=Europe/Rome:20180412T173000
DTEND;TZID=Europe/Rome:20180412T235900
DTSTAMP:20260423T193443
CREATED:20180331T103202Z
LAST-MODIFIED:20180331T103636Z
UID:10001773-1523554200-1523577540@www.sissco.it
SUMMARY:Israele oggi - Le componenti dell'innovazione israeliana
DESCRIPTION:Rafael Erdreich\, Ministro-Consigliere d’Ambasciata\, parlerà delle componenti che fanno di Israele uno degli Stati più avanzati sotto il profilo della ricerca scientifica e dell’innovazione tecnologica. Erdreich parlerà anche delle caratteristiche del sistema universitario israeliano e di quelle dell’esercito.\nLa conferenza\, promosa dall’Associazione Italia-Israele di Firenze con la collaborazione della Fondazione Spadolini Nuova Antologia e dell’Ambasciata d’Israele a Roma\, sarà introdotta\, dopo il saluto di Cosimo Ceccuti\, da Valentino Baldacci.
URL:https://www.sissco.it/calendario/israele-oggi-le-componenti-dellinnovazione-israeliana/
LOCATION:Biblioteca della Fondazione Spadolini Nuova Antologia\, Via Pian de' Giullari 36/A\, Firenze\, 50125\, Italia
CATEGORIES:Altro
ORGANIZER;CN="Valentino Baldacci":MAILTO:firenze.assitaliaisraele@gmail.com
END:VEVENT
END:VCALENDAR