BEGIN:VCALENDAR
VERSION:2.0
PRODID:-//SISSCO - ECPv6.15.20//NONSGML v1.0//EN
CALSCALE:GREGORIAN
METHOD:PUBLISH
X-WR-CALNAME:SISSCO
X-ORIGINAL-URL:https://www.sissco.it
X-WR-CALDESC:Eventi per SISSCO
REFRESH-INTERVAL;VALUE=DURATION:PT1H
X-Robots-Tag:noindex
X-PUBLISHED-TTL:PT1H
BEGIN:VTIMEZONE
TZID:Europe/Rome
BEGIN:DAYLIGHT
TZOFFSETFROM:+0100
TZOFFSETTO:+0200
TZNAME:CEST
DTSTART:20180325T010000
END:DAYLIGHT
BEGIN:STANDARD
TZOFFSETFROM:+0200
TZOFFSETTO:+0100
TZNAME:CET
DTSTART:20181028T010000
END:STANDARD
BEGIN:DAYLIGHT
TZOFFSETFROM:+0100
TZOFFSETTO:+0200
TZNAME:CEST
DTSTART:20190331T010000
END:DAYLIGHT
BEGIN:STANDARD
TZOFFSETFROM:+0200
TZOFFSETTO:+0100
TZNAME:CET
DTSTART:20191027T010000
END:STANDARD
BEGIN:DAYLIGHT
TZOFFSETFROM:+0100
TZOFFSETTO:+0200
TZNAME:CEST
DTSTART:20200329T010000
END:DAYLIGHT
BEGIN:STANDARD
TZOFFSETFROM:+0200
TZOFFSETTO:+0100
TZNAME:CET
DTSTART:20201025T010000
END:STANDARD
END:VTIMEZONE
BEGIN:VEVENT
DTSTART;TZID=Europe/Rome:20190919T171500
DTEND;TZID=Europe/Rome:20190919T235900
DTSTAMP:20260419T131123
CREATED:20190901T101550Z
LAST-MODIFIED:20190901T101550Z
UID:10000767-1568913300-1568937540@www.sissco.it
SUMMARY:I rapporti tra Italia e Israele
DESCRIPTION:Marco Carrai analizza l’evoluzione dei rapporti politici\, economici\, scientifici e culturali tra Italia e Israele\, a partire dalla fondazione dello Stato ebraico ad oggi.
URL:https://www.sissco.it/calendario/i-rapporti-tra-italia-e-israele/
LOCATION:Biblioteca della Fondazione Spadolini Nuova Antologia\, Via Pian de' Giullari 36A\, Firenze\, 50125\, Italia
CATEGORIES:Seminario
ORGANIZER;CN="Valentino Baldacci":MAILTO:valentinobaldacci@gmail.com
END:VEVENT
END:VCALENDAR