BEGIN:VCALENDAR
VERSION:2.0
PRODID:-//SISSCO - ECPv6.15.20//NONSGML v1.0//EN
CALSCALE:GREGORIAN
METHOD:PUBLISH
X-WR-CALNAME:SISSCO
X-ORIGINAL-URL:https://www.sissco.it
X-WR-CALDESC:Eventi per SISSCO
REFRESH-INTERVAL;VALUE=DURATION:PT1H
X-Robots-Tag:noindex
X-PUBLISHED-TTL:PT1H
BEGIN:VTIMEZONE
TZID:Europe/Rome
BEGIN:DAYLIGHT
TZOFFSETFROM:+0100
TZOFFSETTO:+0200
TZNAME:CEST
DTSTART:20170326T010000
END:DAYLIGHT
BEGIN:STANDARD
TZOFFSETFROM:+0200
TZOFFSETTO:+0100
TZNAME:CET
DTSTART:20171029T010000
END:STANDARD
BEGIN:DAYLIGHT
TZOFFSETFROM:+0100
TZOFFSETTO:+0200
TZNAME:CEST
DTSTART:20180325T010000
END:DAYLIGHT
BEGIN:STANDARD
TZOFFSETFROM:+0200
TZOFFSETTO:+0100
TZNAME:CET
DTSTART:20181028T010000
END:STANDARD
BEGIN:DAYLIGHT
TZOFFSETFROM:+0100
TZOFFSETTO:+0200
TZNAME:CEST
DTSTART:20190331T010000
END:DAYLIGHT
BEGIN:STANDARD
TZOFFSETFROM:+0200
TZOFFSETTO:+0100
TZNAME:CET
DTSTART:20191027T010000
END:STANDARD
END:VTIMEZONE
BEGIN:VEVENT
DTSTART;TZID=Europe/Rome:20181214T170000
DTEND;TZID=Europe/Rome:20181214T235900
DTSTAMP:20260419T180527
CREATED:20181204T180433Z
LAST-MODIFIED:20181204T181603Z
UID:10000652-1544806800-1544831940@www.sissco.it
SUMMARY:Il Sessantotto in Valdarno e nel mondo
DESCRIPTION:Venerdì 14 dicembre 2018\, alle ore 17\, a Montevarchi (AR) presso il Centro pastorale “Guido Guerra” (via dei Mille\, n. 5) presentazione e dibattito con gli autori dei volumi:\n– Paolo Brogi\, 68 Ce n’est qu’un début… Storie di un mondo in rivolta (Imprimatur\, 2017)\n– Giorgio Sacchetti\, Pugni chiusi. Storia transnazionale di un Sessantotto di periferia. Gauchisme\, controculture e rivolta giovanile in provincia di Arezzo. 1968-1977 (Aska\, 2018)\nConducono Giovanni Cardinali e Enzo Brogi \nL’iniziativa è promossa da Aska edizioni e Bibliocoop Montevarchi
URL:https://www.sissco.it/calendario/il-sessantotto-in-valdarno-e-nel-mondo/
LOCATION:Centro pastorale “Guido Guerra”\, via dei Mille\, n. 5\, Montevarchi (Arezzo)\, 52025\, Italia
CATEGORIES:Presentazione di libro/i
ORGANIZER;CN="Aska edizioni":MAILTO:info@askaedizioni.it 
END:VEVENT
END:VCALENDAR