BEGIN:VCALENDAR
VERSION:2.0
PRODID:-//SISSCO - ECPv6.15.20//NONSGML v1.0//EN
CALSCALE:GREGORIAN
METHOD:PUBLISH
X-ORIGINAL-URL:https://www.sissco.it
X-WR-CALDESC:Eventi per SISSCO
REFRESH-INTERVAL;VALUE=DURATION:PT1H
X-Robots-Tag:noindex
X-PUBLISHED-TTL:PT1H
BEGIN:VTIMEZONE
TZID:Europe/Rome
BEGIN:DAYLIGHT
TZOFFSETFROM:+0100
TZOFFSETTO:+0200
TZNAME:CEST
DTSTART:20140330T010000
END:DAYLIGHT
BEGIN:STANDARD
TZOFFSETFROM:+0200
TZOFFSETTO:+0100
TZNAME:CET
DTSTART:20141026T010000
END:STANDARD
BEGIN:DAYLIGHT
TZOFFSETFROM:+0100
TZOFFSETTO:+0200
TZNAME:CEST
DTSTART:20150329T010000
END:DAYLIGHT
BEGIN:STANDARD
TZOFFSETFROM:+0200
TZOFFSETTO:+0100
TZNAME:CET
DTSTART:20151025T010000
END:STANDARD
BEGIN:DAYLIGHT
TZOFFSETFROM:+0100
TZOFFSETTO:+0200
TZNAME:CEST
DTSTART:20160327T010000
END:DAYLIGHT
BEGIN:STANDARD
TZOFFSETFROM:+0200
TZOFFSETTO:+0100
TZNAME:CET
DTSTART:20161030T010000
END:STANDARD
END:VTIMEZONE
BEGIN:VEVENT
DTSTART;TZID=Europe/Rome:20151210T090000
DTEND;TZID=Europe/Rome:20151212T235900
DTSTAMP:20260419T152442
CREATED:20151129T223929Z
LAST-MODIFIED:20151129T224420Z
UID:10001431-1449738000-1449964740@www.sissco.it
SUMMARY:Mathematical Sciences and 20th Century Dictatorships
DESCRIPTION:“The international conference ‘The Mathematical Sciences and the 20th Century Dictatorships’ will take place in Lisbon\, from 10th to 12th December\, in the framework of the 75th anniversary of the Portuguese Mathematical Society. The meeting aims to promote the discussion about the development and the practice of mathematics during the 20th century dictatorships in Portugal\, Spain\, Italy\, Germany\, France (under nazi occupation)\, Brazil and Argentina.”
URL:https://www.sissco.it/calendario/mathematical-sciences-and-20th-century-dictatorships/
LOCATION:Faculty of Sciences of Lisbon University\, Lisbona\, Portogallo
CATEGORIES:Convegno
END:VEVENT
END:VCALENDAR