BEGIN:VCALENDAR
VERSION:2.0
PRODID:-//SISSCO - ECPv6.15.20//NONSGML v1.0//EN
CALSCALE:GREGORIAN
METHOD:PUBLISH
X-WR-CALNAME:SISSCO
X-ORIGINAL-URL:https://www.sissco.it
X-WR-CALDESC:Eventi per SISSCO
REFRESH-INTERVAL;VALUE=DURATION:PT1H
X-Robots-Tag:noindex
X-PUBLISHED-TTL:PT1H
BEGIN:VTIMEZONE
TZID:Europe/Rome
BEGIN:DAYLIGHT
TZOFFSETFROM:+0100
TZOFFSETTO:+0200
TZNAME:CEST
DTSTART:20160327T010000
END:DAYLIGHT
BEGIN:STANDARD
TZOFFSETFROM:+0200
TZOFFSETTO:+0100
TZNAME:CET
DTSTART:20161030T010000
END:STANDARD
BEGIN:DAYLIGHT
TZOFFSETFROM:+0100
TZOFFSETTO:+0200
TZNAME:CEST
DTSTART:20170326T010000
END:DAYLIGHT
BEGIN:STANDARD
TZOFFSETFROM:+0200
TZOFFSETTO:+0100
TZNAME:CET
DTSTART:20171029T010000
END:STANDARD
BEGIN:DAYLIGHT
TZOFFSETFROM:+0100
TZOFFSETTO:+0200
TZNAME:CEST
DTSTART:20180325T010000
END:DAYLIGHT
BEGIN:STANDARD
TZOFFSETFROM:+0200
TZOFFSETTO:+0100
TZNAME:CET
DTSTART:20181028T010000
END:STANDARD
BEGIN:DAYLIGHT
TZOFFSETFROM:+0100
TZOFFSETTO:+0200
TZNAME:CEST
DTSTART:20190331T010000
END:DAYLIGHT
BEGIN:STANDARD
TZOFFSETFROM:+0200
TZOFFSETTO:+0100
TZNAME:CET
DTSTART:20191027T010000
END:STANDARD
BEGIN:DAYLIGHT
TZOFFSETFROM:+0100
TZOFFSETTO:+0200
TZNAME:CEST
DTSTART:20200329T010000
END:DAYLIGHT
BEGIN:STANDARD
TZOFFSETFROM:+0200
TZOFFSETTO:+0100
TZNAME:CET
DTSTART:20201025T010000
END:STANDARD
BEGIN:DAYLIGHT
TZOFFSETFROM:+0100
TZOFFSETTO:+0200
TZNAME:CEST
DTSTART:20210328T010000
END:DAYLIGHT
BEGIN:STANDARD
TZOFFSETFROM:+0200
TZOFFSETTO:+0100
TZNAME:CET
DTSTART:20211031T010000
END:STANDARD
BEGIN:DAYLIGHT
TZOFFSETFROM:+0100
TZOFFSETTO:+0200
TZNAME:CEST
DTSTART:20220327T010000
END:DAYLIGHT
BEGIN:STANDARD
TZOFFSETFROM:+0200
TZOFFSETTO:+0100
TZNAME:CET
DTSTART:20221030T010000
END:STANDARD
BEGIN:DAYLIGHT
TZOFFSETFROM:+0100
TZOFFSETTO:+0200
TZNAME:CEST
DTSTART:20230326T010000
END:DAYLIGHT
BEGIN:STANDARD
TZOFFSETFROM:+0200
TZOFFSETTO:+0100
TZNAME:CET
DTSTART:20231029T010000
END:STANDARD
BEGIN:DAYLIGHT
TZOFFSETFROM:+0100
TZOFFSETTO:+0200
TZNAME:CEST
DTSTART:20240331T010000
END:DAYLIGHT
BEGIN:STANDARD
TZOFFSETFROM:+0200
TZOFFSETTO:+0100
TZNAME:CET
DTSTART:20241027T010000
END:STANDARD
END:VTIMEZONE
BEGIN:VEVENT
DTSTART;TZID=Europe/Rome:20231024T173000
DTEND;TZID=Europe/Rome:20231024T193000
DTSTAMP:20260423T090651
CREATED:20231019T104223Z
LAST-MODIFIED:20231019T104427Z
UID:10002628-1698168600-1698175800@www.sissco.it
SUMMARY:Nord contro Sud. La grande frattura dell’Italia repubblicana
DESCRIPTION:Presentazione del libro di Filippo Sbrana\, Nord contro Sud. La grande frattura dell’Italia repubblicana (Carocci) presso l’Enciclopedia Treccani a Roma. Ne discutono Giuliano Amato\, Gaetano Sabatini e Mariuccia Salvati  \nSarà possibile seguire l’incontro anche in streaming al link https://www.youtube.com/@treccani/streams
URL:https://www.sissco.it/calendario/nord-contro-sud-la-grande-frattura-dellitalia-repubblicana/
LOCATION:Istituto dell’Enciclopedia Italiana -Sala Igea – Palazzo Mattei di Paganica\, PIAZZA DELLA ENCICLOPEDIA ITALIANA\, 4\, Roma\, Italia
CATEGORIES:Presentazione di libro/i
ATTACH;FMTTYPE=image/jpeg:https://www.sissco.it/wp-content/uploads/2023/10/Invito-Treccani-24-ottobre-2023.jpg
ORGANIZER;CN="Istituto dell'Enciclopedia Italiana":MAILTO:att.culturali@treccani.it
END:VEVENT
BEGIN:VEVENT
DTSTART;TZID=Europe/Rome:20170614T170000
DTEND;TZID=Europe/Rome:20170614T235900
DTSTAMP:20260423T090651
CREATED:20170606T163742Z
LAST-MODIFIED:20170606T163742Z
UID:10001670-1497459600-1497484740@www.sissco.it
SUMMARY:presentazione volume di Gianluca Scroccu: La sinistra credibile. Antonio Giolitti tra socialismo\, riformismo\, europeismo (1964-2010)
DESCRIPTION:  \nL’ISTITUTO DELLA ENCICLOPEDIA ITALIANA È LIETO DI INVITARLA ALLA PRESENTAZIONE DEL VOLUME  \nLA SINISTRA CREDIBILE  \nANTONIO GIOLITTI TRA SOCIALISMO\, RIFORMISMO ED EUROPEISMO (1964 – 2010)  \nDI GIANLUCA SCROCCU (Carocci\, 2016)  \nIntervengono con l’Autore  \nGIULIANO AMATO ANTONELLO CABRAS MARIUCCIA SALVATI  \nSarà presente il Presidente Emerito  \nGIORGIO NAPOLITANO  \nROMA\, MERCOLEDÌ 14 GIUGNO 2017\, ORE 17  \nISTITUTO DELLA ENCICLOPEDIA ITALIANA SALA IGEA – PALAZZO MATTEI DI PAGANICA PIAZZA DELLA ENCICLOPEDIA ITALIANA\, 4  \n 
URL:https://www.sissco.it/calendario/presentazione-volume-di-gianluca-scroccu-la-sinistra-credibile-antonio-giolitti-tra-socialismo-riformismo-europeismo-1964-2010/
LOCATION:Istituto dell’Enciclopedia Italiana -Sala Igea – Palazzo Mattei di Paganica\, PIAZZA DELLA ENCICLOPEDIA ITALIANA\, 4\, Roma\, Italia
CATEGORIES:Presentazione di libro/i
ORGANIZER;CN="Gianluca Scroccu":MAILTO:gobettiano@tiscali.it
END:VEVENT
END:VCALENDAR