BEGIN:VCALENDAR
VERSION:2.0
PRODID:-//SISSCO - ECPv6.15.20//NONSGML v1.0//EN
CALSCALE:GREGORIAN
METHOD:PUBLISH
X-WR-CALNAME:SISSCO
X-ORIGINAL-URL:https://www.sissco.it
X-WR-CALDESC:Eventi per SISSCO
REFRESH-INTERVAL;VALUE=DURATION:PT1H
X-Robots-Tag:noindex
X-PUBLISHED-TTL:PT1H
BEGIN:VTIMEZONE
TZID:Europe/Rome
BEGIN:DAYLIGHT
TZOFFSETFROM:+0100
TZOFFSETTO:+0200
TZNAME:CEST
DTSTART:20220327T010000
END:DAYLIGHT
BEGIN:STANDARD
TZOFFSETFROM:+0200
TZOFFSETTO:+0100
TZNAME:CET
DTSTART:20221030T010000
END:STANDARD
BEGIN:DAYLIGHT
TZOFFSETFROM:+0100
TZOFFSETTO:+0200
TZNAME:CEST
DTSTART:20230326T010000
END:DAYLIGHT
BEGIN:STANDARD
TZOFFSETFROM:+0200
TZOFFSETTO:+0100
TZNAME:CET
DTSTART:20231029T010000
END:STANDARD
BEGIN:DAYLIGHT
TZOFFSETFROM:+0100
TZOFFSETTO:+0200
TZNAME:CEST
DTSTART:20240331T010000
END:DAYLIGHT
BEGIN:STANDARD
TZOFFSETFROM:+0200
TZOFFSETTO:+0100
TZNAME:CET
DTSTART:20241027T010000
END:STANDARD
END:VTIMEZONE
BEGIN:VEVENT
DTSTART;TZID=Europe/Rome:20230927T140000
DTEND;TZID=Europe/Rome:20230928T150000
DTSTAMP:20260421T163343
CREATED:20230923T204727Z
LAST-MODIFIED:20230923T204821Z
UID:10002589-1695823200-1695913200@www.sissco.it
SUMMARY:Nuove prospettive di ricerca su stato di eccezione e di emergenza. Un dialogo italo-tedesco
DESCRIPTION:La ricerca storica storica ha affrontato la questione dello stato di eccezione soffermandosi prevalentemente sulle leggi\, i provvedimenti politici e l’espansione dei poteri dello stato in tempo di crisi. Durante il workshop esamineremo nuove prospettive in grado di decifrare le connessioni tra diversi spazi\, localizzazioni e classificazioni socioculturali che si collocano alla base della definizione e gestione di emergenze e stato di eccezione. Da un lato ci soffermeremo sulla costruzione sociale e culturale dello stato d’eccezione e\, dall’altro lato\, sulla sua articolazione in spazi transnazionali e coloniali. La prima sessione è dedicata all’analisi di “stati d’eccezione” percepiti in riferimento all’alterazione del “normale” stato del corpo oppure al turbamento degli stereotipi di genere. La seconda analizza la percezione e gestione dell’emergenza in spazi lontani dallo stato nazionale europeo.
URL:https://www.sissco.it/calendario/nuove-prospettive-di-ricerca-su-stato-di-eccezione-e-di-emergenza-un-dialogo-italo-tedesco/
LOCATION:Istituto Storico Germanico di Roma\, Via Aurelia Antica\, 391\, Roma\, 00165\, Italia
CATEGORIES:Convegno
ORGANIZER;CN="Amerigo Caruso":MAILTO:acaruso@uni-bonn.de
END:VEVENT
END:VCALENDAR