BEGIN:VCALENDAR
VERSION:2.0
PRODID:-//SISSCO - ECPv6.15.20//NONSGML v1.0//EN
CALSCALE:GREGORIAN
METHOD:PUBLISH
X-ORIGINAL-URL:https://www.sissco.it
X-WR-CALDESC:Eventi per SISSCO
REFRESH-INTERVAL;VALUE=DURATION:PT1H
X-Robots-Tag:noindex
X-PUBLISHED-TTL:PT1H
BEGIN:VTIMEZONE
TZID:Europe/Rome
BEGIN:DAYLIGHT
TZOFFSETFROM:+0100
TZOFFSETTO:+0200
TZNAME:CEST
DTSTART:20220327T010000
END:DAYLIGHT
BEGIN:STANDARD
TZOFFSETFROM:+0200
TZOFFSETTO:+0100
TZNAME:CET
DTSTART:20221030T010000
END:STANDARD
BEGIN:DAYLIGHT
TZOFFSETFROM:+0100
TZOFFSETTO:+0200
TZNAME:CEST
DTSTART:20230326T010000
END:DAYLIGHT
BEGIN:STANDARD
TZOFFSETFROM:+0200
TZOFFSETTO:+0100
TZNAME:CET
DTSTART:20231029T010000
END:STANDARD
BEGIN:DAYLIGHT
TZOFFSETFROM:+0100
TZOFFSETTO:+0200
TZNAME:CEST
DTSTART:20240331T010000
END:DAYLIGHT
BEGIN:STANDARD
TZOFFSETFROM:+0200
TZOFFSETTO:+0100
TZNAME:CET
DTSTART:20241027T010000
END:STANDARD
END:VTIMEZONE
BEGIN:VEVENT
DTSTART;VALUE=DATE:20231025
DTEND;VALUE=DATE:20231026
DTSTAMP:20260419T170553
CREATED:20231009T180951Z
LAST-MODIFIED:20231009T180951Z
UID:10002615-1698192000-1698278399@www.sissco.it
SUMMARY:Squarcio rosso
DESCRIPTION:Berlinguer\, Craxi e la sinistra in pezzi\n(Bordeaux edizioni) \nPresentazione del libro di Giampiero Calapà \nIntervengono con l’autore:\nSimona Colarizi\nMassimo D’Alema
URL:https://www.sissco.it/calendario/squarcio-rosso/
LOCATION:Libreria Testaccio\, piazza di Santa Maria Liberatrice 24/26\, Roma\, Lazio\, 00153\, Italia
CATEGORIES:Presentazione di libro/i
ATTACH;FMTTYPE=image/jpeg:https://www.sissco.it/wp-content/uploads/2023/10/squarciorosso251023testaccio.jpg
END:VEVENT
END:VCALENDAR