BEGIN:VCALENDAR
VERSION:2.0
PRODID:-//SISSCO - ECPv6.15.20//NONSGML v1.0//EN
CALSCALE:GREGORIAN
METHOD:PUBLISH
X-WR-CALNAME:SISSCO
X-ORIGINAL-URL:https://www.sissco.it
X-WR-CALDESC:Eventi per SISSCO
REFRESH-INTERVAL;VALUE=DURATION:PT1H
X-Robots-Tag:noindex
X-PUBLISHED-TTL:PT1H
BEGIN:VTIMEZONE
TZID:Europe/Rome
BEGIN:DAYLIGHT
TZOFFSETFROM:+0100
TZOFFSETTO:+0200
TZNAME:CEST
DTSTART:20200329T010000
END:DAYLIGHT
BEGIN:STANDARD
TZOFFSETFROM:+0200
TZOFFSETTO:+0100
TZNAME:CET
DTSTART:20201025T010000
END:STANDARD
BEGIN:DAYLIGHT
TZOFFSETFROM:+0100
TZOFFSETTO:+0200
TZNAME:CEST
DTSTART:20210328T010000
END:DAYLIGHT
BEGIN:STANDARD
TZOFFSETFROM:+0200
TZOFFSETTO:+0100
TZNAME:CET
DTSTART:20211031T010000
END:STANDARD
BEGIN:DAYLIGHT
TZOFFSETFROM:+0100
TZOFFSETTO:+0200
TZNAME:CEST
DTSTART:20220327T010000
END:DAYLIGHT
BEGIN:STANDARD
TZOFFSETFROM:+0200
TZOFFSETTO:+0100
TZNAME:CET
DTSTART:20221030T010000
END:STANDARD
END:VTIMEZONE
BEGIN:VEVENT
DTSTART;TZID=Europe/Rome:20210505T180000
DTEND;TZID=Europe/Rome:20210505T235900
DTSTAMP:20260419T201543
CREATED:20210428T104619Z
LAST-MODIFIED:20210428T104619Z
UID:10000943-1620237600-1620259140@www.sissco.it
SUMMARY:L’identità europea e lo sport
DESCRIPTION:Da sempre lo sport rappresenta “un veicolo per la costruzione e la definizione delle identità individuali o di gruppo\, sia per chi lo pratica\, sia per chi vi partecipa come tifoso” e costituisce infatti uno dei principali elementi identitari delle nazioni o delle realtà locali\, spesso utilizzato dalle élite dominanti nei processi di nation building e di rafforzamento dell’identità nazionale. L’Unione europea\, pur tentando di rafforzare l’identità europea attraverso molti strumenti (ad esempio il programma erasmus)\, non ha mai utilizzato lo sport a questo scopo. Non esistono infatti squadre sportive europee\, con l’eccezione del golf. e soltanto a partire dal 2007 esiste\, all’interno del programma erasmus +\, un’azione specifica dedicata allo sport.\nRelatori:\nFulvio Cammarano\, Università di Bologna\nLuciano Di Fonzo\, Capo del settore Sport\, Commissione europea – Education\, Audiovisual and Culture Executive Agency (EACEA)\nGiuliana Laschi\, Università di Bologna\nNicola Sbetti\, Università di Bologna
URL:https://www.sissco.it/calendario/lidentita-europea-e-lo-sport/
LOCATION:online su Facebook (https://www.facebook.com/PuntoEuropaForli/)\, YouTube (https://www.youtube.com/user/EDForli) e Twitter (https://twitter.com/PuntoEuropa)\, Via della Torre 1\, Forlì\, 47121\, Italia
CATEGORIES:Seminario
ORGANIZER;CN="Giuliana Laschi":MAILTO:giuliana.laschi@unibo.it
END:VEVENT
END:VCALENDAR