BEGIN:VCALENDAR
VERSION:2.0
PRODID:-//SISSCO - ECPv6.15.20//NONSGML v1.0//EN
CALSCALE:GREGORIAN
METHOD:PUBLISH
X-ORIGINAL-URL:https://www.sissco.it
X-WR-CALDESC:Eventi per SISSCO
REFRESH-INTERVAL;VALUE=DURATION:PT1H
X-Robots-Tag:noindex
X-PUBLISHED-TTL:PT1H
BEGIN:VTIMEZONE
TZID:Europe/Rome
BEGIN:DAYLIGHT
TZOFFSETFROM:+0100
TZOFFSETTO:+0200
TZNAME:CEST
DTSTART:20200329T010000
END:DAYLIGHT
BEGIN:STANDARD
TZOFFSETFROM:+0200
TZOFFSETTO:+0100
TZNAME:CET
DTSTART:20201025T010000
END:STANDARD
BEGIN:DAYLIGHT
TZOFFSETFROM:+0100
TZOFFSETTO:+0200
TZNAME:CEST
DTSTART:20210328T010000
END:DAYLIGHT
BEGIN:STANDARD
TZOFFSETFROM:+0200
TZOFFSETTO:+0100
TZNAME:CET
DTSTART:20211031T010000
END:STANDARD
BEGIN:DAYLIGHT
TZOFFSETFROM:+0100
TZOFFSETTO:+0200
TZNAME:CEST
DTSTART:20220327T010000
END:DAYLIGHT
BEGIN:STANDARD
TZOFFSETFROM:+0200
TZOFFSETTO:+0100
TZNAME:CET
DTSTART:20221030T010000
END:STANDARD
END:VTIMEZONE
BEGIN:VEVENT
DTSTART;VALUE=DATE:20210330
DTEND;VALUE=DATE:20210331
DTSTAMP:20260419T152403
CREATED:20210321T220254Z
LAST-MODIFIED:20210321T220254Z
UID:10000912-1617062400-1617148799@www.sissco.it
SUMMARY:La memoria\, i traumi\, la storia. La guerra e le catastrofi nel Novecento
DESCRIPTION:Presentazione del libro di Gabriella Gribaudi\, La memoria\, i traumi\, la storia. La guerra e le catastrofi nel Novecento\, Viella\, Roma 2020.Ne discutono con l\’autrice: David Bidussa (Fondazione Giangiacomo Feltrinelli) e Francesca Socrate (Università di Roma Sapienza).Coordina Carolina Castellano (Università di Napoli Federico II).Intervengono: Annalisa Cegna (Istituto storico Macerata); Elisabetta Bini (Università di Napoli Federico II); Massimo Cattaneo (Università di Napoli Federico II); Domenico Cecere (Università di Napoli Federico II).\nL’incontro si terrà martedì 30 marzo alle 16.00 sulla piattaforma Zoom:\nhttps://zoom.us/j/93476323917?pwd=ZnRDUkRQL21temV0VUtBRlBrVEJCUT09 \nID riunione: 934 7632 3917\nPasscode: L9UzF1 \n 
URL:https://www.sissco.it/calendario/la-memoria-i-traumi-la-storia-la-guerra-e-le-catastrofi-nel-novecento/
LOCATION:online su piattaforma Zoom\, Italia
CATEGORIES:Presentazione di libro/i
END:VEVENT
BEGIN:VEVENT
DTSTART;TZID=Europe/Rome:20210209T160000
DTEND;TZID=Europe/Rome:20210209T235900
DTSTAMP:20260419T152403
CREATED:20210205T112025Z
LAST-MODIFIED:20210205T112025Z
UID:10002145-1612886400-1612915140@www.sissco.it
SUMMARY:Fra servitù e servizio
DESCRIPTION:Martedì 09 febbraio 2021\, ore 16.Presentazione\, nell\’ambito del ciclo di incontri \”Libri di Storia\”\, del volume di Marco Rovinello\, Fra servitù e servizio. Storia della leva in Italia dall\’Unità alla Grande guerra\, Roma\, Viella\, 2020. \nNe discutono:\nLivio Antonielli (Università di Milano)\nMarco Meriggi (Università di Napoli Federico II) \ncoordina:\nDaniela Luigia Caglioti (Università di Napoli Federico II) \nL’incontro si terrà in remoto sulla piattaforma Zoom:\nhttps://zoom.us/j/93960340704?pwd=UjAycnNuNFFpNjFxWUtHL3JhNlVvUT09\nID riunione: 939 6034 0704\nPasscode: 6ZtiYx
URL:https://www.sissco.it/calendario/fra-servitu-e-servizio/
LOCATION:online su piattaforma Zoom\, Italia
CATEGORIES:Presentazione di libro/i
END:VEVENT
END:VCALENDAR