BEGIN:VCALENDAR
VERSION:2.0
PRODID:-//SISSCO - ECPv6.15.20//NONSGML v1.0//EN
CALSCALE:GREGORIAN
METHOD:PUBLISH
X-ORIGINAL-URL:https://www.sissco.it
X-WR-CALDESC:Eventi per SISSCO
REFRESH-INTERVAL;VALUE=DURATION:PT1H
X-Robots-Tag:noindex
X-PUBLISHED-TTL:PT1H
BEGIN:VTIMEZONE
TZID:Europe/Rome
BEGIN:DAYLIGHT
TZOFFSETFROM:+0100
TZOFFSETTO:+0200
TZNAME:CEST
DTSTART:20190331T010000
END:DAYLIGHT
BEGIN:STANDARD
TZOFFSETFROM:+0200
TZOFFSETTO:+0100
TZNAME:CET
DTSTART:20191027T010000
END:STANDARD
BEGIN:DAYLIGHT
TZOFFSETFROM:+0100
TZOFFSETTO:+0200
TZNAME:CEST
DTSTART:20200329T010000
END:DAYLIGHT
BEGIN:STANDARD
TZOFFSETFROM:+0200
TZOFFSETTO:+0100
TZNAME:CET
DTSTART:20201025T010000
END:STANDARD
BEGIN:DAYLIGHT
TZOFFSETFROM:+0100
TZOFFSETTO:+0200
TZNAME:CEST
DTSTART:20210328T010000
END:DAYLIGHT
BEGIN:STANDARD
TZOFFSETFROM:+0200
TZOFFSETTO:+0100
TZNAME:CET
DTSTART:20211031T010000
END:STANDARD
BEGIN:DAYLIGHT
TZOFFSETFROM:+0100
TZOFFSETTO:+0200
TZNAME:CEST
DTSTART:20220327T010000
END:DAYLIGHT
BEGIN:STANDARD
TZOFFSETFROM:+0200
TZOFFSETTO:+0100
TZNAME:CET
DTSTART:20221030T010000
END:STANDARD
BEGIN:DAYLIGHT
TZOFFSETFROM:+0100
TZOFFSETTO:+0200
TZNAME:CEST
DTSTART:20230326T010000
END:DAYLIGHT
BEGIN:STANDARD
TZOFFSETFROM:+0200
TZOFFSETTO:+0100
TZNAME:CET
DTSTART:20231029T010000
END:STANDARD
BEGIN:DAYLIGHT
TZOFFSETFROM:+0100
TZOFFSETTO:+0200
TZNAME:CEST
DTSTART:20240331T010000
END:DAYLIGHT
BEGIN:STANDARD
TZOFFSETFROM:+0200
TZOFFSETTO:+0100
TZNAME:CET
DTSTART:20241027T010000
END:STANDARD
BEGIN:DAYLIGHT
TZOFFSETFROM:+0100
TZOFFSETTO:+0200
TZNAME:CEST
DTSTART:20250330T010000
END:DAYLIGHT
BEGIN:STANDARD
TZOFFSETFROM:+0200
TZOFFSETTO:+0100
TZNAME:CET
DTSTART:20251026T010000
END:STANDARD
END:VTIMEZONE
BEGIN:VEVENT
DTSTART;TZID=Europe/Rome:20240227T183000
DTEND;TZID=Europe/Rome:20240227T200000
DTSTAMP:20260423T233918
CREATED:20240208T195945Z
LAST-MODIFIED:20240208T195945Z
UID:10002724-1709058600-1709064000@www.sissco.it
SUMMARY:Maurizio Isabella (QMUL)\, "The Age of Revolutions in Southern Europe"\, in conversation with Sujit Sivasundaram and Renaud Morieux
DESCRIPTION:Martedì 27 febbraio\, ore 18:30 (5.30 pm GMT) Seminario della Humanities Society del Wolfson College\, Università di Cambridge\nProfessor Maurizio Isabella (Queen Mary\, University of London)\, ‘The Age of Revolutions in Southern Europe’\nRespondents: professor Sujit Sivasundaram (Gonville and Caius College\, Cambridge) and professor Renaud Morieux (Pembroke College\, Cambridge)\nChair: Bianca Gaudenzi (Libera Università di Bolzano; Wolfson College\, Cambridge; Istituto Storico Germanico di Roma) \nPer partecipare su zoom si prega di registrarsi al seguente link: https://wolfson-cam-ac-uk.zoom.us/meeting/register/tJwocuuhqjgsGdQSF_hSP3ilMbk476MsSEpV#/registration \nAbstract: This talk addresses the question of what revolutions were by looking at the way in which they were conceived\, understood and performed by historical actors in the early 19th century. It does so by discussing a wave of uprisings demanding the introduction of constitutions that broke out in Portugal\, Spain\, Piedmont\, Naples and the Ottoman Empire in the 1820s. In particular\, it looks at the military origins of these events\, all organized by army officers\, and the ideals and practices related to them. By so doing\, this talk will point to an alternative chronology and geography of the European age of revolutions that questions existing historical narratives\, based on 1789\, 1830 and 1848\, and centered around France. It shows that the events of the 1820s inaugurated a wave of revolutions in Southern Europe that was independent from its French counterpart and that lasted up to 1870\, thereby highlighting their significance in the history of representative governments and popular politics in Europe.
URL:https://www.sissco.it/calendario/maurizio-isabella-qmul-the-age-of-revolutions-in-southern-europe-in-conversation-with-sujit-sivasundaram-and-renaud-morieux/
LOCATION:Wolfson College\, University of Cambridge\, Barton road\, Cambridge\, Regno Unito
CATEGORIES:Seminario
ATTACH;FMTTYPE=image/png:https://www.sissco.it/wp-content/uploads/2024/02/Screenshot-2024-02-08-at-19.50.22.png
ORGANIZER;CN="Bianca Gaudenzi":MAILTO:bg265@cam.ac.uk
END:VEVENT
BEGIN:VEVENT
DTSTART;TZID=Europe/Rome:20240223T180000
DTEND;TZID=Europe/Rome:20240223T200000
DTSTAMP:20260423T233918
CREATED:20240206T213609Z
LAST-MODIFIED:20240215T165230Z
UID:10002722-1708711200-1708718400@www.sissco.it
SUMMARY:The Ascaro. An Eritrean Story of Italian Colonialism
DESCRIPTION:The Italian and Mediterranean Colloquia  \nUoldelul Chelati Dirar (University of Macerata) in conversation with Nicola Camilleri (Italian Acdemy\, Columbia University) on the occasion of his translation into Italian of Ghebreyesus Hailu\, ‘L’Ascaro’ moderated by Konstantina Zanou (Columbia University)  \nSponsored by the Italian Department\, the Italian Academy\, and the European Institute\, Columbia University
URL:https://www.sissco.it/calendario/the-ascaro-an-eritrean-story-of-italian-colonialism/
LOCATION:Online
CATEGORIES:Seminario
END:VEVENT
BEGIN:VEVENT
DTSTART;TZID=Europe/Rome:20231009T160000
DTEND;TZID=Europe/Rome:20231009T180000
DTSTAMP:20260423T233918
CREATED:20231002T072723Z
LAST-MODIFIED:20231002T095451Z
UID:10002604-1696867200-1696874400@www.sissco.it
SUMMARY:International Webinar – ImagInAction: imagining communities\, nations and politics in Europe 1918-1933. Part One: About Cultural and Spatial Maps
DESCRIPTION:Primo seminario del Network internazionale “ImagInAction”\, che si occupa dei nessi tra estetica e politica nell’Europa del primo dopoguerra\, con particolare attenzione ai processi di dissoluzione dei grandi imperi e di nation-building nelle regioni dell’Europa centro-orientale. In questa occasione\, il focus sarà sugli ‘spazi’ geografici e culturali\, attraverso due keynote lectures e tre interventi più specifici sulle culture paramilitari\, sulle avanguardie artistiche nell’Ucraina sovietica e sul caso di Fiume.\nL’evento\, organizzto congiuntamente da KU Leuven e Università di Roma Tre\, si svolgerà online. Le interessate e gli interessati possono scrivere per ottenere il link del collegamento a enrico.serventionghi@uniroma3. it
URL:https://www.sissco.it/calendario/international-webinar-imaginaction-imagining-communities-nations-and-politics-in-europe-1918-1933-part-one-about-cultural-and-spatial-maps/
LOCATION:Online
CATEGORIES:Seminario
ATTACH;FMTTYPE=image/jpeg:https://www.sissco.it/wp-content/uploads/2023/10/Poster-Seminar-ImagInAction-One_page-0001.jpg
ORGANIZER;CN="Enrico Serventi Longhi":MAILTO:enrico.serventilonghi@uniroma3.it
END:VEVENT
BEGIN:VEVENT
DTSTART;TZID=Europe/Rome:20210628T163000
DTEND;TZID=Europe/Rome:20210628T170000
DTSTAMP:20260423T233918
CREATED:20210626T054345Z
LAST-MODIFIED:20210626T054345Z
UID:10002230-1624897800-1624899600@www.sissco.it
SUMMARY:Atlantics - Postcolonial concepts and contexts
DESCRIPTION:
URL:https://www.sissco.it/calendario/atlantics-postcolonial-concepts-and-contexts/
LOCATION:Online
CATEGORIES:Seminario
END:VEVENT
BEGIN:VEVENT
DTSTART;TZID=Europe/Rome:20210510T170000
DTEND;TZID=Europe/Rome:20210510T170000
DTSTAMP:20260423T233918
CREATED:20210507T155904Z
LAST-MODIFIED:20210508T074749Z
UID:10000957-1620666000-1620666000@www.sissco.it
SUMMARY:Una leggenda dimenticata sulla nascita del capitalismo: ebrei\, finanza e la 'mano invisibile'
DESCRIPTION:Francesca Trivellato (Institute for Advanced Study\, Princeton)\, Una leggenda dimenticata sulla nascita del capitalismo: ebrei\, finanza e la ‘mano invisibile’\n\nSecondo appuntamento dei “Lunedì della Storia Culturale” organizzati da Elena Bacchin (Università Ca’ Foscari Venezia – Columbia University) e Ignazio Veca (Università di Pisa) con il patrocinio del Centro Interuniverisitario di Storia Culturale\nCoordina: Ignazio Veca\n\n\nLink Zoom: https://unive.zoom.us/j/85295611680\nID riunione: 852 9561 1680\nPasscode: vrW8qg
URL:https://www.sissco.it/calendario/una-leggenda-dimenticata-sulla-nascita-del-capitalismo-ebrei-finanza-e-la-mano-invisibile/
LOCATION:Online
CATEGORIES:Seminario
ORGANIZER;CN="Elena Bacchin":MAILTO:elena.bacchin@unive.it
END:VEVENT
BEGIN:VEVENT
DTSTART;TZID=Europe/Rome:20200604T110000
DTEND;TZID=Europe/Rome:20200604T170000
DTSTAMP:20260423T233918
CREATED:20200522T091159Z
LAST-MODIFIED:20200522T091159Z
UID:10002106-1591268400-1591290000@www.sissco.it
SUMMARY:Mobility studies: presentazione di un nuovo curriculum in Scienze Storiche
DESCRIPTION:L’incontro\, che avrà luogo telematicamente il 4 giugno 2020 alle ore 11\, sarà dedicato alla presentazione del nuovo curriculum in Scienze Storiche del Dipartimento di Scienze Storiche\, Geografiche e dell’Antichità dell’Università di Padova. Per quanto pensato in particolar modo per i possibili futuri studenti\, l’incontro è aperto a chiunque sia interessato in questo nuovo percorso interdisciplinare dedicato alla mobilità di persone\, oggetti\, idee e testi nella storia. \nL’iscrizione è obbligatoria e può essere effettuata questo link:  \n https://unipd.zoom.us/meeting/register/tJMsdu-uqDgvH9FaMgDaS1t2mvjBAgZfEIwE\nMaggiori informazioni sul curriculum e sul Centro d’Eccellenza Mobility & Humanities che lo ha reso possibile possono essere reperite all’indirizzo: \nCURRICULUM MOBILITY STUDIES\n 
URL:https://www.sissco.it/calendario/mobility-studies-presentazione-di-un-nuovo-curriculum-in-scienze-storiche/
LOCATION:Online
CATEGORIES:Altro
ORGANIZER;CN="Centro d'Eccellenza Mobility & Humanties (MOHU)":MAILTO:mobilab.dissgea@unipd.it
END:VEVENT
BEGIN:VEVENT
DTSTART;TZID=Europe/Rome:20200527T150000
DTEND;TZID=Europe/Rome:20200527T170000
DTSTAMP:20260423T233923
CREATED:20200522T151935Z
LAST-MODIFIED:20200523T074556Z
UID:10002107-1590591600-1590598800@www.sissco.it
SUMMARY:Between mobile privatization and privatized mobility. Looking at mobile media in historical perspective
DESCRIPTION:  \nSeminario telematico di Gabriele Balbi (USI Università della Svizzera italiana) e Paolo Magaudda (Università di Padova) \nSeminario organizzato nell’ambito del ciclo Mobility&Humanities Seminar Series – Nodo “Teorie e Metodi” \n Zoom meeting registration (prenotazione obbligatoria)
URL:https://www.sissco.it/calendario/between-mobile-privatization-and-privatized-mobility-looking-at-mobile-media-in-historical-perspective/
LOCATION:Online
CATEGORIES:Seminario
ORGANIZER;CN="Centro d'Eccellenza Mobility & Humanties (MOHU)":MAILTO:mobilab.dissgea@unipd.it
END:VEVENT
END:VCALENDAR