BEGIN:VCALENDAR
VERSION:2.0
PRODID:-//SISSCO - ECPv6.15.20//NONSGML v1.0//EN
CALSCALE:GREGORIAN
METHOD:PUBLISH
X-ORIGINAL-URL:https://www.sissco.it
X-WR-CALDESC:Eventi per SISSCO
REFRESH-INTERVAL;VALUE=DURATION:PT1H
X-Robots-Tag:noindex
X-PUBLISHED-TTL:PT1H
BEGIN:VTIMEZONE
TZID:Europe/Rome
BEGIN:DAYLIGHT
TZOFFSETFROM:+0100
TZOFFSETTO:+0200
TZNAME:CEST
DTSTART:20190331T010000
END:DAYLIGHT
BEGIN:STANDARD
TZOFFSETFROM:+0200
TZOFFSETTO:+0100
TZNAME:CET
DTSTART:20191027T010000
END:STANDARD
BEGIN:DAYLIGHT
TZOFFSETFROM:+0100
TZOFFSETTO:+0200
TZNAME:CEST
DTSTART:20200329T010000
END:DAYLIGHT
BEGIN:STANDARD
TZOFFSETFROM:+0200
TZOFFSETTO:+0100
TZNAME:CET
DTSTART:20201025T010000
END:STANDARD
BEGIN:DAYLIGHT
TZOFFSETFROM:+0100
TZOFFSETTO:+0200
TZNAME:CEST
DTSTART:20210328T010000
END:DAYLIGHT
BEGIN:STANDARD
TZOFFSETFROM:+0200
TZOFFSETTO:+0100
TZNAME:CET
DTSTART:20211031T010000
END:STANDARD
BEGIN:DAYLIGHT
TZOFFSETFROM:+0100
TZOFFSETTO:+0200
TZNAME:CEST
DTSTART:20220327T010000
END:DAYLIGHT
BEGIN:STANDARD
TZOFFSETFROM:+0200
TZOFFSETTO:+0100
TZNAME:CET
DTSTART:20221030T010000
END:STANDARD
END:VTIMEZONE
BEGIN:VEVENT
DTSTART;TZID=Europe/Rome:20211030T093000
DTEND;TZID=Europe/Rome:20211030T123000
DTSTAMP:20260424T001906
CREATED:20211024T100706Z
LAST-MODIFIED:20211024T100706Z
UID:10000999-1635586200-1635597000@www.sissco.it
SUMMARY:wiki800unipd: La storia dell'Università di Padova su Wikipedia
DESCRIPTION:
URL:https://www.sissco.it/calendario/wiki800unipd-la-storia-delluniversita-di-padova-su-wikipedia/
LOCATION:Palazzo Wollemborg\, Via del Santo 26\, Padova
CATEGORIES:Workshop
ORGANIZER;CN="MobiLab":MAILTO:mobilab.dissgea@unipd.it
END:VEVENT
BEGIN:VEVENT
DTSTART;TZID=Europe/Rome:20200108T083000
DTEND;TZID=Europe/Rome:20200108T170000
DTSTAMP:20260424T001906
CREATED:20200103T135927Z
LAST-MODIFIED:20200103T140005Z
UID:10000835-1578472200-1578502800@www.sissco.it
SUMMARY:Dalla storia dei trasporti al Mobility Turn
DESCRIPTION:Mercoledì 8 gennaio 2020 alle ore 08.30 presso l’Aula A\, Palazzo Wollemborg. Via del Santo\, 26\, nell’ambito dell’insegnamento di Storia del Novecento del prof. Giovanni Focardi\, Federico Paolini (Università della Campania Luigi Vanvitelli) terrà un seminario dal titolo “Dalla storia dei trasporti al Mobility Turn. Evoluzione storiografica o una nuova teoria politica?”
URL:https://www.sissco.it/calendario/dalla-storia-dei-trasporti-al-mobility-turn-evoluzione-storiografica-o-una-nuova-teoria-politica/
LOCATION:Palazzo Wollemborg\, Via del Santo 26\, Padova
CATEGORIES:Seminario
END:VEVENT
END:VCALENDAR