BEGIN:VCALENDAR
VERSION:2.0
PRODID:-//SISSCO - ECPv6.15.20//NONSGML v1.0//EN
CALSCALE:GREGORIAN
METHOD:PUBLISH
X-WR-CALNAME:SISSCO
X-ORIGINAL-URL:https://www.sissco.it
X-WR-CALDESC:Eventi per SISSCO
REFRESH-INTERVAL;VALUE=DURATION:PT1H
X-Robots-Tag:noindex
X-PUBLISHED-TTL:PT1H
BEGIN:VTIMEZONE
TZID:Europe/Rome
BEGIN:DAYLIGHT
TZOFFSETFROM:+0100
TZOFFSETTO:+0200
TZNAME:CEST
DTSTART:20200329T010000
END:DAYLIGHT
BEGIN:STANDARD
TZOFFSETFROM:+0200
TZOFFSETTO:+0100
TZNAME:CET
DTSTART:20201025T010000
END:STANDARD
BEGIN:DAYLIGHT
TZOFFSETFROM:+0100
TZOFFSETTO:+0200
TZNAME:CEST
DTSTART:20210328T010000
END:DAYLIGHT
BEGIN:STANDARD
TZOFFSETFROM:+0200
TZOFFSETTO:+0100
TZNAME:CET
DTSTART:20211031T010000
END:STANDARD
BEGIN:DAYLIGHT
TZOFFSETFROM:+0100
TZOFFSETTO:+0200
TZNAME:CEST
DTSTART:20220327T010000
END:DAYLIGHT
BEGIN:STANDARD
TZOFFSETFROM:+0200
TZOFFSETTO:+0100
TZNAME:CET
DTSTART:20221030T010000
END:STANDARD
BEGIN:DAYLIGHT
TZOFFSETFROM:+0100
TZOFFSETTO:+0200
TZNAME:CEST
DTSTART:20230326T010000
END:DAYLIGHT
BEGIN:STANDARD
TZOFFSETFROM:+0200
TZOFFSETTO:+0100
TZNAME:CET
DTSTART:20231029T010000
END:STANDARD
BEGIN:DAYLIGHT
TZOFFSETFROM:+0100
TZOFFSETTO:+0200
TZNAME:CEST
DTSTART:20240331T010000
END:DAYLIGHT
BEGIN:STANDARD
TZOFFSETFROM:+0200
TZOFFSETTO:+0100
TZNAME:CET
DTSTART:20241027T010000
END:STANDARD
END:VTIMEZONE
BEGIN:VEVENT
DTSTART;TZID=Europe/Rome:20230920T160000
DTEND;TZID=Europe/Rome:20230920T190000
DTSTAMP:20260424T030504
CREATED:20230914T101058Z
LAST-MODIFIED:20230914T101058Z
UID:10002580-1695225600-1695236400@www.sissco.it
SUMMARY:Emilio Sereni
DESCRIPTION:Nell’ambito del progetto della Giunta Centrale per gli Studi Storici\, “Storici e storiche nell’Italia unita: le autobiografie”\, mercoledì  20 settembre alle ore 16.00\, si terrà a Roma\, presso la Biblioteca di Storia moderna e contemporanea la conferenza di Margherita Losacco dedicata a Emilio Sereni. \nL’incontro sarà trasmesso sulla pagina fb della Giunta centrale per gli studi storici e su quella della Biblioteca di storia moderna e contemporanea.
URL:https://www.sissco.it/calendario/emilio-sereni/
LOCATION:Roma\, Online\, Roma\, 00186\, Italia
CATEGORIES:Seminario
ATTACH;FMTTYPE=image/jpeg:https://www.sissco.it/wp-content/uploads/2023/09/losacco_sereni.jpg
END:VEVENT
BEGIN:VEVENT
DTSTART;TZID=Europe/Rome:20230624T183000
DTEND;TZID=Europe/Rome:20230624T203000
DTSTAMP:20260424T030504
CREATED:20230613T055747Z
LAST-MODIFIED:20230613T055747Z
UID:10002559-1687631400-1687638600@www.sissco.it
SUMMARY:Teoria in viaggio. bell hooks e noi
DESCRIPTION:Sabato 24 giugno alle 18.30\, a Roma\, presso la Libreria GRIOT\, presentazione di “Teoria in viaggio. bell hooks e noi”\, forum pubblicato sul n. 2/2022 di «Genesis. Rivista della Società Italiana delle Storiche»\, curato da Elisabetta Serafini.\nLa curatrice ne discute con Angelica Pesarini\, Sara Rossetti\, Rahma Nur\, Renata Pepicelli\, Lea Melandri e Livia Apa. \nL’idea di dedicare un forum di «Genesis»  a bell hooks si colloca in un periodo di felice rinascita dell’interesse verso le sue teorie nel contesto italiano\, a vent’anni di distanza dalle prime traduzioni dei suoi saggi. Il forum vuole essere un ulteriore contributo all’attivazione e alla diffusione del pensiero di bell hooks\, concepito come strumento di liberazione da ogni forma di oppressione e come guida alla realizzazione di una pedagogia trasformativa attraverso il femminismo.\nA raccontare le corrispondenze\, le declinazioni e le traiettorie di questo innesto ideale sono state invitate sei persone che attraversano\, osservano e vivono in differenti posizioni la società\, i luoghi della formazione e i percorsi di costruzione del sapere: Lea Melandri\, Livia Apa\, Renata Pepicelli\, Angelica Pesarini\, Sara Rossetti e Rahma Nur.
URL:https://www.sissco.it/calendario/teoria-in-viaggio-bell-hooks-e-noi-2/
LOCATION:Roma\, Online\, Roma\, 00186\, Italia
CATEGORIES:Presentazione di libro/i
ATTACH;FMTTYPE=image/jpeg:https://www.sissco.it/wp-content/uploads/2023/06/Bell_hooks_roma_griot.jpg
END:VEVENT
BEGIN:VEVENT
DTSTART;TZID=Europe/Rome:20230620T170000
DTEND;TZID=Europe/Rome:20230620T190000
DTSTAMP:20260424T030504
CREATED:20230612T114708Z
LAST-MODIFIED:20230612T114907Z
UID:10002558-1687280400-1687287600@www.sissco.it
SUMMARY:I Garibaldi dopo Garibaldi. La terza generazione e le sfide del Novecento
DESCRIPTION:Martedì 20 giugno 2023\, ore 17.00\, presso la sede e sul canale Facebook della Biblioteca di storia moderna e contemporanea\, sarà presentato il volume\nI Garibaldi dopo Garibaldi. La terza generazione e le sfide del Novecento\, a cura di Zeffiro Ciuffoletti\, Annita Garibaldi Jallet\, Alberto Malfitano (Le Lettere\, 2022).\nSaluti: Patrizia Rusciani. Introduce e modera: Elena Papadia. Intervengono: Enrico Acciai\, Lorenzo Benadusi. \nIl volume affronta con precisione\, equilibrio e senza timori reverenziali nodi assai delicati. I saggi si concentrano sulla terza generazione\, quella dei nipoti di Giuseppe e Anita rispetto alle cui vicende è però impossibile prescindere dalle scelte del padre Ricciotti e dalla lettura che egli diede della tradizione garibaldina con tutte le ricadute pubbliche e private che ne conseguirono. E in effetti\, superando vuote rappresentazioni eroicizzanti (e in fondo disumanizzanti)\, la dimensione privata e familiare entra a pieno diritto nelle pagine che seguono\, non quale nota di colore o dettaglio aneddotico\, ma come una delle chiavi di lettura di scelte politiche e come sostanza profonda\, insopprimibile\, nei percorsi di chiunque si sia trovato a vivere esposto alla bufera delle tragedie e delle lotte del Novecento italiano\, europeo\, globale.
URL:https://www.sissco.it/calendario/southern-europe-in-the-age-of-revolutions-2/
LOCATION:Roma\, Online\, Roma\, 00186\, Italia
CATEGORIES:Presentazione di libro/i
ATTACH;FMTTYPE=image/jpeg:https://www.sissco.it/wp-content/uploads/2023/06/Locandina_giugno_Garibaldini.jpg
ORGANIZER;CN="Biblioteca di storia moderna e contemporanea":MAILTO:b-stmo.info@beniculturali.it
END:VEVENT
BEGIN:VEVENT
DTSTART;TZID=Europe/Rome:20210503T163000
DTEND;TZID=Europe/Rome:20210503T235900
DTSTAMP:20260424T030504
CREATED:20210428T204603Z
LAST-MODIFIED:20210506T173320Z
UID:10000945-1620059400-1620086340@www.sissco.it
SUMMARY:Il mestiere di prostituta a Roma durante il fascismo
DESCRIPTION:Per il ciclo “La città delle donne: mestieri e professioni” organizzato dalla Società italiana delle storiche nell’ambito del programma formativo della Sovrintendenza capitolina ai beni culturali “Educare alle mostre\, educare alla città”\, lunedì 3 maggio p.v. alle 16.30 si terrà l’incontro online «Il mestiere di prostituta a Roma durante il fascismo»\, a cura di Laura Schettini.\n______________________________________________\nCom’era regolato in mestiere di prostituta nella Roma degli anni Venti? Cosa sappiamo delle prostitute che vivevano nelle case chiuse? Di quali misure erano fatte oggetto? L’incontro prosegue nel disegno ideale di una mappa di Roma “città delle donne”\,  mettendo a fuoco gli scenari della prostituzione romana negli anni Venti del Novecento\, a partire dallo studio delle carte di polizia. Particolare attenzione sarà dedicata alle condizioni e all’organizzazione del lavoro delle meretrici nel circuito delle case di tolleranza. Il decennio preso in esame è un momento di transizione\, che permette di indagare il modo peculiare con il quale il fascismo è intervenuto in materia di prostituzione e allo stesso tempo di analizzare eventuali continuità con gli anni precedenti. \nLaura Schettini è ricercatrice in storia contemporanea e docente di Storia delle donne e di genere presso l’Università di Padova. Tra le sue recenti pubblicazioni: Turpi traffici. Prostituzione e migrazioni globali\, 1890-1940 (Roma\, Biblink\, 2019) che ha vinto il Premio Gisa Giani 2020-21; la sua prima monografia\, lI gioco delle parti\, Travestimenti e paure sociali tra Otto e Novecento (Firenze\, Le Monnier\, 2011)\, ha vinto il Premio SISSCO 2012. \nInformazioni:\nIncontro gratuito con prenotazione obbligatoria allo 060608 (tutti i giorni ore 9.00 – 19.00).\nL’incontro si svolge su piattaforma Google Suite. Si suggerisce di entrare con il browser Chrome.\nA conferma della prenotazione viene inviata una mail con il link di accesso. Se si desidera ricevere l’attestazione ai fini dei crediti formativi è necessario entrare alla conferenza presentandosi con il proprio nome e cognome completo. Alla conclusione dell’appuntamento deve essere inviata una mail di richiesta\, completa dei propri dati anagrafici e del corso di studi intrapreso\, al seguente indirizzo: info_didatticasovraintendenza@comune.roma.it. Durante l’incontro è richiesto di tenere la telecamera accesa. \nÈ previsto il rilascio di un attestato di partecipazione valido per la fomazione e l’aggiornamento docenti.
URL:https://www.sissco.it/calendario/il-mestiere-di-prostituta-a-roma-durante-il-fascismo/
LOCATION:Roma\, Online\, Roma\, 00186\, Italia
CATEGORIES:Seminario
ORGANIZER;CN="":MAILTO:info_didatticasovraintendenza@comune.roma.it.
END:VEVENT
END:VCALENDAR