BEGIN:VCALENDAR
VERSION:2.0
PRODID:-//SISSCO - ECPv6.15.20//NONSGML v1.0//EN
CALSCALE:GREGORIAN
METHOD:PUBLISH
X-ORIGINAL-URL:https://www.sissco.it
X-WR-CALDESC:Eventi per SISSCO
REFRESH-INTERVAL;VALUE=DURATION:PT1H
X-Robots-Tag:noindex
X-PUBLISHED-TTL:PT1H
BEGIN:VTIMEZONE
TZID:Europe/Rome
BEGIN:DAYLIGHT
TZOFFSETFROM:+0100
TZOFFSETTO:+0200
TZNAME:CEST
DTSTART:20170326T010000
END:DAYLIGHT
BEGIN:STANDARD
TZOFFSETFROM:+0200
TZOFFSETTO:+0100
TZNAME:CET
DTSTART:20171029T010000
END:STANDARD
BEGIN:DAYLIGHT
TZOFFSETFROM:+0100
TZOFFSETTO:+0200
TZNAME:CEST
DTSTART:20180325T010000
END:DAYLIGHT
BEGIN:STANDARD
TZOFFSETFROM:+0200
TZOFFSETTO:+0100
TZNAME:CET
DTSTART:20181028T010000
END:STANDARD
BEGIN:DAYLIGHT
TZOFFSETFROM:+0100
TZOFFSETTO:+0200
TZNAME:CEST
DTSTART:20190331T010000
END:DAYLIGHT
BEGIN:STANDARD
TZOFFSETFROM:+0200
TZOFFSETTO:+0100
TZNAME:CET
DTSTART:20191027T010000
END:STANDARD
END:VTIMEZONE
BEGIN:VEVENT
DTSTART;TZID=Europe/Rome:20181030T153000
DTEND;TZID=Europe/Rome:20181030T235900
DTSTAMP:20260421T145002
CREATED:20181018T141052Z
LAST-MODIFIED:20181021T101757Z
UID:10001860-1540913400-1540943940@www.sissco.it
SUMMARY:Storia/storie. Una riflessione a 80 anni dalle Leggi Razziali
DESCRIPTION:Programma: \nSaluti delle Autorità \nSaluti della Banca BCCC \nDaniele Menozzi (Scuola Normale Superiore\, Pisa)\, Da nemici a fratelli: l’atteggiamento verso gli ebrei nella chiesa cattolica del Novecento \nMatteo Mazzoni (Direttore Istituto storico toscano della Resistenza e dell’età contemporanea)\, La “nuova” Italia fascista: gli ebrei e la legislazione razzista del Regime \nGiorgio Fabre (studioso di storia politica del Novecento) e Annalisa Capristo (Centro Studi Americani\, Roma)\, La cacciata degli ebrei dallo Stato italiano nei protocolli della Corte dei Conti (1938-1943) \nCatia Sonetti (Direttore ISTORECO Livorno)\, Gli effetti delle leggi razziali su una famiglia ebrea della piccola borghesia livornese \nCoordina Carla Roncaglia (Presidente ISTORECO Livorno)
URL:https://www.sissco.it/calendario/storia-storie-una-riflessione-a-80-anni-dalle-leggi-razziali/
LOCATION:Sala Conferenze BCCC\, Via Rossini\, 2\, Livorno\, Italia
CATEGORIES:Convegno
ORGANIZER;CN="Unnamed Organizer":MAILTO:istoreco.livorno@gmail.com
END:VEVENT
END:VCALENDAR