BEGIN:VCALENDAR
VERSION:2.0
PRODID:-//SISSCO - ECPv6.15.20//NONSGML v1.0//EN
CALSCALE:GREGORIAN
METHOD:PUBLISH
X-WR-CALNAME:SISSCO
X-ORIGINAL-URL:https://www.sissco.it
X-WR-CALDESC:Eventi per SISSCO
REFRESH-INTERVAL;VALUE=DURATION:PT1H
X-Robots-Tag:noindex
X-PUBLISHED-TTL:PT1H
BEGIN:VTIMEZONE
TZID:Europe/Rome
BEGIN:DAYLIGHT
TZOFFSETFROM:+0100
TZOFFSETTO:+0200
TZNAME:CEST
DTSTART:20210328T010000
END:DAYLIGHT
BEGIN:STANDARD
TZOFFSETFROM:+0200
TZOFFSETTO:+0100
TZNAME:CET
DTSTART:20211031T010000
END:STANDARD
BEGIN:DAYLIGHT
TZOFFSETFROM:+0100
TZOFFSETTO:+0200
TZNAME:CEST
DTSTART:20220327T010000
END:DAYLIGHT
BEGIN:STANDARD
TZOFFSETFROM:+0200
TZOFFSETTO:+0100
TZNAME:CET
DTSTART:20221030T010000
END:STANDARD
BEGIN:DAYLIGHT
TZOFFSETFROM:+0100
TZOFFSETTO:+0200
TZNAME:CEST
DTSTART:20230326T010000
END:DAYLIGHT
BEGIN:STANDARD
TZOFFSETFROM:+0200
TZOFFSETTO:+0100
TZNAME:CET
DTSTART:20231029T010000
END:STANDARD
END:VTIMEZONE
BEGIN:VEVENT
DTSTART;TZID=Europe/Rome:20220523T133000
DTEND;TZID=Europe/Rome:20220523T235900
DTSTAMP:20260420T163043
CREATED:20220516T063607Z
LAST-MODIFIED:20220516T063607Z
UID:10002336-1653312600-1653350340@www.sissco.it
SUMMARY:L'azienda Olivetti e la cultura. Tra responsabilità e creatività (1919-1992)
DESCRIPTION:Presentazione del volume “L’azienda Olivetti e la cultura. Tra responsabilità e creatività (1919-1992)” (Donzelli Editore)Con  Enrico Bandiera\, Paolo Griseri\, Dora Marucco e Anna Maria ViottoIn collaborazione con Associazione Archivio Storico OlivettiIl volume è il risultato di una ricerca sui periodici della biblioteca dell’Associazione Archivio Storico Olivetti. Lo studio è stato sostenuto dal Ministero della Cultura e dall’Associazione.
URL:https://www.sissco.it/calendario/lazienda-olivetti-e-la-cultura-tra-responsabilita-e-creativita-1919-1992/
LOCATION:Salone del Libro – Sala Arancio\, GALLERIA VISITATORI\, Via Nizza 294\, Torino\, 10100\, Italia
CATEGORIES:Presentazione di libro/i
ORGANIZER;CN="Associazione Archivio Storico Olivetti":MAILTO:segreteria@archiviostoricolivetti.it
END:VEVENT
END:VCALENDAR