BEGIN:VCALENDAR
VERSION:2.0
PRODID:-//SISSCO - ECPv6.15.20//NONSGML v1.0//EN
CALSCALE:GREGORIAN
METHOD:PUBLISH
X-WR-CALNAME:SISSCO
X-ORIGINAL-URL:https://www.sissco.it
X-WR-CALDESC:Eventi per SISSCO
REFRESH-INTERVAL;VALUE=DURATION:PT1H
X-Robots-Tag:noindex
X-PUBLISHED-TTL:PT1H
BEGIN:VTIMEZONE
TZID:Europe/Rome
BEGIN:DAYLIGHT
TZOFFSETFROM:+0100
TZOFFSETTO:+0200
TZNAME:CEST
DTSTART:20180325T010000
END:DAYLIGHT
BEGIN:STANDARD
TZOFFSETFROM:+0200
TZOFFSETTO:+0100
TZNAME:CET
DTSTART:20181028T010000
END:STANDARD
BEGIN:DAYLIGHT
TZOFFSETFROM:+0100
TZOFFSETTO:+0200
TZNAME:CEST
DTSTART:20190331T010000
END:DAYLIGHT
BEGIN:STANDARD
TZOFFSETFROM:+0200
TZOFFSETTO:+0100
TZNAME:CET
DTSTART:20191027T010000
END:STANDARD
BEGIN:DAYLIGHT
TZOFFSETFROM:+0100
TZOFFSETTO:+0200
TZNAME:CEST
DTSTART:20200329T010000
END:DAYLIGHT
BEGIN:STANDARD
TZOFFSETFROM:+0200
TZOFFSETTO:+0100
TZNAME:CET
DTSTART:20201025T010000
END:STANDARD
END:VTIMEZONE
BEGIN:VEVENT
DTSTART;TZID=Europe/Rome:20191106T153000
DTEND;TZID=Europe/Rome:20191106T235900
DTSTAMP:20260424T043359
CREATED:20191020T085853Z
LAST-MODIFIED:20191020T090106Z
UID:10002041-1573054200-1573084740@www.sissco.it
SUMMARY:L'Unione europea e la difficile costruzione di una memoria comune
DESCRIPTION:Filippo Focardi\, Univ. Padova\, L’Unione europea e la difficile costruzione di una memoria comune\, 6 novembre\, Università degli Studi di Bari\, Scienze Politiche\, aula 19\, ore 15:30. \nSecondo incontro del ciclo di seminari “Mezzogiorno\, Mediterraneo e Politiche della Memoria”\, organizzato dalla Cattedra Jean Monnet per l’Integrazione europea dell’Università degli Studi di Bari (Carlo Spagnolo).
URL:https://www.sissco.it/calendario/lunione-europea-e-la-difficile-costruzione-di-una-memoria-comune/
LOCATION:Scienze Politiche\, aula 19\, Bari\, Italia
CATEGORIES:Seminario
END:VEVENT
END:VCALENDAR