BEGIN:VCALENDAR
VERSION:2.0
PRODID:-//SISSCO - ECPv6.15.20//NONSGML v1.0//EN
CALSCALE:GREGORIAN
METHOD:PUBLISH
X-WR-CALNAME:SISSCO
X-ORIGINAL-URL:https://www.sissco.it
X-WR-CALDESC:Eventi per SISSCO
REFRESH-INTERVAL;VALUE=DURATION:PT1H
X-Robots-Tag:noindex
X-PUBLISHED-TTL:PT1H
BEGIN:VTIMEZONE
TZID:Europe/Rome
BEGIN:DAYLIGHT
TZOFFSETFROM:+0100
TZOFFSETTO:+0200
TZNAME:CEST
DTSTART:20170326T010000
END:DAYLIGHT
BEGIN:STANDARD
TZOFFSETFROM:+0200
TZOFFSETTO:+0100
TZNAME:CET
DTSTART:20171029T010000
END:STANDARD
BEGIN:DAYLIGHT
TZOFFSETFROM:+0100
TZOFFSETTO:+0200
TZNAME:CEST
DTSTART:20180325T010000
END:DAYLIGHT
BEGIN:STANDARD
TZOFFSETFROM:+0200
TZOFFSETTO:+0100
TZNAME:CET
DTSTART:20181028T010000
END:STANDARD
BEGIN:DAYLIGHT
TZOFFSETFROM:+0100
TZOFFSETTO:+0200
TZNAME:CEST
DTSTART:20190331T010000
END:DAYLIGHT
BEGIN:STANDARD
TZOFFSETFROM:+0200
TZOFFSETTO:+0100
TZNAME:CET
DTSTART:20191027T010000
END:STANDARD
END:VTIMEZONE
BEGIN:VEVENT
DTSTART;TZID=Europe/Rome:20181122T150000
DTEND;TZID=Europe/Rome:20181123T230000
DTSTAMP:20260422T011233
CREATED:20181116T081555Z
LAST-MODIFIED:20181117T094442Z
UID:10000637-1542898800-1543014000@www.sissco.it
SUMMARY:Radicalism\, Racism and Anti-global reactions\, New Political cultures in Europe
DESCRIPTION:The Seminar will debate what is changed\, and what is changing\, in the connected fields of Radicalism\, Racial Intolerance\, and Populism. A special focus will be brought to the state of art of the scholarly researches in many European different countries: how much\, how and by whom these topics have been studied; what we already know\, and what has to be studied in the near future. \nParticipants: Andrea Mammone Henning Flad\, Susi Meret\, Andrea L. Pirro\, Leila Hadj Abdou\, Giorgia Bulli\, Nicola Labanca\, Giovanni Gozzini\, Fabio De Ninno \n 
URL:https://www.sissco.it/calendario/radicalism-racism-and-anti-global-reactions-new-political-cultures-in-europe-siena-22-23-november-2018/
LOCATION:Siena\, Dipartimento di Scienze Storiche e dei Beni culturali\, Italia
CATEGORIES:Seminario
END:VEVENT
END:VCALENDAR