BEGIN:VCALENDAR
VERSION:2.0
PRODID:-//SISSCO - ECPv6.15.20//NONSGML v1.0//EN
CALSCALE:GREGORIAN
METHOD:PUBLISH
X-WR-CALNAME:SISSCO
X-ORIGINAL-URL:https://www.sissco.it
X-WR-CALDESC:Eventi per SISSCO
REFRESH-INTERVAL;VALUE=DURATION:PT1H
X-Robots-Tag:noindex
X-PUBLISHED-TTL:PT1H
BEGIN:VTIMEZONE
TZID:Europe/Rome
BEGIN:DAYLIGHT
TZOFFSETFROM:+0100
TZOFFSETTO:+0200
TZNAME:CEST
DTSTART:20170326T010000
END:DAYLIGHT
BEGIN:STANDARD
TZOFFSETFROM:+0200
TZOFFSETTO:+0100
TZNAME:CET
DTSTART:20171029T010000
END:STANDARD
BEGIN:DAYLIGHT
TZOFFSETFROM:+0100
TZOFFSETTO:+0200
TZNAME:CEST
DTSTART:20180325T010000
END:DAYLIGHT
BEGIN:STANDARD
TZOFFSETFROM:+0200
TZOFFSETTO:+0100
TZNAME:CET
DTSTART:20181028T010000
END:STANDARD
BEGIN:DAYLIGHT
TZOFFSETFROM:+0100
TZOFFSETTO:+0200
TZNAME:CEST
DTSTART:20190331T010000
END:DAYLIGHT
BEGIN:STANDARD
TZOFFSETFROM:+0200
TZOFFSETTO:+0100
TZNAME:CET
DTSTART:20191027T010000
END:STANDARD
END:VTIMEZONE
BEGIN:VEVENT
DTSTART;TZID=Europe/Rome:20180423T130000
DTEND;TZID=Europe/Rome:20180423T235900
DTSTAMP:20260423T181433
CREATED:20180222T084154Z
LAST-MODIFIED:20180320T152439Z
UID:10000501-1524488400-1524527940@www.sissco.it
SUMMARY:Nuove prospettive o fine della storia?
DESCRIPTION:Relatore: Giuseppe Vacca \nAula 3 b3 sr01
URL:https://www.sissco.it/calendario/nuove-prospettive-o-fine-della-storia/
LOCATION:Università Bocconi\, Via Röntgen 1\, Milano\, Italia
CATEGORIES:Seminario
ORGANIZER;CN="Jacopo Perazzoli":MAILTO:jacopoperazzoli@yahoo.it
END:VEVENT
BEGIN:VEVENT
DTSTART;TZID=Europe/Rome:20180416T130000
DTEND;TZID=Europe/Rome:20180416T235900
DTSTAMP:20260423T181433
CREATED:20180222T084051Z
LAST-MODIFIED:20180222T114639Z
UID:10001755-1523883600-1523923140@www.sissco.it
SUMMARY:Le socialdemocrazie e i cambiamenti del lavoro
DESCRIPTION:Relatore: Paolo Borioni \nDiscussant: Stefano Liebman \nAula 3 b3 sr01
URL:https://www.sissco.it/calendario/le-socialdemocrazie-e-i-cambiamenti-del-lavoro/
LOCATION:Università Bocconi\, Via Röntgen 1\, Milano\, Italia
CATEGORIES:Seminario
ORGANIZER;CN="Jacopo Perazzoli":MAILTO:jacopoperazzoli@yahoo.it
END:VEVENT
BEGIN:VEVENT
DTSTART;TZID=Europe/Rome:20180409T150000
DTEND;TZID=Europe/Rome:20180409T235900
DTSTAMP:20260423T181433
CREATED:20180222T083931Z
LAST-MODIFIED:20180320T152502Z
UID:10001754-1523286000-1523318340@www.sissco.it
SUMMARY:La socialdemocrazia europea dalla Commissione Delors alla
DESCRIPTION:Relatore: Sante Cruciani \nDiscussant: Andrea Panaccione \nAula 3 b3 sr01
URL:https://www.sissco.it/calendario/la-socialdemocrazia-europea-dalla-commissione-delors-alla-terza-via-di-blair-e-schroder/
LOCATION:Università Bocconi\, Via Röntgen 1\, Milano\, Italia
CATEGORIES:Seminario
ORGANIZER;CN="Unnamed Organizer":MAILTO:jacopoperazzoli@yahoo.it
END:VEVENT
BEGIN:VEVENT
DTSTART;VALUE=DATE:20180319
DTEND;VALUE=DATE:20180320
DTSTAMP:20260423T181433
CREATED:20180222T083746Z
LAST-MODIFIED:20180222T083746Z
UID:10001753-1521417600-1521503999@www.sissco.it
SUMMARY:I socialdemocratici europei di fronte alla fine dell'età dell'oro
DESCRIPTION:Relatore: Michele Di Donato \nDiscussant: Mattia Granata \nAula 3 b3 sr01
URL:https://www.sissco.it/calendario/i-socialdemocratici-europei-di-fronte-alla-fine-delleta-delloro/
LOCATION:Università Bocconi\, Via Röntgen 1\, Milano\, Italia
CATEGORIES:Seminario
ORGANIZER;CN="Jacopo Perazzoli":MAILTO:jacopoperazzoli@yahoo.it
END:VEVENT
BEGIN:VEVENT
DTSTART;TZID=Europe/Rome:20180305T130000
DTEND;TZID=Europe/Rome:20180305T235900
DTSTAMP:20260423T181433
CREATED:20180222T083611Z
LAST-MODIFIED:20180222T083611Z
UID:10001752-1520254800-1520294340@www.sissco.it
SUMMARY:L'eclisse della socialdemocrazia
DESCRIPTION:Relatore: Jacopo Perazzoli \nDiscussant: Giuseppe Berta \nUniversità Bocconi \nAula 3b3 sr01
URL:https://www.sissco.it/calendario/leclisse-della-socialdemocrazia/
LOCATION:Università Bocconi\, Via Röntgen 1\, Milano\, Italia
CATEGORIES:Seminario
ORGANIZER;CN="Jacopo Perazzoli":MAILTO:jacopoperazzoli@yahoo.it
END:VEVENT
END:VCALENDAR