BEGIN:VCALENDAR
VERSION:2.0
PRODID:-//SISSCO - ECPv6.15.20//NONSGML v1.0//EN
CALSCALE:GREGORIAN
METHOD:PUBLISH
X-ORIGINAL-URL:https://www.sissco.it
X-WR-CALDESC:Eventi per SISSCO
REFRESH-INTERVAL;VALUE=DURATION:PT1H
X-Robots-Tag:noindex
X-PUBLISHED-TTL:PT1H
BEGIN:VTIMEZONE
TZID:Europe/Rome
BEGIN:DAYLIGHT
TZOFFSETFROM:+0100
TZOFFSETTO:+0200
TZNAME:CEST
DTSTART:20200329T010000
END:DAYLIGHT
BEGIN:STANDARD
TZOFFSETFROM:+0200
TZOFFSETTO:+0100
TZNAME:CET
DTSTART:20201025T010000
END:STANDARD
BEGIN:DAYLIGHT
TZOFFSETFROM:+0100
TZOFFSETTO:+0200
TZNAME:CEST
DTSTART:20210328T010000
END:DAYLIGHT
BEGIN:STANDARD
TZOFFSETFROM:+0200
TZOFFSETTO:+0100
TZNAME:CET
DTSTART:20211031T010000
END:STANDARD
BEGIN:DAYLIGHT
TZOFFSETFROM:+0100
TZOFFSETTO:+0200
TZNAME:CEST
DTSTART:20220327T010000
END:DAYLIGHT
BEGIN:STANDARD
TZOFFSETFROM:+0200
TZOFFSETTO:+0100
TZNAME:CET
DTSTART:20221030T010000
END:STANDARD
END:VTIMEZONE
BEGIN:VEVENT
DTSTART;TZID=Europe/Rome:20210628T150000
DTEND;TZID=Europe/Rome:20210628T235900
DTSTAMP:20260424T030620
CREATED:20210621T141029Z
LAST-MODIFIED:20210621T141029Z
UID:10002228-1624892400-1624924740@www.sissco.it
SUMMARY:Intersezioni. Briganti in pubblico fra nuovi saperi\, giustizia e spettacolo (fine XIX-inizio XX secolo)
DESCRIPTION:Università di Pisa – Dipartimento di Civiltà e Forme del Sapere / Università degli Studi di Bari “Aldo Moro” – Dipartimento di Studi Umanistici \nLunedì 28 giugno – ore 15 \nSeminario di Ricerca: Intersezioni. Briganti in pubblico fra nuovi saperi\, giustizia e spettacolo (fine XIX – inizio XX secolo) \nIntroduce: Alessio Petrizzo (Università di Padova) \nCoordina: Gian Luca Fruci (Università di Pisa) \nINTERSEZIONE 1 – BRIGANTAGGIO\, GENERE\, CRIMINOLOGIA \nMariamichela Landi (Università di Teramo)\, Alle radici dell’antropologia criminale: i processi alle donne nel brigantaggio (1863-1865) \nMaddalena Carli (Università di Teramo)\, Nadia Pugliese (Archivio del Museo di antropologia criminale Cesare Lombroso\, Università di Torino)\, Tra la fotografia e il disegno. Cesare Lombroso e la costruzione dei tratti fisici dell’atavismo \nINTERSEZIONE 2 – BRIGANTAGGIO\, CRONACA\, CELEBRITÀ \nJaleh Bahrabadi (Archivio di Stato di Lucca-Archivio di Stato di Pisa)\, Il fascino del brigante: le cartoline a Musolino durante il processo a Lucca \nGianluca Fulvetti (Università di Pisa)\, Musolino dopo Musolino. Un brigante e le sue narrazioni \nINTERSEZIONE 3 – BRIGANTAGGIO\, ETNOGRAFIA\, CULTURA POPOLARE \nRosario Perricone (Università di Palermo)\, Il teatro dei briganti. Testi\, immagini e rappresentazioni dei briganti nell’Opera dei pupi siciliani \nNino Blando (Università di Palermo)\, Terra di rapina. La lunga storia del banditismo siciliano \nPartecipano alla discussione: Annastella Carrino (Università di Bari)\, Laura Di Fiore (Università di Napoli Federico II)\, Caterina Di Pasquale (Università di Pisa)\, Lea Durante (Università di Bari)\, Enrico Francia (Università di Padova)\, Marco Manfredi (ISTORECO Livorno)\, Carmine Pinto (Università di Salerno)\, Giulio Tatasciore (Università di Salerno)\, Ignazio Veca (Università di Pisa) \nLink Teams al seminario: https://www.cfs.unipi.it/c/210628-intersezioni \n 
URL:https://www.sissco.it/calendario/intersezioni-briganti-in-pubblico-fra-nuovi-saperi-giustizia-e-spettacolo-fine-xix-inizio-xx-secolo/
LOCATION:Università di Pisa – Evento telematico (piattaforma Teams)\, Pisa\, Italia
CATEGORIES:Seminario
ORGANIZER;CN="Gian Luca Fruci":MAILTO:gianluca.fruci@unipi.it
END:VEVENT
END:VCALENDAR