BEGIN:VCALENDAR
VERSION:2.0
PRODID:-//SISSCO - ECPv6.15.20//NONSGML v1.0//EN
CALSCALE:GREGORIAN
METHOD:PUBLISH
X-WR-CALNAME:SISSCO
X-ORIGINAL-URL:https://www.sissco.it
X-WR-CALDESC:Eventi per SISSCO
REFRESH-INTERVAL;VALUE=DURATION:PT1H
X-Robots-Tag:noindex
X-PUBLISHED-TTL:PT1H
BEGIN:VTIMEZONE
TZID:Europe/Rome
BEGIN:DAYLIGHT
TZOFFSETFROM:+0100
TZOFFSETTO:+0200
TZNAME:CEST
DTSTART:20130331T010000
END:DAYLIGHT
BEGIN:STANDARD
TZOFFSETFROM:+0200
TZOFFSETTO:+0100
TZNAME:CET
DTSTART:20131027T010000
END:STANDARD
BEGIN:DAYLIGHT
TZOFFSETFROM:+0100
TZOFFSETTO:+0200
TZNAME:CEST
DTSTART:20140330T010000
END:DAYLIGHT
BEGIN:STANDARD
TZOFFSETFROM:+0200
TZOFFSETTO:+0100
TZNAME:CET
DTSTART:20141026T010000
END:STANDARD
BEGIN:DAYLIGHT
TZOFFSETFROM:+0100
TZOFFSETTO:+0200
TZNAME:CEST
DTSTART:20150329T010000
END:DAYLIGHT
BEGIN:STANDARD
TZOFFSETFROM:+0200
TZOFFSETTO:+0100
TZNAME:CET
DTSTART:20151025T010000
END:STANDARD
BEGIN:DAYLIGHT
TZOFFSETFROM:+0100
TZOFFSETTO:+0200
TZNAME:CEST
DTSTART:20160327T010000
END:DAYLIGHT
BEGIN:STANDARD
TZOFFSETFROM:+0200
TZOFFSETTO:+0100
TZNAME:CET
DTSTART:20161030T010000
END:STANDARD
BEGIN:DAYLIGHT
TZOFFSETFROM:+0100
TZOFFSETTO:+0200
TZNAME:CEST
DTSTART:20170326T010000
END:DAYLIGHT
BEGIN:STANDARD
TZOFFSETFROM:+0200
TZOFFSETTO:+0100
TZNAME:CET
DTSTART:20171029T010000
END:STANDARD
BEGIN:DAYLIGHT
TZOFFSETFROM:+0100
TZOFFSETTO:+0200
TZNAME:CEST
DTSTART:20180325T010000
END:DAYLIGHT
BEGIN:STANDARD
TZOFFSETFROM:+0200
TZOFFSETTO:+0100
TZNAME:CET
DTSTART:20181028T010000
END:STANDARD
BEGIN:DAYLIGHT
TZOFFSETFROM:+0100
TZOFFSETTO:+0200
TZNAME:CEST
DTSTART:20190331T010000
END:DAYLIGHT
BEGIN:STANDARD
TZOFFSETFROM:+0200
TZOFFSETTO:+0100
TZNAME:CET
DTSTART:20191027T010000
END:STANDARD
BEGIN:DAYLIGHT
TZOFFSETFROM:+0100
TZOFFSETTO:+0200
TZNAME:CEST
DTSTART:20200329T010000
END:DAYLIGHT
BEGIN:STANDARD
TZOFFSETFROM:+0200
TZOFFSETTO:+0100
TZNAME:CET
DTSTART:20201025T010000
END:STANDARD
BEGIN:DAYLIGHT
TZOFFSETFROM:+0100
TZOFFSETTO:+0200
TZNAME:CEST
DTSTART:20210328T010000
END:DAYLIGHT
BEGIN:STANDARD
TZOFFSETFROM:+0200
TZOFFSETTO:+0100
TZNAME:CET
DTSTART:20211031T010000
END:STANDARD
BEGIN:DAYLIGHT
TZOFFSETFROM:+0100
TZOFFSETTO:+0200
TZNAME:CEST
DTSTART:20220327T010000
END:DAYLIGHT
BEGIN:STANDARD
TZOFFSETFROM:+0200
TZOFFSETTO:+0100
TZNAME:CET
DTSTART:20221030T010000
END:STANDARD
BEGIN:DAYLIGHT
TZOFFSETFROM:+0100
TZOFFSETTO:+0200
TZNAME:CEST
DTSTART:20230326T010000
END:DAYLIGHT
BEGIN:STANDARD
TZOFFSETFROM:+0200
TZOFFSETTO:+0100
TZNAME:CET
DTSTART:20231029T010000
END:STANDARD
BEGIN:DAYLIGHT
TZOFFSETFROM:+0100
TZOFFSETTO:+0200
TZNAME:CEST
DTSTART:20240331T010000
END:DAYLIGHT
BEGIN:STANDARD
TZOFFSETFROM:+0200
TZOFFSETTO:+0100
TZNAME:CET
DTSTART:20241027T010000
END:STANDARD
BEGIN:DAYLIGHT
TZOFFSETFROM:+0100
TZOFFSETTO:+0200
TZNAME:CEST
DTSTART:20250330T010000
END:DAYLIGHT
BEGIN:STANDARD
TZOFFSETFROM:+0200
TZOFFSETTO:+0100
TZNAME:CET
DTSTART:20251026T010000
END:STANDARD
END:VTIMEZONE
BEGIN:VEVENT
DTSTART;TZID=Europe/Rome:20240510T160000
DTEND;TZID=Europe/Rome:20240510T180000
DTSTAMP:20260418T231132
CREATED:20240505T070014Z
LAST-MODIFIED:20240505T070014Z
UID:10002821-1715356800-1715364000@www.sissco.it
SUMMARY:Southern Europe in the Age of Revolutions
DESCRIPTION:Maurizio Isabella (Queen Mary University of London) discuterà con Daniela Luigia Caglioti (Università di Napoli Federico II)\ne Antonio Trampus (Università Ca’ Foscari Venezia) del volume Southern Europe in the Age of Revolutions\nPrinceton University Press\, 2023 \nvenerdì 10 maggio 2024\, ore 16.00\nSala Archivio\, Ca’ Foscari – Dorsoduro 3246\, Venezia \n Per info: elena.bacchin@unive.it
URL:https://www.sissco.it/calendario/southern-europe-in-the-age-of-revolutions-3/
LOCATION:Venezia
CATEGORIES:Presentazione di libro/i
ORGANIZER;CN="Elena Bacchin":MAILTO:elena.bacchin@unive.it
END:VEVENT
BEGIN:VEVENT
DTSTART;TZID=Europe/Rome:20141204T143000
DTEND;TZID=Europe/Rome:20141204T235900
DTSTAMP:20260418T231132
CREATED:20141117T131031Z
LAST-MODIFIED:20141117T131031Z
UID:10000008-1417703400-1417737540@www.sissco.it
SUMMARY:World History. Potere e sovranità nello spazio euro-asiatico
DESCRIPTION:Sullo sfondo di un nuovo interesse per il rapporto tra spazio e potere si muove la seconda iniziativa sulla ‘World History’ della Ca’ Foscari School of International Relations\, promossa da Luca Baldissara\, Rolf Petri e Guido Samarani. L’incontro prevede contributi sul rapporto tra spazio e potere nell’esperienza di alcune tra le più importanti aree dell’ambito euro-asiatico. L’idea è di mettere a confronto pratiche passate e attuali di governo ed economiche\, i modelli di esercizio della sovranità nonché le concezioni dello spazio e del potere sottostanti. Le presentazioni offriranno una visione d’insieme partendo dalle aree russa\, cinese\, indiana e turco-ottomana. \nRelatori: Alessandro Colombo (Milano)\, Vera Costantini (Venezia)\, Laura De Giorgi (Venezia)\, Alberto Masoero (Venezia) e Michelgugliemo Torri (Torino).
URL:https://www.sissco.it/calendario/world-history-potere-e-sovranita-nello-spazio-euro-asiatico/
LOCATION:Venezia
CATEGORIES:Convegno
ORGANIZER;CN="Rolf Petri":MAILTO:petri@unive.it
END:VEVENT
END:VCALENDAR