BEGIN:VCALENDAR
VERSION:2.0
PRODID:-//SISSCO - ECPv6.15.20//NONSGML v1.0//EN
CALSCALE:GREGORIAN
METHOD:PUBLISH
X-ORIGINAL-URL:https://www.sissco.it
X-WR-CALDESC:Eventi per SISSCO
REFRESH-INTERVAL;VALUE=DURATION:PT1H
X-Robots-Tag:noindex
X-PUBLISHED-TTL:PT1H
BEGIN:VTIMEZONE
TZID:Europe/Rome
BEGIN:DAYLIGHT
TZOFFSETFROM:+0100
TZOFFSETTO:+0200
TZNAME:CEST
DTSTART:20170326T010000
END:DAYLIGHT
BEGIN:STANDARD
TZOFFSETFROM:+0200
TZOFFSETTO:+0100
TZNAME:CET
DTSTART:20171029T010000
END:STANDARD
BEGIN:DAYLIGHT
TZOFFSETFROM:+0100
TZOFFSETTO:+0200
TZNAME:CEST
DTSTART:20180325T010000
END:DAYLIGHT
BEGIN:STANDARD
TZOFFSETFROM:+0200
TZOFFSETTO:+0100
TZNAME:CET
DTSTART:20181028T010000
END:STANDARD
BEGIN:DAYLIGHT
TZOFFSETFROM:+0100
TZOFFSETTO:+0200
TZNAME:CEST
DTSTART:20190331T010000
END:DAYLIGHT
BEGIN:STANDARD
TZOFFSETFROM:+0200
TZOFFSETTO:+0100
TZNAME:CET
DTSTART:20191027T010000
END:STANDARD
END:VTIMEZONE
BEGIN:VEVENT
DTSTART;VALUE=DATE:20181010
DTEND;VALUE=DATE:20181012
DTSTAMP:20260419T004739
CREATED:20180918T155639Z
LAST-MODIFIED:20180929T100354Z
UID:10001837-1539129600-1539302399@www.sissco.it
SUMMARY:Il '68 e la digital oral history
DESCRIPTION:In occasione della mostra “Un grande numero. Segni immagini parole del 1968 a Milano” nell’ambito del progetto AggiungiPROmemoria con il contributo di Fondazione Cariplo\, Fondazione ISEC promuove e ospita la “Scuola di storia orale: il ’68 e la digital oral history” organizzata da AISO-Associazione italiana di storia orale: il programma prevede lezioni sulla metodologia della storia orale\, sulla storia orale e visuale del ’68\, sull’applicazione di alcuni software di trattamento e analisi computazionale delle fonti orali.Interverranno: Alessandro Casellato e Giovanni Contini (AISO)\, Bruno Cartosio (Università degli studi di Bergamo)\, Marco Lo Cascio (Irsifar\, Roma)\, Uliano Lucas (fotoreporter)\, Giorgio Bigatti\, Bruno Cartosio\, Sara Zanisi (Fondazione ISEC)\, Bianca Pastori (Associazione AVoce e AISO)\, Francesca Socrate (Università La Sapienza\, Roma)\, Marta Terzi (regista).\nAi docenti che ne faranno richiesta verrà rilasciato un attestato di partecipazione valevole ai fini della formazione obbligatoria.La scuola prevede un minimo di 15 e un massimo di 40 iscritti.Le iscrizioni chiudono il 20 settembre 2018.Costi\, informazioni e moduli sul sito di AISO.\nMercoledì 10 e giovedì 11 ottobre 2018Fondazione ISEC\, Villa Mylius\, largo La Marmora 17 Sesto San GiovanniInfo e iscrizioni: aisoitalia@gmail.com
URL:https://www.sissco.it/calendario/scuola-di-storia-orale-il-%ce%8468-e-la-digital-oral-history/
LOCATION:Fondazione ISEC\, Fondazione ISEC\, Sesto San Giovanni\, 20099\, Italia
CATEGORIES:Workshop
ORGANIZER;CN="AISO":MAILTO:aisoitalia@gmail.com
END:VEVENT
END:VCALENDAR