BEGIN:VCALENDAR
VERSION:2.0
PRODID:-//SISSCO - ECPv6.15.20//NONSGML v1.0//EN
CALSCALE:GREGORIAN
METHOD:PUBLISH
X-ORIGINAL-URL:https://www.sissco.it
X-WR-CALDESC:Eventi per SISSCO
REFRESH-INTERVAL;VALUE=DURATION:PT1H
X-Robots-Tag:noindex
X-PUBLISHED-TTL:PT1H
BEGIN:VTIMEZONE
TZID:Europe/Rome
BEGIN:DAYLIGHT
TZOFFSETFROM:+0100
TZOFFSETTO:+0200
TZNAME:CEST
DTSTART:20180325T010000
END:DAYLIGHT
BEGIN:STANDARD
TZOFFSETFROM:+0200
TZOFFSETTO:+0100
TZNAME:CET
DTSTART:20181028T010000
END:STANDARD
BEGIN:DAYLIGHT
TZOFFSETFROM:+0100
TZOFFSETTO:+0200
TZNAME:CEST
DTSTART:20190331T010000
END:DAYLIGHT
BEGIN:STANDARD
TZOFFSETFROM:+0200
TZOFFSETTO:+0100
TZNAME:CET
DTSTART:20191027T010000
END:STANDARD
BEGIN:DAYLIGHT
TZOFFSETFROM:+0100
TZOFFSETTO:+0200
TZNAME:CEST
DTSTART:20200329T010000
END:DAYLIGHT
BEGIN:STANDARD
TZOFFSETFROM:+0200
TZOFFSETTO:+0100
TZNAME:CET
DTSTART:20201025T010000
END:STANDARD
END:VTIMEZONE
BEGIN:VEVENT
DTSTART;TZID=Europe/Rome:20191028T170000
DTEND;TZID=Europe/Rome:20191028T235900
DTSTAMP:20260424T005308
CREATED:20191025T061738Z
LAST-MODIFIED:20191025T061909Z
UID:10000800-1572282000-1572307140@www.sissco.it
SUMMARY:Charles S. Maier\, Leviathan confronts globalization. 2. Governance and capital in the neo-liberal era.
DESCRIPTION:Lunedì 28 ottobre alle ore 17.00 si svolgerà presso l’Aula A del Dipartimento di Storia\, Antropologia\, Religioni\, Arte e Spettacolo dell’Università La Sapienza di Roma\, il seminario “Leviathan confronts globalization. 2. Governance and capital in the neo-liberal era\, quarto e ultimo appuntamento del ciclo di incontri-seminari tenuti nel mese di ottobre dal Prof. Charles S. Maier su “Politica dei confini\, confini della politica. Riflessioni sulla trasformazione dello spazio pubblico in età contemporanea”. L’incontro è organizzato dai dottorati di “Comunicazione\, Ricerca Sociale e Marketing” e “Storia\, Antropologia e Religioni”.
URL:https://www.sissco.it/calendario/charles-s-maier-leviathan-confronts-globalization-2-governance-and-capital-in-neo-liberal-era/
LOCATION:Università La Sapienza di Roma\, Piazzale Aldo Moro\, 5\, Roma\, 00177\, Italia
CATEGORIES:Seminario
ORGANIZER;CN="Andrea Guiso":MAILTO:andrea.guiso@uniroma1.it
END:VEVENT
BEGIN:VEVENT
DTSTART;TZID=Europe/Rome:20191024T170000
DTEND;TZID=Europe/Rome:20191024T230000
DTSTAMP:20260424T005308
CREATED:20191017T195332Z
LAST-MODIFIED:20191019T102126Z
UID:10002037-1571936400-1571958000@www.sissco.it
SUMMARY:Fifty years after the "Hot Autumn". Social and national conflicts: before and since
DESCRIPTION:Giovedì 24 ottobre 2019 alle ore 17.00 presso l’aula C4 del Dipartimento di Comunicazione e Ricerca Sociale dell’Università La Sapienza di Roma (via Salaria 113) si svolgerà il seminario dal titolo Fifty years after the “Hot Autumn”. Social and national conflicts: before and since\, terzo incontro del ciclo di lezioni di Charles S. Maier in Sapienza intitolato Politica dei confini e confini della politica. Il seminario è organizzato dall’Unità di ricerca RUCAN (Research Unit on Conflict Analysis) fondata nella primavera del 2019 presso il Dipartimento di Comunicazione e Ricerca Sociale dell’Università di Roma La Sapienza.
URL:https://www.sissco.it/calendario/charles-s-maier-fifty-years-after-the-hot-autumn-social-and-national-conflicts-before-and-since/
LOCATION:Università La Sapienza di Roma\, Via Salaria 113\, Roma\, 00198\, Italia
CATEGORIES:Seminario
ORGANIZER;CN="Andrea Guiso":MAILTO:andrea.guiso@uniroma1.it
END:VEVENT
BEGIN:VEVENT
DTSTART;TZID=Europe/Rome:20191015T110000
DTEND;TZID=Europe/Rome:20191015T235900
DTSTAMP:20260424T005308
CREATED:20191008T174926Z
LAST-MODIFIED:20191008T174926Z
UID:10000785-1571137200-1571183940@www.sissco.it
SUMMARY:Charles S. Maier\, Keeping in and keeping out: the politics of borders\, 1919-2019
DESCRIPTION:Il 15 ottobre 2019 alle ore 11.00 il Prof. Charles S. Maier dell’Università di Harvard terrà presso l’Università di Roma “La Sapienza” una lectio magistralis dal titolo “Keeping in and keeping out: the politics of borders\, 1919-2019”. \nL’evento avrà luogo presso l’aula Odeion del Palazzo della Facoltà di Lettere\, Piazzale Aldo Moro 5 e fa parte di una serie di lezioni e seminari che il prof. Maier terrà nel mese di ottobre in qualità di visting professor presso La Sapienza (host: Andrea Guiso). \nGli incontri sono organizzati dalle cattedre di storia contemporanea del Dipartimento di Comunicazione e Ricerca Sociale e del Dipartimento di Storia\,Antropologia\, Religioni\, Arte\, Spettacolo; dai dottorati di Storia\, Antropologia\, Religioni e di Comunicazione\, Ricerca Sociale e Marketing; dal RUCAN (Research Unit on Conflict ANalysis). \nComitato scientifico: Emmanuel Betta\, Antonio Fasanella\, Umberto Gentiloni Silveri\, Andrea Guiso\, Elena Papadia. \n 
URL:https://www.sissco.it/calendario/charles-s-maier-keeping-in-and-keeping-out-the-politics-of-borders-1919-2019/
LOCATION:Università La Sapienza di Roma\, Piazzale Aldo Moro\, 5\, Roma\, Italia
CATEGORIES:Altro
ORGANIZER;CN="Andrea Guiso":MAILTO:andrea.guiso@uniroma1.it
END:VEVENT
END:VCALENDAR