BEGIN:VCALENDAR
VERSION:2.0
PRODID:-//SISSCO - ECPv6.15.20//NONSGML v1.0//EN
CALSCALE:GREGORIAN
METHOD:PUBLISH
X-ORIGINAL-URL:https://www.sissco.it
X-WR-CALDESC:Eventi per SISSCO
REFRESH-INTERVAL;VALUE=DURATION:PT1H
X-Robots-Tag:noindex
X-PUBLISHED-TTL:PT1H
BEGIN:VTIMEZONE
TZID:Europe/Rome
BEGIN:DAYLIGHT
TZOFFSETFROM:+0100
TZOFFSETTO:+0200
TZNAME:CEST
DTSTART:20150329T010000
END:DAYLIGHT
BEGIN:STANDARD
TZOFFSETFROM:+0200
TZOFFSETTO:+0100
TZNAME:CET
DTSTART:20151025T010000
END:STANDARD
BEGIN:DAYLIGHT
TZOFFSETFROM:+0100
TZOFFSETTO:+0200
TZNAME:CEST
DTSTART:20160327T010000
END:DAYLIGHT
BEGIN:STANDARD
TZOFFSETFROM:+0200
TZOFFSETTO:+0100
TZNAME:CET
DTSTART:20161030T010000
END:STANDARD
BEGIN:DAYLIGHT
TZOFFSETFROM:+0100
TZOFFSETTO:+0200
TZNAME:CEST
DTSTART:20170326T010000
END:DAYLIGHT
BEGIN:STANDARD
TZOFFSETFROM:+0200
TZOFFSETTO:+0100
TZNAME:CET
DTSTART:20171029T010000
END:STANDARD
BEGIN:DAYLIGHT
TZOFFSETFROM:+0100
TZOFFSETTO:+0200
TZNAME:CEST
DTSTART:20180325T010000
END:DAYLIGHT
BEGIN:STANDARD
TZOFFSETFROM:+0200
TZOFFSETTO:+0100
TZNAME:CET
DTSTART:20181028T010000
END:STANDARD
BEGIN:DAYLIGHT
TZOFFSETFROM:+0100
TZOFFSETTO:+0200
TZNAME:CEST
DTSTART:20190331T010000
END:DAYLIGHT
BEGIN:STANDARD
TZOFFSETFROM:+0200
TZOFFSETTO:+0100
TZNAME:CET
DTSTART:20191027T010000
END:STANDARD
BEGIN:DAYLIGHT
TZOFFSETFROM:+0100
TZOFFSETTO:+0200
TZNAME:CEST
DTSTART:20200329T010000
END:DAYLIGHT
BEGIN:STANDARD
TZOFFSETFROM:+0200
TZOFFSETTO:+0100
TZNAME:CET
DTSTART:20201025T010000
END:STANDARD
BEGIN:DAYLIGHT
TZOFFSETFROM:+0100
TZOFFSETTO:+0200
TZNAME:CEST
DTSTART:20210328T010000
END:DAYLIGHT
BEGIN:STANDARD
TZOFFSETFROM:+0200
TZOFFSETTO:+0100
TZNAME:CET
DTSTART:20211031T010000
END:STANDARD
BEGIN:DAYLIGHT
TZOFFSETFROM:+0100
TZOFFSETTO:+0200
TZNAME:CEST
DTSTART:20220327T010000
END:DAYLIGHT
BEGIN:STANDARD
TZOFFSETFROM:+0200
TZOFFSETTO:+0100
TZNAME:CET
DTSTART:20221030T010000
END:STANDARD
BEGIN:DAYLIGHT
TZOFFSETFROM:+0100
TZOFFSETTO:+0200
TZNAME:CEST
DTSTART:20230326T010000
END:DAYLIGHT
BEGIN:STANDARD
TZOFFSETFROM:+0200
TZOFFSETTO:+0100
TZNAME:CET
DTSTART:20231029T010000
END:STANDARD
BEGIN:DAYLIGHT
TZOFFSETFROM:+0100
TZOFFSETTO:+0200
TZNAME:CEST
DTSTART:20240331T010000
END:DAYLIGHT
BEGIN:STANDARD
TZOFFSETFROM:+0200
TZOFFSETTO:+0100
TZNAME:CET
DTSTART:20241027T010000
END:STANDARD
BEGIN:DAYLIGHT
TZOFFSETFROM:+0100
TZOFFSETTO:+0200
TZNAME:CEST
DTSTART:20250330T010000
END:DAYLIGHT
BEGIN:STANDARD
TZOFFSETFROM:+0200
TZOFFSETTO:+0100
TZNAME:CET
DTSTART:20251026T010000
END:STANDARD
BEGIN:DAYLIGHT
TZOFFSETFROM:+0100
TZOFFSETTO:+0200
TZNAME:CEST
DTSTART:20260329T010000
END:DAYLIGHT
BEGIN:STANDARD
TZOFFSETFROM:+0200
TZOFFSETTO:+0100
TZNAME:CET
DTSTART:20261025T010000
END:STANDARD
END:VTIMEZONE
BEGIN:VEVENT
DTSTART;TZID=Europe/Rome:20251218T170000
DTEND;TZID=Europe/Rome:20251218T170000
DTSTAMP:20260424T001636
CREATED:20251105T120353Z
LAST-MODIFIED:20251105T120554Z
UID:10003327-1766077200-1766077200@www.sissco.it
SUMMARY:BUIO AMERICANO: Gli Stati Uniti e il mondo nell’era Trump
DESCRIPTION:Il  18 DICEMBRE alle 17:00 si terrà al Centro Studi Americani la presentazione del libro BUIO AMERICANO: GLI STATI UNITI E IL MONDO NELL’ERA TRUMP di Mario Del Pero\, in collaborazione con la società editrice il Mulino. \nSALUTI \nRoberto SGALLA – Direttore\, Centro Studi Americani \nINTERVENGONO \nProf.ssa Claudia BERNARDI\, Università di Perugia \nProf. Ferdinando FASCE\, già Università di Genova \nProf. Daniele FIORENTINO\, Università Roma Tre \nMODERA \nOliviero BERGAMINI\, TG1 RAI \nSarà presente l’autore\, prof. Mario DEL PERO\, SciencesPo\, Parigi \nL’iniziativa si terrà presso la sede del Centro\, in via Michelangelo Caetani 32\, 00186 Roma \nRSVP: library@centrostudiamericani.org
URL:https://www.sissco.it/calendario/buio-americano-gli-stati-uniti-e-il-mondo-nellera-trump/
ATTACH;FMTTYPE=image/png:https://www.sissco.it/wp-content/uploads/2025/11/LOCANDINA-VERTICALE-scaled.png
ORGANIZER;CN="Centro Studi Americani":MAILTO:event@centrostudiamericani.org
END:VEVENT
BEGIN:VEVENT
DTSTART;TZID=Europe/Rome:20251006T163000
DTEND;TZID=Europe/Rome:20251006T183000
DTSTAMP:20260424T001636
CREATED:20250916T103150Z
LAST-MODIFIED:20250916T103450Z
UID:10003254-1759768200-1759775400@www.sissco.it
SUMMARY:America First or America Alone? La fine dell’ordine liberale globale
DESCRIPTION:Si terrà il prossimo 6 ottobre alle 16:30 al Centro Studi Americani l’incontro dal titolo America First or America Alone? La fine dell’ordine liberale globale. \nL’iniziativa è organizzata in collaborazione con CONNECT – Transnational Connections and Global Governance\, centro di ricerca del  Dipartimento di Scienze politiche e sociali dell’Università degli Studi di Bologna – Alma Mater Studiorum \nSALUTI \nFrancesco MORO – Direttore\, Dipartimento di Scienze politiche e sociali\, Università di Bologna \nRoberto SGALLA – Direttore\, Centro Studi Americani \nINTERVENGONO \nMarta DASSU’ – Vicepresidente Vicario Centro Studi Americani e Senior Advisor\, European Affairs\, The Aspen Institute Italia \nAntonio FIORI – Professore Associato\, Università di Bologna \nGiampiero MASSOLO – CdA Centro Studi Americani e Presidente Mundys \nManuela MOSCHELLA – Professoressa Ordinaria e Director CONNECT\, Università di Bologna \nRSVP: library@centrostudiamericani.org
URL:https://www.sissco.it/calendario/america-first-or-america-alone-la-fine-dellordine-liberale-globale/
ATTACH;FMTTYPE=image/png:https://www.sissco.it/wp-content/uploads/2025/09/locandina_6-ottobre-2025_def-scaled.png
ORGANIZER;CN="Centro Studi Americani":MAILTO:event@centrostudiamericani.org
END:VEVENT
BEGIN:VEVENT
DTSTART;TZID=Europe/Rome:20250619T160000
DTEND;TZID=Europe/Rome:20250619T190000
DTSTAMP:20260424T001636
CREATED:20250523T194638Z
LAST-MODIFIED:20250523T194816Z
UID:10003215-1750348800-1750359600@www.sissco.it
SUMMARY:1945-2025: La Liberazione dal nazifascismo\, gli Alleati e il complesso dopoguerra in Europa
DESCRIPTION:In occasione dell’80° anniversario della Liberazione dell’Italia dal nazifascismo e dell’avvio della ridefinizione delle relazioni internazionali nel secondo dopoguerra\, il Centro Studi Americani organizza un dibattito su questi temi\, che offra anche spunti di riflessione sul presente. \nSaluti: \nRoberto Sgalla\, Direttore Centro Studi Americani \nDavid Connell\, U.S. Embassy to Italy \nInterventi: \nMichela Ponzani (Università di Roma Tor Vergata): Il ruolo della Resistenza e degli Alleati nella Liberazione dell’Italia \nGabriele Ranzato (già Università di Pisa): La Liberazione di Roma \nGianluca Fiocco (Università di Roma Tor Vergata): L’impegno dell’Esercito italiano al fianco degli Alleati \nDaniele Fiorentino (Università Roma Tre): Lo sbarco del Soft power USA in Italia \nLuca Riccardi (Università di Cassino e del Lazio meridionale): Il mondo dopo Yalta \nOliviero Bergamini (TG1\, Rai): I nuovi modelli di guerra \nModera: Antonio Di Bella\, Tv 2000 \nRSVP: library@centrostudiamericani.org
URL:https://www.sissco.it/calendario/1945-2025-la-liberazione-dal-nazifascismo-gli-alleati-e-il-complesso-dopoguerra-in-europa/
ATTACH;FMTTYPE=image/png:https://www.sissco.it/wp-content/uploads/2025/05/locandina-19-giugno-CSA-scaled.png
ORGANIZER;CN="Centro Studi Americani":MAILTO:event@centrostudiamericani.org
END:VEVENT
BEGIN:VEVENT
DTSTART;TZID=Europe/Rome:20250508T170000
DTEND;TZID=Europe/Rome:20250508T190000
DTSTAMP:20260424T001636
CREATED:20250411T140933Z
LAST-MODIFIED:20250411T140934Z
UID:10003162-1746723600-1746730800@www.sissco.it
SUMMARY:RIFLESSI ANTISEMITI. Gli ebrei nel cinema italiano tra fascismo\, Liberazione e dopoguerra
DESCRIPTION:L’8 maggio alle ore 17 il Centro Studi Americani organizza un dibattito in occasione della presentazione del libro di LUCA MARTERA\, Usurai\, seduttori e cospiratori. L’antisemitismo nel cinema italiano prima della Shoah (Salomone Belforte\, 2025). \nSaluti: ROBERTO SGALLA\, Direttore Centro Studi Americani \nInterventi: \nANNALISA CAPRISTO\, Biblioteca Centro Studi Americani \nDAMIANO GAROFALO\, Sapienza Università di Roma \nMARIO TEDESCHINI LALLI\, Giornalista e saggista \nSarà presente l’autore\, LUCA MARTERA \nPer accreditarsi: library@centrostudiamericani.org
URL:https://www.sissco.it/calendario/riflessi-antisemiti-gli-ebrei-nel-cinema-italiano-tra-fascismo-liberazione-e-dopoguerra/
ATTACH;FMTTYPE=image/png:https://www.sissco.it/wp-content/uploads/2025/04/LOCANDINA-8-MAGGIO-2025.png
ORGANIZER;CN="Centro Studi Americani":MAILTO:event@centrostudiamericani.org
END:VEVENT
BEGIN:VEVENT
DTSTART;TZID=Europe/Rome:20250416T170000
DTEND;TZID=Europe/Rome:20250416T190000
DTSTAMP:20260424T001636
CREATED:20250328T121011Z
LAST-MODIFIED:20250328T121011Z
UID:10003139-1744822800-1744830000@www.sissco.it
SUMMARY:Italiani sulla «frontiera dell’uomo bianco». La costruzione della razza in California tra Otto e Novecento
DESCRIPTION:Il 16 aprile alle 17 si terrà al Centro Studi Americani la presentazione del libro di TOMMASO CAIAZZA\, Italiani sulla «frontiera dell’uomo bianco». La costruzione della razza in California tra Otto e Novecento (MondadoriEducation 2025). \nDialogheranno con l’autore MATTEO SANFILIPPO (professore Ordinario di Storia moderna\, Università della Tuscia) e GABRIELE SANTORO (giornalista\, autore di Tutti i colori del Rosso\, FeltrinelliEditore 2024). \nPer accreditarsi: library@centrostudiamericani.org
URL:https://www.sissco.it/calendario/italiani-sulla-frontiera-delluomo-bianco-la-costruzione-della-razza-in-california-tra-otto-e-novecento/
ATTACH;FMTTYPE=image/png:https://www.sissco.it/wp-content/uploads/2025/03/LOCANDINA-16-APRILE-2025.png
ORGANIZER;CN="Centro Studi Americani":MAILTO:event@centrostudiamericani.org
END:VEVENT
BEGIN:VEVENT
DTSTART;TZID=Europe/Rome:20250320T170000
DTEND;TZID=Europe/Rome:20250320T190000
DTSTAMP:20260424T001636
CREATED:20250131T222810Z
LAST-MODIFIED:20250207T094348Z
UID:10003064-1742490000-1742497200@www.sissco.it
SUMMARY:TROPICI AMERICANI. L’impero degli Stati Uniti in America Latina nel Novecento
DESCRIPTION:Il prossimo 20 marzo alle 17:00 si terrà al Centro Studi Americani di Roma la presentazione del libro “Tropici americani. L’impero degli Stati Uniti in America Latina nel Novecento”\, di Marco Mariano (Giulio Einaudi editore 2024). \nSALUTI\nRoberto Sgalla\, Direttore\, Centro Studi Americani \nINTERVENTI\nDaniele Fiorentino\, Università Roma Tre\nLaura Fotia\, Università Roma Tre\nMarco Mariano\, Università di Torino \nMODERA\nAnnalisa Capristo\, Biblioteca\, Centro Studi Americani \nPer accreditarsi: library@centrostudiamericani.org
URL:https://www.sissco.it/calendario/presentazione-del-libro-tropici-americani-limpero-degli-stati-uniti-in-america-latina-nel-novecento/
ATTACH;FMTTYPE=image/png:https://www.sissco.it/wp-content/uploads/2025/01/20-marzo_Marco-Mariano-1.png
ORGANIZER;CN="Centro Studi Americani":MAILTO:event@centrostudiamericani.org
END:VEVENT
BEGIN:VEVENT
DTSTART;TZID=Europe/Rome:20250318T150000
DTEND;TZID=Europe/Rome:20250318T170000
DTSTAMP:20260424T001636
CREATED:20250305T174439Z
LAST-MODIFIED:20250305T174439Z
UID:10003099-1742310000-1742317200@www.sissco.it
SUMMARY:A SUMMER OF SHOCKS. America’s Foreign Economic Relations in the 1970s Beyond the Energy Crises
DESCRIPTION:Il 18 marzo si svolgerà al Centro Studi Americani il Seminario di ricerca “A Summer of Shocks: America’s Foreign Economic Relations in the 1970s Beyond the Energy Crises”\, nell’ambito del PRIN 2022 “Italy’s Energy Governance in the Global Economy and Politics”. \nInstitutional greetings \nMarta DASSU’\, Deputy Vice President\, Center for American Studies\, Director Aspenia – Senior Advisor\, European Affairs\, The Aspen Institute Italia\nDonatella STRANGIO\, Director of the Department of Economics Memotef\, La Sapienza Rome University\nPaolo WULZER\, Director\, Department of Humanities and Social Sciences\, University of Naples L’Orientale \nChair: Simone SELVA\, Associate Professor\, University of Naples L’Orientale \nKeynote lecture: Thomas ZEILER\, Professor of History and Director\, Program in International Affairs\, University of Colorado Boulder/Visiting Professor\, University of Naples L’Orientale” \nDiscussants  \nCatherine SCHENK\, Professor of Economic and Social History\, Oxford University\nNathan SUSSMAN\, Professor of International Economics\, and Director\, Centre for Finance and Development\, Geneva Graduate Institute \nOpen floor \nFinal remarks: Marta Dassù\, Donatella Strangio\, Paolo Wulzer \nScientific Committee: Massimo BUCARELLI\, Silvio LABBATE\, Simone SELVA\, Donatella STRANGIO\, Paolo WULZER \n*** La conferenza si terrà in forma ibrida. Per ricevere il link Zoom scrivere a: library@centrostudiamericani.org \n***Gli interventi si terranno in inglese senza traduzione
URL:https://www.sissco.it/calendario/a-summer-of-shocks-americas-foreign-economic-relations-in-the-1970s-beyond-the-energy-crises/
ATTACH;FMTTYPE=image/png:https://www.sissco.it/wp-content/uploads/2025/03/Locandina-18-marzo-2025_2.png
ORGANIZER;CN="Centro Studi Americani":MAILTO:event@centrostudiamericani.org
END:VEVENT
BEGIN:VEVENT
DTSTART;TZID=Europe/Rome:20250206T173000
DTEND;TZID=Europe/Rome:20250206T190000
DTSTAMP:20260424T001636
CREATED:20250131T141759Z
LAST-MODIFIED:20250131T142541Z
UID:10003063-1738863000-1738868400@www.sissco.it
SUMMARY:Presentazione del libro “Divisi. Politica\, società e conflitti nell’America del XXI secolo"
DESCRIPTION:Il prossimo 6 febbraio alle 17.30 si terrà al Centro Studi Americani di Roma la presentazione del libro “Divisi. Politica\, società e conflitti nell’America del XXI secolo”\, di Mattia Diletti.\nL’evento è organizzato in collaborazione con Treccani Libri. \nSALUTI \nRoberto Sgalla\, Direttore\, Centro Studi Americani \nINTERVENGONO \nAlice Ciulla\, Università degli Studi Roma Tre \nMattia Diletti\, Sapienza Università di Roma \nStefano Feltri\, Giornalista ed editorialista \nMODERA \nFulvio Lorefice\, Political Risk Analyst\, FB&Associati \nPer accreditarsi scrivere a: event@centrostudiamericani.org
URL:https://www.sissco.it/calendario/presentazione-tropici-americani-limpero-degli-stati-uniti-in-america-latina-nel-novecento/
ATTACH;FMTTYPE=image/png:https://www.sissco.it/wp-content/uploads/2025/01/Locandina-6-febbraio.png
ORGANIZER;CN="Centro Studi Americani":MAILTO:event@centrostudiamericani.org
END:VEVENT
BEGIN:VEVENT
DTSTART;TZID=Europe/Rome:20241209T170000
DTEND;TZID=Europe/Rome:20241209T193000
DTSTAMP:20260424T001636
CREATED:20241130T193004Z
LAST-MODIFIED:20241130T193004Z
UID:10003024-1733763600-1733772600@www.sissco.it
SUMMARY:Presentazione del libro "Spettri di Clint. L’America del mito nell’opera di Eastwood"
DESCRIPTION:Si svolgerà il 9 dicembre alle ore 17 al Centro Studi Americani la presentazione del libro: “Spettri di Clint. L’America del mito nell’opera di Eastwood” (Baldini+Castoldi\, 2023)\, di Roberto Silvestri e Mariuccia Ciotta\, prefazione di Alessandro Cappabianca\, con un saggio di Anna Camaiti Hostert. \nConverseranno con gli autori MARIUCCIA CIOTTA e ROBERTO SILVESTRI e con ANNA CAMAITI HOSTERT: \nALESSANDRO BOSCHI\nautore radio televisivo \nFRANCO PORCARELLI\nautore e produttore \nL’attore PINO CALABRESE leggerà brevi brani del libro \nPER REGISTRARSI SCRIVERE A: library@centrostudiamericani.org
URL:https://www.sissco.it/calendario/presentazione-del-libro-spettri-di-clint-lamerica-del-mito-nellopera-di-eastwood/
ATTACH;FMTTYPE=image/jpeg:https://www.sissco.it/wp-content/uploads/2024/11/LOCANDINA-9.12.2024-DEF.jpg
ORGANIZER;CN="Centro Studi Americani":MAILTO:event@centrostudiamericani.org
END:VEVENT
BEGIN:VEVENT
DTSTART;TZID=Europe/Rome:20241128T170000
DTEND;TZID=Europe/Rome:20241128T190000
DTSTAMP:20260424T001636
CREATED:20241012T133037Z
LAST-MODIFIED:20241012T133037Z
UID:10002926-1732813200-1732820400@www.sissco.it
SUMMARY:Presentazione del libro “Antisemitismo di carta”
DESCRIPTION:Il 28 novembre alle ore 17 si svolgerà al Centro Studi Americani di Roma la presentazione del libro “Antisemitismo di carta. La stampa italiana e la persecuzione fascista dei giornalisti ebrei” (Carocci 2024)\, a cura di ENRICO SERVENTI LONGHI (Università di Messina). \nSaluti istituzionali \nInterverranno: \nVALERIA GALIMI (Università di Firenze) \nMICAELA PROCACCIA (già Sovrintendente dell’Archivio centrale dello Stato e Presidente Associazione nazionale archivistica italiana) \nModererà: \nANNALISA CAPRISTO (Centro Studi Americani) \nSarà presente il curatore con alcuni autori dei saggi \nPER REGISTRARSI SCRIVERE A: library@centrostudiamericani.org
URL:https://www.sissco.it/calendario/presentazione-del-libro-antisemitismo-di-carta/
ATTACH;FMTTYPE=image/jpeg:https://www.sissco.it/wp-content/uploads/2024/10/LOCANDINA-ORIZZONTALE-ANTISEMITISMO-DI-CARTA.jpg
ORGANIZER;CN="Centro Studi Americani":MAILTO:event@centrostudiamericani.org
END:VEVENT
BEGIN:VEVENT
DTSTART;TZID=Europe/Rome:20241122T180000
DTEND;TZID=Europe/Rome:20241122T193000
DTSTAMP:20260424T001636
CREATED:20241112T162352Z
LAST-MODIFIED:20241114T151731Z
UID:10002981-1732298400-1732303800@www.sissco.it
SUMMARY:Frontiere e alimentazione: le comunità italo-americane
DESCRIPTION:Nell’ambito della terza edizione del Festival della Cultura americana (19-22 novembre 2024) \, dedicato quest’anno ad esplorare il tema “Frontiere: spazi di identità\, conoscenza e partecipazione”\, il 22 novembre alle ore 18.00 si svolgerà al Centro Studi Americani di Roma l’incontro “Frontiere e alimentazione: le comunità italo-americane”. \nPartecipano:\n– Federico Chiaricati\, Assegnista di ricerca\, Università di Parma\n– Giulia Crisanti\, Assegnista di ricerca\, Sapienza Università di Roma e docente a contratto Università di Pisa \nCoordina: Laura Di Renzo\, Professoressa Ordinaria\, Università di Roma Tor Vergata \nWeb:https://centrostudiamericani.org/festival-della-cultura-americana/festival-della-cultura-americana-22-novembre/ \nPer prenotarsi scrivere a: event@centrostudiamericani.org
URL:https://www.sissco.it/calendario/stati-uniti-e-immigrazione-la-frontiera-tra-passato-presente-e-futuro/
ATTACH;FMTTYPE=image/png:https://www.sissco.it/wp-content/uploads/2024/11/22-novembre.png
ORGANIZER;CN="Centro Studi Americani":MAILTO:event@centrostudiamericani.org
END:VEVENT
BEGIN:VEVENT
DTSTART;TZID=Europe/Rome:20241121T180000
DTEND;TZID=Europe/Rome:20241121T193000
DTSTAMP:20260424T001636
CREATED:20241112T212625Z
LAST-MODIFIED:20241112T212822Z
UID:10002983-1732212000-1732217400@www.sissco.it
SUMMARY:Stati Uniti e immigrazione\, la Frontiera tra passato\, presente e futuro
DESCRIPTION:Nell’ambito della terza edizione del Festival della Cultura americana (19-22 novembre 2024) \, dedicato quest’anno ad esplorare il tema “Frontiere: spazi di identità\, conoscenza e partecipazione”\, il 21 novembre alle ore 18.00 si svolgerà al Centro Studi Americani di Roma l’incontro “Stati Uniti e immigrazione\, la Frontiera tra passato\, presente e futuro”. \nRelatori:\n– Claudia Bernardi (Università di Perugia)\, autrice del volume “Una storia di confine. Frontiere e lavoratori migranti tra Messico e Stati Uniti (1836-1964)”\, Carocci 2018\n– Stefano Luconi (Università degli Studi di Padova) e Matteo Pretelli (Università di Napoli “L’Orientale”)\, autori del volume “«Nazione di immigrati» o «fortezza America»? Gli Stati Uniti e le minoranze etniche nel XXI secolo”\, Mondadori Università 2024\n– Michele Colucci (CNR e Roma Tre)\, autore con Stefano Gallo del volume “L’emigrazione italiana. Storia e documenti”\, Morcelliana 2023 \nModera: Oliviero Bergamini (RAI) \nWeb: https://centrostudiamericani.org/festival-della-cultura-americana/festival-della-cultura-americana-21-novembre/ \nPer prenotarsi scrivere a: event@centrostudiamericani.org
URL:https://www.sissco.it/calendario/stati-uniti-e-immigrazione-la-frontiera-tra-passato-presente-e-futuro-2/
ATTACH;FMTTYPE=image/png:https://www.sissco.it/wp-content/uploads/2024/11/immigrazione-1.png
ORGANIZER;CN="Centro Studi Americani":MAILTO:event@centrostudiamericani.org
END:VEVENT
BEGIN:VEVENT
DTSTART;TZID=Europe/Rome:20240923T170000
DTEND;TZID=Europe/Rome:20240923T190000
DTSTAMP:20260424T001636
CREATED:20240908T193546Z
LAST-MODIFIED:20240908T193546Z
UID:10002891-1727110800-1727118000@www.sissco.it
SUMMARY:Presentazione del libro “Italiani d’America: La grande emigrazione negli Stati Uniti”
DESCRIPTION:Si terrà al Centro Studi Americani il prossimo 23 settembre alle ore 17 la presentazione del libro di Mario Avagliano e Marco Palmieri\, “Italiani d’America: La grande emigrazione negli Stati Uniti” (il Mulino 2024).\nIntervergono:\nGregory Alegi (Università LUISS)\nMauro Canali (Università di Camerino)\nPaolo Masini (Museo Nazionale dell’Emigrazione Italiana)\nIntroduce e coordina:\nGiulia Crisanti (Sapienza Università di Roma)\nIntermezzo musicale a cura di Antonio Zirilli\nSaranno presenti gli autori.\nEVENTO IN PRESENZA — PER REGISTRARSI SCRIVERE A: library@centrostudiamericani.org
URL:https://www.sissco.it/calendario/presentazione-del-libro-italiani-damerica-la-grande-emigrazione-negli-stati-uniti/
ATTACH;FMTTYPE=image/jpeg:https://www.sissco.it/wp-content/uploads/2024/09/458373800_1965865783837472_8462938930325612058_n.jpg
ORGANIZER;CN="Centro Studi Americani":MAILTO:event@centrostudiamericani.org
END:VEVENT
BEGIN:VEVENT
DTSTART;TZID=Europe/Rome:20240917T170000
DTEND;TZID=Europe/Rome:20240917T190000
DTSTAMP:20260424T001636
CREATED:20240828T085639Z
LAST-MODIFIED:20240828T085639Z
UID:10002888-1726592400-1726599600@www.sissco.it
SUMMARY:Presentazione del libro “Donne e impero nell’Ottocento americano” di Serena Mocci
DESCRIPTION:Si terrà il prossimo 17 settembre alle ore 17 la presentazione del libro di SERENA MOCCI (Università di Bologna)\, Donne e impero nell’Ottocento americano. La cultura politica di Lydia Maria Child e Margaret Fuller (Viella 2023). \nInterverranno: \nSARA ANTONELLI (Università Roma Tre)\nDANIELE FIORENTINO (Università Roma Tre) \nModererà:\nEMANUELE MONACO (Università di Bologna) \nSarà presente l’autrice. \nEVENTO IN PRESENZA — PER REGISTRARSI SCRIVERE A: library@centrostudiamericani.org
URL:https://www.sissco.it/calendario/presentazione-del-libro-donne-e-impero-nellottocento-americano-di-serena-mocci/
ATTACH;FMTTYPE=image/jpeg:https://www.sissco.it/wp-content/uploads/2024/08/COPERTINA-PER-SITO-MOCCI.jpg
ORGANIZER;CN="Centro Studi Americani":MAILTO:event@centrostudiamericani.org
END:VEVENT
BEGIN:VEVENT
DTSTART;TZID=Europe/Rome:20161027T170000
DTEND;TZID=Europe/Rome:20161027T235900
DTSTAMP:20260424T001636
CREATED:20161021T201437Z
LAST-MODIFIED:20161021T201605Z
UID:10001559-1477587600-1477612740@www.sissco.it
SUMMARY:Censors: How States Shaped Literature
DESCRIPTION:Keynote speech del prof. Robert Darnton\,  Emerito all’Università di Harvard\, in occasione del conferimento del Premio Internazionale “Le Cattedrali Letterarie Europee”\, giunto alla sua X edizione. \nLa manifestazione è organizzata dal Centro Studi Americani in collaborazione con l’Associazione Culturale Eureka.
URL:https://www.sissco.it/calendario/censors-how-states-shaped-literature/
LOCATION:Centro Studi Americani\, Via Michelangelo Caetani\, 32\, Roma\, 00186\, Italia
CATEGORIES:Inaugurazione di evento culturale
ORGANIZER;CN="Centro Studi Americani":MAILTO:event@centrostudiamericani.org
END:VEVENT
END:VCALENDAR