BEGIN:VCALENDAR
VERSION:2.0
PRODID:-//SISSCO - ECPv6.15.20//NONSGML v1.0//EN
CALSCALE:GREGORIAN
METHOD:PUBLISH
X-ORIGINAL-URL:https://www.sissco.it
X-WR-CALDESC:Eventi per SISSCO
REFRESH-INTERVAL;VALUE=DURATION:PT1H
X-Robots-Tag:noindex
X-PUBLISHED-TTL:PT1H
BEGIN:VTIMEZONE
TZID:Europe/Rome
BEGIN:DAYLIGHT
TZOFFSETFROM:+0100
TZOFFSETTO:+0200
TZNAME:CEST
DTSTART:20200329T010000
END:DAYLIGHT
BEGIN:STANDARD
TZOFFSETFROM:+0200
TZOFFSETTO:+0100
TZNAME:CET
DTSTART:20201025T010000
END:STANDARD
BEGIN:DAYLIGHT
TZOFFSETFROM:+0100
TZOFFSETTO:+0200
TZNAME:CEST
DTSTART:20210328T010000
END:DAYLIGHT
BEGIN:STANDARD
TZOFFSETFROM:+0200
TZOFFSETTO:+0100
TZNAME:CET
DTSTART:20211031T010000
END:STANDARD
BEGIN:DAYLIGHT
TZOFFSETFROM:+0100
TZOFFSETTO:+0200
TZNAME:CEST
DTSTART:20220327T010000
END:DAYLIGHT
BEGIN:STANDARD
TZOFFSETFROM:+0200
TZOFFSETTO:+0100
TZNAME:CET
DTSTART:20221030T010000
END:STANDARD
END:VTIMEZONE
BEGIN:VEVENT
DTSTART;VALUE=DATE:20210315
DTEND;VALUE=DATE:20210316
DTSTAMP:20260419T194616
CREATED:20210216T094955Z
LAST-MODIFIED:20210216T094955Z
UID:10002153-1615766400-1615852799@www.sissco.it
SUMMARY:The Quest of Empire in Modern and Contemporary Era: Order or Revolution?
DESCRIPTION: On behalf of the Department of Political and Social Studies (DISPS) of the University of Salerno\, some information regarding the upcoming conference The quest of the Empire in the modern or contemporary era: order or revolution?\nThe event\, hosted by the DISPS\, will take place on the15th of March 2021 at 14:00 (GMT+1\, or Rome time). The conference will include interventions from several scholars (both local and international) who have focused their research on the topics of empire\, imperial encounters\, modernity and race in the fields of Political Science\, History\, International Relations\, Sociology and the permeable boundaries between these disciplines. \nThe scientific committee is formed by Professors Chiara d’Auria\, Virginia Zambrano and Giuseppe Foscari\, all three from the DISPS.\nIn addition\, Professor Chiara d’Auria will also be the President and moderator of the conference. The event will be held completely in English and virtually through the Teams platform\, at the following link:\n  \nhttps://bit.ly/2ZdRXVm \n  \n 
URL:https://www.sissco.it/calendario/the-quest-of-empire-in-modern-and-contemporary-era-order-or-revolution/
LOCATION:Università di Salerno – Dipartimento di Studi Politici e Sociali\, Via Giovanni Paolo II\, Fisciano (SA)\, 84084\, Italia
CATEGORIES:Convegno
ORGANIZER;CN="Chiara d%E2%80%99Auria":MAILTO:chdauria@unisa.it
END:VEVENT
END:VCALENDAR