BEGIN:VCALENDAR
VERSION:2.0
PRODID:-//SISSCO - ECPv6.15.20//NONSGML v1.0//EN
CALSCALE:GREGORIAN
METHOD:PUBLISH
X-ORIGINAL-URL:https://www.sissco.it
X-WR-CALDESC:Eventi per SISSCO
REFRESH-INTERVAL;VALUE=DURATION:PT1H
X-Robots-Tag:noindex
X-PUBLISHED-TTL:PT1H
BEGIN:VTIMEZONE
TZID:Europe/Rome
BEGIN:DAYLIGHT
TZOFFSETFROM:+0100
TZOFFSETTO:+0200
TZNAME:CEST
DTSTART:20240331T010000
END:DAYLIGHT
BEGIN:STANDARD
TZOFFSETFROM:+0200
TZOFFSETTO:+0100
TZNAME:CET
DTSTART:20241027T010000
END:STANDARD
BEGIN:DAYLIGHT
TZOFFSETFROM:+0100
TZOFFSETTO:+0200
TZNAME:CEST
DTSTART:20250330T010000
END:DAYLIGHT
BEGIN:STANDARD
TZOFFSETFROM:+0200
TZOFFSETTO:+0100
TZNAME:CET
DTSTART:20251026T010000
END:STANDARD
BEGIN:DAYLIGHT
TZOFFSETFROM:+0100
TZOFFSETTO:+0200
TZNAME:CEST
DTSTART:20260329T010000
END:DAYLIGHT
BEGIN:STANDARD
TZOFFSETFROM:+0200
TZOFFSETTO:+0100
TZNAME:CET
DTSTART:20261025T010000
END:STANDARD
END:VTIMEZONE
BEGIN:VEVENT
DTSTART;TZID=Europe/Rome:20250514T170000
DTEND;TZID=Europe/Rome:20250514T190000
DTSTAMP:20260419T185114
CREATED:20250509T070827Z
LAST-MODIFIED:20250509T070947Z
UID:10003188-1747242000-1747249200@www.sissco.it
SUMMARY:Presentazione Meta (Na): I grandi eroi italiani della seconda guerra mondiale
DESCRIPTION:A differenza degli altri Paesi belligeranti\, non si può dire che l’Italia abbia fatto pienamente i conti con la seconda guerra mondiale (né del resto con il fascismo). Una delle conseguenze è l’oblio caduto su molti dei militari che\, dopo l’armistizio dell’8 settembre 1943 e il disorientamento che ne seguì\, affrontarono il nazifascismo con eroico sacrificio patriottico. Alcuni diventarono partigiani\, altri combatterono nelle file dell’esercito regolare; alcuni sono stati insigniti di elogi e onorificenze\, di altri si è conosciuto a malapena il nome. Quasi tutti\, oggi\, sono stati ingiustamente dimenticati\, vittime di retoriche “nostalgiche” o al contrario di un malinteso pacifismo. Ma senza di loro nemmeno la Resistenza sarebbe stata possibile. Giovanni Cecini offre ai lettori una galleria di figure eroiche\, capaci di restituire dignità all’Italia durante il conflitto mondiale\, in molti casi cadute in combattimento o comunque vittime del nemico. Il racconto\, spesso inedito\, delle loro storie e del loro straordinario coraggio può contribuire finalmente alla costruzione di una memoria condivisa\, e storicamente accurata\, della guerra di Liberazione che ha sconfitto una volta per tutte la barbarie nazifascista e le sue atrocità.
URL:https://www.sissco.it/calendario/presentazione-meta-na-i-grandi-eroi-italiani-della-seconda-guerra-mondiale/
ATTACH;FMTTYPE=image/jpeg:https://www.sissco.it/wp-content/uploads/2025/05/14-maggio-Cecini.jpg
END:VEVENT
END:VCALENDAR