BEGIN:VCALENDAR
VERSION:2.0
PRODID:-//SISSCO - ECPv6.15.20//NONSGML v1.0//EN
CALSCALE:GREGORIAN
METHOD:PUBLISH
X-WR-CALNAME:SISSCO
X-ORIGINAL-URL:https://www.sissco.it
X-WR-CALDESC:Eventi per SISSCO
REFRESH-INTERVAL;VALUE=DURATION:PT1H
X-Robots-Tag:noindex
X-PUBLISHED-TTL:PT1H
BEGIN:VTIMEZONE
TZID:Europe/Rome
BEGIN:DAYLIGHT
TZOFFSETFROM:+0100
TZOFFSETTO:+0200
TZNAME:CEST
DTSTART:20170326T010000
END:DAYLIGHT
BEGIN:STANDARD
TZOFFSETFROM:+0200
TZOFFSETTO:+0100
TZNAME:CET
DTSTART:20171029T010000
END:STANDARD
BEGIN:DAYLIGHT
TZOFFSETFROM:+0100
TZOFFSETTO:+0200
TZNAME:CEST
DTSTART:20180325T010000
END:DAYLIGHT
BEGIN:STANDARD
TZOFFSETFROM:+0200
TZOFFSETTO:+0100
TZNAME:CET
DTSTART:20181028T010000
END:STANDARD
BEGIN:DAYLIGHT
TZOFFSETFROM:+0100
TZOFFSETTO:+0200
TZNAME:CEST
DTSTART:20190331T010000
END:DAYLIGHT
BEGIN:STANDARD
TZOFFSETFROM:+0200
TZOFFSETTO:+0100
TZNAME:CET
DTSTART:20191027T010000
END:STANDARD
END:VTIMEZONE
BEGIN:VEVENT
DTSTART;TZID=Europe/Rome:20180927T100000
DTEND;TZID=Europe/Rome:20180927T235900
DTSTAMP:20260420T103812
CREATED:20180725T212920Z
LAST-MODIFIED:20180925T080049Z
UID:10000571-1538042400-1538092740@www.sissco.it
SUMMARY:What happened in the library? Cosa è successo in biblioteca?
DESCRIPTION:What happened in the library? Cosa è successo in biblioteca?\nLettori e biblioteche tra indagine storica e problemi attuali. Readers and libraries from historical investigations to current issues\nInternational Research Conference Seminario internazionale di ricerca\nRoma\, Sapienza Università di Roma\, Aula Odeion\, 27-28 settembre 2018 \nIl convegno si propone di dare un contributo di stimolo e di sollecitazione problematica agli studi di storia delle biblioteche\, soprattutto per l’età contemporanea.\nMa vuole contribuire anche alla ricerca e alla riflessione biblioteconomica\, sulla realtà attuale\, le prospettive e le strategie da perseguire per lo sviluppo delle biblioteche (soprattutto\, ma non solo\, le biblioteche pubbliche). L’ipotesi di lavoro è che tramite nuove ricerche originali e confronti sulle iniziative in corso in vari paesi si possa comprendere meglio l’importanza che le biblioteche hanno avuto\, soprattutto per la formazione e la crescita culturale ma anche personale di tanti lettori\, e che questa ricerca storica possa dare un contributo importante\, concreto e realistico\, alla comprensione del ruolo sociale delle biblioteche oggi e a una più solida progettazione della loro attività in una società in rapido cambiamento e attraversata da molteplici tensioni.\nLa storia delle biblioteche\, soprattutto in età contemporanea\, conosce da una ventina d’anni una stagione molto vivace\, in Italia e in vari altri paesi\, con interessi e prospettive che mostrano profonde consonanze. Nella ‘nuova stagione’ della storia delle biblioteche ha avuto un ruolo importante\, non solo in Italia\, lo spostamento d’attenzione dalla storia delle raccolte (e dell’autolegittimazione degli istituti e della professione) al contesto istituzionale e soprattutto\na quello socio-politico.
URL:https://www.sissco.it/calendario/what-happened-in-the-library-cosa-e-successo-in-biblioteca-lettori-e-biblioteche-tra-indagine-storica-e-problemi-attuali-readers-and-libraries-from-historical-investigations-to-current-issues/
CATEGORIES:Convegno
ORGANIZER;CN="Dipartimento di scienze documentarie%2C linguistico-filologiche e geografiche":MAILTO:whitlconference@gmail.com
END:VEVENT
END:VCALENDAR