BEGIN:VCALENDAR
VERSION:2.0
PRODID:-//SISSCO - ECPv6.15.20//NONSGML v1.0//EN
CALSCALE:GREGORIAN
METHOD:PUBLISH
X-WR-CALNAME:SISSCO
X-ORIGINAL-URL:https://www.sissco.it
X-WR-CALDESC:Eventi per SISSCO
REFRESH-INTERVAL;VALUE=DURATION:PT1H
X-Robots-Tag:noindex
X-PUBLISHED-TTL:PT1H
BEGIN:VTIMEZONE
TZID:Europe/Rome
BEGIN:DAYLIGHT
TZOFFSETFROM:+0100
TZOFFSETTO:+0200
TZNAME:CEST
DTSTART:20230326T010000
END:DAYLIGHT
BEGIN:STANDARD
TZOFFSETFROM:+0200
TZOFFSETTO:+0100
TZNAME:CET
DTSTART:20231029T010000
END:STANDARD
BEGIN:DAYLIGHT
TZOFFSETFROM:+0100
TZOFFSETTO:+0200
TZNAME:CEST
DTSTART:20240331T010000
END:DAYLIGHT
BEGIN:STANDARD
TZOFFSETFROM:+0200
TZOFFSETTO:+0100
TZNAME:CET
DTSTART:20241027T010000
END:STANDARD
BEGIN:DAYLIGHT
TZOFFSETFROM:+0100
TZOFFSETTO:+0200
TZNAME:CEST
DTSTART:20250330T010000
END:DAYLIGHT
BEGIN:STANDARD
TZOFFSETFROM:+0200
TZOFFSETTO:+0100
TZNAME:CET
DTSTART:20251026T010000
END:STANDARD
BEGIN:DAYLIGHT
TZOFFSETFROM:+0100
TZOFFSETTO:+0200
TZNAME:CEST
DTSTART:20260329T010000
END:DAYLIGHT
BEGIN:STANDARD
TZOFFSETFROM:+0200
TZOFFSETTO:+0100
TZNAME:CET
DTSTART:20261025T010000
END:STANDARD
END:VTIMEZONE
BEGIN:VEVENT
DTSTART;TZID=Europe/Rome:20251202T150000
DTEND;TZID=Europe/Rome:20251202T180000
DTSTAMP:20260423T231150
CREATED:20251126T102156Z
LAST-MODIFIED:20251126T102520Z
UID:10003365-1764687600-1764698400@www.sissco.it
SUMMARY:Presentazione del volume "Dire\, fare\, votare. Nei teatri per il suffragio. La mobilitazione del 1880-1881 in Italia a favore della riforma elettorale"
DESCRIPTION:Seminario di discussione a partire dal volume “Dire\, fare\, votare. Nei teatri per il suffragio. La mobilitazione del 1880-1881 in Italia a favore della riforma elettorale”\, affinità elettive\, Ancona\, 2025\, pubblicato all’interno del PRIN 2022-KS4TMT Dire\, fare\, votare. Mobilitazione per la cittadinanza politica nell’età del suffragio (1819-1920): l’Italia nello spazio euro-atlantico.
URL:https://www.sissco.it/calendario/presentazione-del-volume-dire-fare-votare-nei-teatri-per-il-suffragio-la-mobilitazione-del-1880-1881-in-italia-a-favore-della-riforma-elettorale/
ATTACH;FMTTYPE=image/jpeg:https://www.sissco.it/wp-content/uploads/2025/11/PHOTO-2025-11-21-15-31-35.jpg
END:VEVENT
BEGIN:VEVENT
DTSTART;TZID=Europe/Rome:20250311T173000
DTEND;TZID=Europe/Rome:20250311T200000
DTSTAMP:20260423T231150
CREATED:20250307T171748Z
LAST-MODIFIED:20250307T171808Z
UID:10003101-1741714200-1741723200@www.sissco.it
SUMMARY:Clioscopio – Benigno\, 𝑳𝒂 𝑺𝒕𝒐𝒓𝒊𝒂 𝒂𝒍 𝒕𝒆𝒎𝒑𝒐 𝒅𝒆𝒍𝒍’𝒐𝒈𝒈𝒊\, 𝑩𝒐𝒍𝒐𝒈𝒏𝒂\, 𝑰𝒍 𝑴𝒖𝒍𝒊𝒏𝒐\, 2024
DESCRIPTION:Torna alla Domus Mazziniana il ciclo 𝑪𝒍𝒊𝒐𝒔𝒄𝒐𝒑𝒊𝒐 – 𝑰 𝒑𝒓𝒐𝒃𝒍𝒆𝒎𝒊 𝒅𝒆𝒍 𝒑𝒓𝒆𝒔𝒆𝒏𝒕𝒆\, 𝒍𝒐 𝒔𝒈𝒖𝒂𝒓𝒅𝒐 𝒅𝒆𝒍𝒍𝒂 𝑺𝒕𝒐𝒓𝒊𝒂\n📅 𝐌𝐚𝐫𝐭𝐞𝐝𝐢̀ 𝟏𝟏 𝐦𝐚𝐫𝐳𝐨\, 𝐨𝐫𝐞 𝟏𝟕.𝟒𝟓\n       dialogo a partire dal libro di 𝐅𝐫𝐚𝐧𝐜𝐞𝐬𝐜𝐨 𝐁𝐞𝐧𝐢𝐠𝐧𝐨\n𝑳𝒂 𝑺𝒕𝒐𝒓𝒊𝒂 𝒂𝒍 𝒕𝒆𝒎𝒑𝒐 𝒅𝒆𝒍𝒍’𝒐𝒈𝒈𝒊\, 𝑩𝒐𝒍𝒐𝒈𝒏𝒂\, 𝑰𝒍 𝑴𝒖𝒍𝒊𝒏𝒐\, 2024
URL:https://www.sissco.it/calendario/clioscopio-benigno-%f0%9d%91%b3%f0%9d%92%82-%f0%9d%91%ba%f0%9d%92%95%f0%9d%92%90%f0%9d%92%93%f0%9d%92%8a%f0%9d%92%82-%f0%9d%92%82%f0%9d%92%8d-%f0%9d%92%95%f0%9d%92%86%f0%9d%92%8e%f0%9d%92%91/
END:VEVENT
BEGIN:VEVENT
DTSTART;TZID=Europe/Rome:20250308T100000
DTEND;TZID=Europe/Rome:20250308T113000
DTSTAMP:20260423T231150
CREATED:20250306T151956Z
LAST-MODIFIED:20250306T151956Z
UID:10003100-1741428000-1741433400@www.sissco.it
SUMMARY:Presentazione di "Il Mazzinianesimo nel Mondo" vol. V - 2024
DESCRIPTION:Presentazione in anteprima riservata ai soci della Domus Mazziniana del nuovo volume de “Il Mazzinianesimo nel mondo” che ospita gli atti del convegno internazionale di studi “Giuseppe Mazzini: “La Patria è la casa dell’uomo\, non dello schiavo”. Origine e sviluppi di un’idea di patria fondata sulla libertà”\, tenutosi all’Università di Genova in occasione del 150° anniversario della morte di Giuseppe Mazzini il 10 e 11 giugno 2022 con la collaborazione del Comitato Nazionale per le celebrazioni e della Domus Mazziniana. Il volume è curato da Alberto De Sanctis\, Carlo Morganti e Pietro Finelli
URL:https://www.sissco.it/calendario/presentazione-di-il-mazzinianesimo-nel-mondo-vol-v-2024/
ATTACH;FMTTYPE=image/png:https://www.sissco.it/wp-content/uploads/2025/03/copertina_0001_def.png
END:VEVENT
BEGIN:VEVENT
DTSTART;TZID=Europe/Rome:20250304T173000
DTEND;TZID=Europe/Rome:20250304T190000
DTSTAMP:20260423T231150
CREATED:20250228T134624Z
LAST-MODIFIED:20250228T134624Z
UID:10003092-1741109400-1741114800@www.sissco.it
SUMMARY:Storia e leggenda della Rus' di Kiev
DESCRIPTION:Martedì 4 marzo segnaliamo il terzo incontro del ciclo Clioscopio che avrà al centro l’ultimo volume di Ettore Cinnella sulla Rus di Kiev.\nUn’occasione per cercare nel passato il presente del conflitto ucraino
URL:https://www.sissco.it/calendario/storia-e-leggenda-della-rus-di-kiev/
END:VEVENT
BEGIN:VEVENT
DTSTART;TZID=Europe/Rome:20250303T180000
DTEND;TZID=Europe/Rome:20250303T193000
DTSTAMP:20260423T231150
CREATED:20250228T151949Z
LAST-MODIFIED:20250301T094414Z
UID:10003093-1741024800-1741030200@www.sissco.it
SUMMARY:Uno spazio a parte. L’accoglienza dei profughi in Puglia tra guerra e dopoguerra.
DESCRIPTION:Presentazione del volume “Rifugiati in Terra di Bari e Salento 1943-1947” di Anna Gervasio \, Paolo Pisacane \, Raffaele Pellegrino \, Vito Antonio Leuzzi\nDopo l’armistizio dell’8 settembre 1943 la Puglia divenne terra di accoglienza per profughi italiani e stranieri di diversa nazionalità\, in un territorio libero e in un dopoguerra anticipato rispetto al resto del Paese. Sotto il controllo degli Alleati\, e con il sostegno dell’UNRRA\, furono allestiti dei Centri che accolsero prima una gran massa di persone in fuga dal terrore nazista che imperversava nei Balcani e\, in seguito\, molti sopravvissuti alle politiche razziali e di annientamento del terzo Reich.\nIn questa ulteriore ricerca dell’IPSAIC sui “Luoghi della memoria” si ragiona sul loro significato\, si ricostruiscono alcune sedi di permanenza dei profughi in Terra di Bari e nell’estremo lembo del Salento\, si recuperano testimonianze e si presenta un inventario del ricco materiale documentario e fotografico relativo alla singolare vicenda di una comunità\, quella di Santa Maria al Bagno\, frazione di Nardò\, che si distinse per le spontanee manifestazioni solidaristiche verso gli esuli\, ancora legati alle idee di libertà\, amicizia e fiducia in una nuova vita.\nPartecipano all’evento\nANNA GERVASIO (direttrice Istituto pugliese per la Storia dell’ Antifascismo e dell’Italia contemporanea)\ne\nARMANDO SESTANI (Istituto storico della Resistenza e dell’età̀ contemporanea in provincia di Lucca)\, autore di “Esuli a Lucca. I profughi istriani\, fiumani e dalmati. 1947-56”\, Lucca\, MPF\, 2015.\ncoordina\nPIETRO FINELLI (Domus Mazziniana)
URL:https://www.sissco.it/calendario/il-sorriso-della-patria-laccoglienza-dei-profughi-istriani-fiumani-e-dalmati-in-italia-tra-guerra-e-dopoguerra/
ATTACH;FMTTYPE=image/jpeg:https://www.sissco.it/wp-content/uploads/2025/02/Gervasio_dettaglio-1.jpg
END:VEVENT
BEGIN:VEVENT
DTSTART;TZID=Europe/Rome:20250206T110000
DTEND;TZID=Europe/Rome:20250206T180000
DTSTAMP:20260423T231150
CREATED:20250131T102003Z
LAST-MODIFIED:20250131T102003Z
UID:10003060-1738839600-1738864800@www.sissco.it
SUMMARY:Workshop Lessico per la Repubblica.  Dal Risorgimento all’Unione Europea
DESCRIPTION:Workshop Lessico per la Repubblica.  Dal Risorgimento all’Unione Europea – Prin Lessico per la Repubblica. Dall’autogoverno comunale all’Europa unita – Unità di Pisa\nGiovedì 6 febbraio 2025\, Domus Mazziniana\, via Massimo d’Azeglio 14\, Pisa\, ore 11:00-18:00
URL:https://www.sissco.it/calendario/workshop-lessico-per-la-repubblica-dal-risorgimento-allunione-europea/
ATTACH;FMTTYPE=image/jpeg:https://www.sissco.it/wp-content/uploads/2025/01/lessico-repubblica_workshop_06022025_page-0001.jpg
END:VEVENT
BEGIN:VEVENT
DTSTART;TZID=Europe/Rome:20241008T100000
DTEND;TZID=Europe/Rome:20241008T130000
DTSTAMP:20260423T231150
CREATED:20241007T070628Z
LAST-MODIFIED:20241007T070628Z
UID:10002915-1728381600-1728392400@www.sissco.it
SUMMARY:Pier Paolo Portinari “Schiller\, Alfieri e gli altri. La nascita del teatro politico nell’età delle rivoluzioni”
DESCRIPTION:Nell’ambito del ciclo di seminari Lung8ttocento\, presso la Domus Mazziniana si svolgerà \nMartedì 8 ottobre alle ore 10.00 \nL’incontro con Pier Paolo Portinari “Schiller\, Alfieri e gli altri. La nascita del teatro politico nell’età delle rivoluzioni”
URL:https://www.sissco.it/calendario/pier-paolo-portinari-schiller-alfieri-e-gli-altri-la-nascita-del-teatro-politico-nelleta-delle-rivoluzioni/
ATTACH;FMTTYPE=image/jpeg:https://www.sissco.it/wp-content/uploads/2024/10/Portinaro.jpg
END:VEVENT
BEGIN:VEVENT
DTSTART;TZID=Europe/Rome:20240509T160000
DTEND;TZID=Europe/Rome:20240509T180000
DTSTAMP:20260423T231150
CREATED:20240410T092742Z
LAST-MODIFIED:20240507T113023Z
UID:10002790-1715270400-1715277600@www.sissco.it
SUMMARY:Questa non è histoire-bataille: riflessioni intorno a una ricerca (Marengo\, 14 giugno 1800)
DESCRIPTION:Ciclio di seminari di Storia dell’età delle rivoluzioni e del Risorgimento: LungOttocento \nGianluca Albergoni (Università di Pavia) \nQuesta non è histoire-bataille: riflessioni intorno a una ricerca (Marengo\, 14 giungo 1800) \nGiovedì 9 Maggio 2024\nOre 16:00\nAula Savi (via Porta Buozzi 3\, Pisa) \nIl seminario sarà trasmesso su Teams al link: https://www.cfs.unipi.it/c/240509-albergoni \nPer informazioni:\ngianluca.fruci@unipi.it\neventi@domusmazziniana.it
URL:https://www.sissco.it/calendario/questa-non-e-histoire-bataille-riflessioni-intorno-a-una-ricerca-marengo-14-giugno-1800/
LOCATION:Aula Savi – Università di Pisa\, via Porta Buozzi 3\, Pisa
CATEGORIES:Seminario
ATTACH;FMTTYPE=image/jpeg:https://www.sissco.it/wp-content/uploads/2024/04/seminari-lungottocento_9maggio.jpg
ORGANIZER;CN="Centro Interuniversitario di Storia Culturale (CSC)":MAILTO:centro.storiaculturale@unipd.it 
END:VEVENT
BEGIN:VEVENT
DTSTART;TZID=Europe/Rome:20240507T170000
DTEND;TZID=Europe/Rome:20240507T190000
DTSTAMP:20260423T231150
CREATED:20240506T192926Z
LAST-MODIFIED:20240506T192926Z
UID:10002824-1715101200-1715108400@www.sissco.it
SUMMARY:A forza di essere vento
DESCRIPTION:La persecuzione di rom e sinti nell’ Italia fascista
URL:https://www.sissco.it/calendario/a-forza-di-essere-vento/
LOCATION:Domus Mazziniana\, via M. d'Azeglio\, 14\, Pisa\, Italia
CATEGORIES:Presentazione di libro/i
ATTACH;FMTTYPE=image/jpeg:https://www.sissco.it/wp-content/uploads/2024/05/IMG-20240506-WA0003.jpg
END:VEVENT
BEGIN:VEVENT
DTSTART;TZID=Europe/Rome:20240418T160000
DTEND;TZID=Europe/Rome:20240418T180000
DTSTAMP:20260423T231150
CREATED:20240410T091931Z
LAST-MODIFIED:20240416T120317Z
UID:10002789-1713456000-1713463200@www.sissco.it
SUMMARY:Come fare cose coi giuramenti: la fedeltà politica nell’età delle rivoluzioni [Seminario Online]
DESCRIPTION:Ciclo di seminari di Storia dell’età delle rivoluzioni e del Risorgimento: LungOttocento \nFrancesco Buscemi (Rijksuniversiteit Groningen) \nCome fare cose coi giuramenti: la fedeltà politica nell’età delle rivoluzioni \nGiovedì 18 Aprile 2024\nEvento Online: \nLink Microsoft Teams: https://www.cfs.unipi.it/c/240418-buscemi \nIl seminario sarà trasmesso sui canali social della Domus Mazziniana (https://www.facebook.com/domusmazziniana) \nPer informazioni:\ngianluca.fruci@unipi.it\neventi@domusmazziniana.it
URL:https://www.sissco.it/calendario/come-fare-cose-coi-giuramenti-la-fedelta-politica-nelleta-delle-rivoluzioni/
CATEGORIES:Seminario
ATTACH;FMTTYPE=image/jpeg:https://www.sissco.it/wp-content/uploads/2024/04/seminari-lungottocento_18aprile.jpg
ORGANIZER;CN="Centro Interuniversitario di Storia Culturale (CSC)":MAILTO:centro.storiaculturale@unipd.it 
END:VEVENT
END:VCALENDAR