BEGIN:VCALENDAR
VERSION:2.0
PRODID:-//SISSCO - ECPv6.15.20//NONSGML v1.0//EN
CALSCALE:GREGORIAN
METHOD:PUBLISH
X-WR-CALNAME:SISSCO
X-ORIGINAL-URL:https://www.sissco.it
X-WR-CALDESC:Eventi per SISSCO
REFRESH-INTERVAL;VALUE=DURATION:PT1H
X-Robots-Tag:noindex
X-PUBLISHED-TTL:PT1H
BEGIN:VTIMEZONE
TZID:Europe/Rome
BEGIN:DAYLIGHT
TZOFFSETFROM:+0100
TZOFFSETTO:+0200
TZNAME:CEST
DTSTART:20170326T010000
END:DAYLIGHT
BEGIN:STANDARD
TZOFFSETFROM:+0200
TZOFFSETTO:+0100
TZNAME:CET
DTSTART:20171029T010000
END:STANDARD
BEGIN:DAYLIGHT
TZOFFSETFROM:+0100
TZOFFSETTO:+0200
TZNAME:CEST
DTSTART:20180325T010000
END:DAYLIGHT
BEGIN:STANDARD
TZOFFSETFROM:+0200
TZOFFSETTO:+0100
TZNAME:CET
DTSTART:20181028T010000
END:STANDARD
BEGIN:DAYLIGHT
TZOFFSETFROM:+0100
TZOFFSETTO:+0200
TZNAME:CEST
DTSTART:20190331T010000
END:DAYLIGHT
BEGIN:STANDARD
TZOFFSETFROM:+0200
TZOFFSETTO:+0100
TZNAME:CET
DTSTART:20191027T010000
END:STANDARD
BEGIN:DAYLIGHT
TZOFFSETFROM:+0100
TZOFFSETTO:+0200
TZNAME:CEST
DTSTART:20200329T010000
END:DAYLIGHT
BEGIN:STANDARD
TZOFFSETFROM:+0200
TZOFFSETTO:+0100
TZNAME:CET
DTSTART:20201025T010000
END:STANDARD
BEGIN:DAYLIGHT
TZOFFSETFROM:+0100
TZOFFSETTO:+0200
TZNAME:CEST
DTSTART:20210328T010000
END:DAYLIGHT
BEGIN:STANDARD
TZOFFSETFROM:+0200
TZOFFSETTO:+0100
TZNAME:CET
DTSTART:20211031T010000
END:STANDARD
END:VTIMEZONE
BEGIN:VEVENT
DTSTART;TZID=Europe/Rome:20200206T170000
DTEND;TZID=Europe/Rome:20200206T170000
DTSTAMP:20260423T075255
CREATED:20200128T111433Z
LAST-MODIFIED:20200128T111433Z
UID:10000848-1581008400-1581008400@www.sissco.it
SUMMARY:La storia sul grande schermo. Risorgimento e Resistenza nel cinema tra Ricostruzione e miracolo economico
DESCRIPTION:Presentazione del libro \ngiovedì 6 febbraio 2020 ore 17.00 \nLa storia sul grande schermo \nRisorgimento e Resistenza nel cinema tra Ricostruzione e miracolo economico (1945-1965) \ndi Pietro Cavallo \n  \ndialoga con l’autore \nPasquale Iaccio (Università di Salerno) \n  \nSpazio libreria LaterzAgorà nel teatro Bellini \nvia Conte di Ruvo\, 14 – Napoli \n  \n 
URL:https://www.sissco.it/calendario/la-storia-sul-grande-schermo-risorgimento-e-resistenza-nel-cinema-tra-ricostruzione-e-miracolo-economico/
LOCATION:Spazio libreria LaterzAgorà nel teatro Bellini\, via Conte di Ruvo\, 14 - Napoli\, Napoli\, 80135\, Italia
CATEGORIES:Presentazione di libro/i
ORGANIZER;CN="elio frescani":MAILTO:efrescani@unisa.it
END:VEVENT
BEGIN:VEVENT
DTSTART;TZID=Europe/Rome:20190415T110000
DTEND;TZID=Europe/Rome:20190415T235900
DTSTAMP:20260423T075255
CREATED:20190410T113853Z
LAST-MODIFIED:20190410T113853Z
UID:10001980-1555326000-1555372740@www.sissco.it
SUMMARY:International and transnational histories of the Cold War
DESCRIPTION:Seminari di studi sul Novecento \nInternational and transnational histories of the Cold War \nKaeten Mistry \nEast Anglia University \n15 aprile 2019\, ore 11\,00 \nSala Dottorato
URL:https://www.sissco.it/calendario/international-and-transnational-histories-of-the-cold-war/
LOCATION:Università degli Studi di Salerno\, via Giovanni Paolo II\, 132 Fisciano\, SALERNO\, 84084\, Italia
CATEGORIES:Seminario
ORGANIZER;CN="elio frescani":MAILTO:efrescani@unisa.it
END:VEVENT
BEGIN:VEVENT
DTSTART;TZID=Europe/Rome:20190415T110000
DTEND;TZID=Europe/Rome:20190415T235900
DTSTAMP:20260423T075255
CREATED:20190315T092008Z
LAST-MODIFIED:20190315T092008Z
UID:10001960-1555326000-1555372740@www.sissco.it
SUMMARY:Storie internazionali e transnazionali della guerra fredda
DESCRIPTION:S E M I N A R I S T U D I N O V E C E N T O \nINTERNATIONAL AND TRANSNATIONAL HISTORIES OF THE COLD WAR \n15 APRILE 2019 ORE 11\,00 \nSala riunioni Dottorato in Studi Letterari\, Linguistici e Storici \nSaluti CARMINE PINTO – Coordinatore Dottorato in Studi Letterari\, Linguistici e Storici\, Università degli Studi di Salerno \nIntroduce LUCA POLESE REMAGGI – Università degli Studi di Salerno \nInterviene KAETEN MISTRY – University of East Anglia
URL:https://www.sissco.it/calendario/storie-internazionali-e-transnazionali-della-guerra-fredda/
LOCATION:Università di Salerno\, via Giovanni Paolo\, 132  Fisciano\, Salerno\, 84084\, Italia
CATEGORIES:Seminario
ORGANIZER;CN="elio frescani":MAILTO:efrescani@unisa.it
END:VEVENT
BEGIN:VEVENT
DTSTART;TZID=Europe/Rome:20190405T104500
DTEND;TZID=Europe/Rome:20190405T235900
DTSTAMP:20260423T075255
CREATED:20190320T101814Z
LAST-MODIFIED:20190320T101814Z
UID:10000714-1554461100-1554508740@www.sissco.it
SUMMARY:Anni Ottanta. Quando tutto ebbe inizio?
DESCRIPTION:5 aprile 2019\nOre 10\,45\nAula Imbucci \nMarco Damilano\ndirettore de L’Espresso \nAnni Ottanta\nQuando tutto ebbe inizio?
URL:https://www.sissco.it/calendario/anni-ottanta-quando-tutto-ebbe-inizio/
LOCATION:Università di Salerno\, via Giovanni Paolo II\, 132 Fisciano\, Salerno\, 84084\, Italia
CATEGORIES:Seminario
ORGANIZER;CN="elio frescani":MAILTO:efrescani@unisa.it
END:VEVENT
BEGIN:VEVENT
DTSTART;TZID=Europe/Rome:20190402T143000
DTEND;TZID=Europe/Rome:20190404T235900
DTSTAMP:20260423T075255
CREATED:20190315T091314Z
LAST-MODIFIED:20190315T091314Z
UID:10001958-1554215400-1554422340@www.sissco.it
SUMMARY:Storia\, politica e nazionalismi in Spagna
DESCRIPTION:Università degli Studi di Salerno \nDIPARTIMENTO DI STUDI UMANISTICI \nDOTTORATO DI STUDI LETTERARI\, LINGUISTICI E STORICI \nCIRC (Centro Interdipartimentale di ricerca sul conflitto) \nStoria\, politica e nazionalismi in Spagna \nCiclo di lezioni e seminari a cura di Jordi Canal \nProgramma I sessione \nMartedì 2 aprile 2019 Ore 14\,30 \nBiblioteca di lingue \nIl dibattito monarchia / repubblica in Spagna\, I parte Saluti: Rosa Maria Grillo\, direttrice DIPSUM \nCarmine Pinto\, coordinatore dottorato di Studi letterari linguistici e storici \nCoordina: Antonella Russo\, Università di Salerno Interviene: Jordi Canal\, École des Hautes Études en Sciences Sociales (EHESS) \nII sessione Mercoledì 3 aprile 2019 Ore 10\,30 Biblioteca Paparelli \nStorici e nazionalismo in Spagna. Il caso catalano Introduce: Silvia Sonetti\, Università di Salerno \nInterviene: Jordi Canal\, École des Hautes Études en Sciences Sociales (EHESS) \nIII sessione Giovedì 4 aprile 2019 Ore 12\,30 Biblioteca di lingue \nIl dibattito monarchia / repubblica in Spagna\, II parte \nIntroduce: Daniele Crivellari\, Università di Salerno \nInterviene: Jordi Canal\, École des Hautes Études en Sciences Sociales (EHESS)
URL:https://www.sissco.it/calendario/storia-politica-e-nazionalismi-in-spagna/
LOCATION:Università di Salerno\, Via Giovanni Paolo II\, 132 Fisciano\, Salerno\, 84084\, Italia
CATEGORIES:Seminario
ORGANIZER;CN="elio frescani":MAILTO:efrescani@unisa.it
END:VEVENT
BEGIN:VEVENT
DTSTART;TZID=Europe/Rome:20190401T110000
DTEND;TZID=Europe/Rome:20190401T235900
DTSTAMP:20260423T075255
CREATED:20190320T101340Z
LAST-MODIFIED:20190320T101340Z
UID:10000713-1554116400-1554163140@www.sissco.it
SUMMARY:Anni Settanta. Un paese in movimento
DESCRIPTION:FILMIDEA\nGiornate di studio su storia\, cinema\, musica e tv  \n1 aprile 2019\nOre 11.00\nAula Imbucci\nDipartimento di Scienze Politiche e della Comunicazione\n Università degli Studi di Salerno\nSimona Colarizi\nAnni Settanta\nUn paese in movimento
URL:https://www.sissco.it/calendario/anni-settanta-un-paese-in-movimento/
LOCATION:Università di Salerno\, via Giovanni Paolo II\, 132 Fisciano\, Salerno\, 84084\, Italia
CATEGORIES:Seminario
ORGANIZER;CN="elio frescani":MAILTO:efrescani@unisa.it
END:VEVENT
BEGIN:VEVENT
DTSTART;TZID=Europe/Rome:20190328T103000
DTEND;TZID=Europe/Rome:20190328T235900
DTSTAMP:20260423T075255
CREATED:20190315T090455Z
LAST-MODIFIED:20190315T090907Z
UID:10001957-1553769000-1553817540@www.sissco.it
SUMMARY:Las armas las letras y el compás en Milicia y descripción de las Indias
DESCRIPTION:Università degli Studi di Salerno \nDIPARTIMENTO DI STUDI UMANISTICI \nDOTTORATO DOTTORATO DI STUDI LETTERARI\, LINGUISTICI E STORICI S \n28 Marzo 2019 10.30 Aula Imbucci \nSaluti Carmine Pinto – Coordinatore Dottorato Studi Letterari\, Linguistici e Storici \nRosa Maria Grillo – Direttrice Dipsum \nPresentazione del libro di Hernán Rodríguez Vargas \nLas armas las letras y el compás en Milicia y descripción de las Indias. La construcción del caudillo colonial a finales del siglo XVI y principios del XVII \n(Editorial Javeriana – 2018) \nNe discute con l’autore \nGiulia Nuzzo (Università degli Studi di Salerno)
URL:https://www.sissco.it/calendario/las-armas-las-letras-y-el-compas-en-milicia-y-descripcion-de-las-indias/
LOCATION:Aula Imbucci DISPC\, via Giovanni Poalo II\, 132 Fisciano\, Salerno\, 84080\, Italia
CATEGORIES:Presentazione di libro/i
ORGANIZER;CN="elio frescani":MAILTO:efrescani@unisa.it
END:VEVENT
BEGIN:VEVENT
DTSTART;TZID=Europe/Rome:20190327T120000
DTEND;TZID=Europe/Rome:20190327T235900
DTSTAMP:20260423T075255
CREATED:20190315T090026Z
LAST-MODIFIED:20190315T090026Z
UID:10001956-1553688000-1553731140@www.sissco.it
SUMMARY:Le rivoluzioni Atlantiche
DESCRIPTION:Università degli Studi di Salerno \nDIPARTIMENTO DI STUDI UMANISTICI \nDOTTORATO DOTTORATO DI STUDI LETTERARI\, LINGUISTICI E STORICI \n27 marzo 2019 Sala CIRC 12.00 \nSaluti Carmine Pinto – Coordinatore Dottorato Studi Letterari\, Linguistici e Storici \nRosa Maria Grillo – Direttrice Dipsum \nRivoluzioni Atlantiche \nRazza\, Natura e Storia nell’opera dell’intellettuale colombiano José María Samper 1828-1888 \nAndrea Cadelo – Professoressa Universidad Javeriana de Bogotá (Colombia) \ndiscute Alessandro Bonvini – Europena University Institute
URL:https://www.sissco.it/calendario/le-rivoluzioni-atlantiche/
LOCATION:Sala CIRC Università di Salerno\, via Giovanni Paolo II\, 132 Fisciano\, Salerno\, 84080\, Italia
CATEGORIES:Seminario
ORGANIZER;CN="elio frescani":MAILTO:efrescani@unisa.it
END:VEVENT
BEGIN:VEVENT
DTSTART;TZID=Europe/Rome:20190326T110000
DTEND;TZID=Europe/Rome:20190326T235900
DTSTAMP:20260423T075255
CREATED:20190315T085318Z
LAST-MODIFIED:20190315T085318Z
UID:10000710-1553598000-1553644740@www.sissco.it
SUMMARY:Terrore e Terrorismo
DESCRIPTION:Discussione sul libro di Franco Benigno  \nTerrore e Terrorismo (Einaudi\, 2017) \n28 marzo 2019 ore 11.00 \nAula Imbucci \nInterventi \nPaolo Macry\, Università degli Studi di NapoliEnzo D’Errico\, Corriere del MezzogiornoCarmine Pinto\, Università degli Studi di Salerno
URL:https://www.sissco.it/calendario/terrore-e-terrorismo/
LOCATION:Aula “G. Imbucci” Dip. di Scienze Politiche e della Comunicazione\, via Giovanni Paolo II\, 132 Fisciano\, Salerno\, 84084\, Italia
CATEGORIES:Presentazione di libro/i
ORGANIZER;CN="elio frescani":MAILTO:efrescani@unisa.it
END:VEVENT
BEGIN:VEVENT
DTSTART;TZID=Europe/Rome:20190325T143000
DTEND;TZID=Europe/Rome:20190325T235900
DTSTAMP:20260423T075255
CREATED:20190318T112124Z
LAST-MODIFIED:20190318T112124Z
UID:10001962-1553524200-1553558340@www.sissco.it
SUMMARY:Storia\, chitarra e voce. L’Italia dalla contestazione a Tangentopoli attraverso le canzoni
DESCRIPTION:FILMIDEA\n Giornate di studio su Storia\, Cinema\, Musica e Tv\n25 marzo 2019\nAula Imbucci\nOre 14\,30\n \nStoria\, chitarra e voce\nL’Italia dalla contestazione a Tangentopoli attraverso le canzoni\n \nLeonardo Campus\nUniversità Roma Tre
URL:https://www.sissco.it/calendario/storia-chitarra-e-voce-litalia-dalla-contestazione-a-tangentopoli-attraverso-le-canzoni/
LOCATION:Aula Imbucci DISPC Università di Salerno\, via Giovanni Paolo II\, 132 Fisciano \, Salerno\, 84080\, Italia
CATEGORIES:Seminario
ORGANIZER;CN="elio frescani":MAILTO:efrescani@unisa.it
END:VEVENT
BEGIN:VEVENT
DTSTART;TZID=Europe/Rome:20190320T143000
DTEND;TZID=Europe/Rome:20190321T235900
DTSTAMP:20260423T075255
CREATED:20190315T084721Z
LAST-MODIFIED:20190315T084721Z
UID:10000709-1553092200-1553212740@www.sissco.it
SUMMARY:Forme e pratiche di mobilitazione e violenza politica nell'Ottocento
DESCRIPTION:Forme e pratiche di mobilitazione e violenza politica nell’Ottocento\nSeminario di ricerche storiografiche\n20-21 marzo 2019\n20 marzo Napoli\, Biblioteca BRAU ore 14\,30 \nIntroduce e coordina: Renata De Lorenzo\, Società Napoletana di Storia Patria \nIntervengono: Marco Meriggi\, Università degli Studi di Napoli Federico II \nDopo la rivoluzione. Le origini del discorso legittimista nel regno delle Due Sicilie \nCarmine Pinto\, Università degli Studi di Salerno \nLo “spazio” borbonico. Una prospettiva storiografica \nAntonio Buttiglione\, Istituto di Studi Storici \n“Politica rurale”\, reti cospirative e repressione nelle Calabrie 1840-1846. \n21 marzo Università di Salerno\, Biblioteca Paparelli ore 9.00 \nIntroduce e coordina: Alessandro Bonvini\, European University Institute \nIntervengono: Laura di Fiore\, Università degli Studi di Napoli Federico II \nGovernare attraverso la polizia. Modelli e pratiche tra la restaurazione e l’unificazione nazionale \nViviana Mellone\, Università degli Studi di Napoli L’Orientale \nLa rivoluzione del 1848 a Napoli. L’immaginario politico radicale \nSilvia Sonetti\, Università degli Studi di Salerno L’invenzione di un mito. Pontelandolfo e Casalduni\, 1861-2019
URL:https://www.sissco.it/calendario/forme-e-pratiche-di-mobilitazione-e-violenza-politica-nellottocento/
LOCATION:Biblioteca BRAU Napoli\, Biblioteca Paparelli Salerno\, Piazza Bellini\, 60 80138 Napoli - Via Giovanni Paolo II\, 132 84084 Fisciano (Salerno)\, Napoli - Salerno\, 80138\, Italia
CATEGORIES:Seminario
ORGANIZER;CN="elio frescani":MAILTO:efrescani@unisa.it
END:VEVENT
BEGIN:VEVENT
DTSTART;TZID=Europe/Rome:20190313T103000
DTEND;TZID=Europe/Rome:20190313T235900
DTSTAMP:20260423T075255
CREATED:20190306T075113Z
LAST-MODIFIED:20190306T075113Z
UID:10001946-1552473000-1552521540@www.sissco.it
SUMMARY:La mafia. Centosessant’anni di storia
DESCRIPTION:Presentazione del libroLa mafia. Centosessant’anni di storiadi Salvatore Lupo\nSaluti \nAurelio TommasettiMagnifico Rettore Università di Salerno\nRosa Maria GrilloDirettore Dipartimento di Studi Umanistici\nVirgilio D’AntonioDirettore Dipartimento di Scienze Politiche e della Comunicazione \nIntroduce \nCarmine PintoCoordinatore Dottorato S.L.L.S.\nOre 10.30\, Aula Imbucci\nIntervengono\nStefano D’AlfonsoUniversità di Federico II\nMarco DemarcoGiornalista\, scrittore\nCoordinaMarcello RavvedutoUniversità di Salerno
URL:https://www.sissco.it/calendario/la-mafia-centosessantanni-di-storia/
LOCATION:Aula “G. Imbucci”\, Via Giovanni Paolo II\, 132 Fisciano\, Salerno\, 84084\, Italia
CATEGORIES:Presentazione di libro/i
ORGANIZER;CN="elio frescani":MAILTO:efrescani@unisa.it
END:VEVENT
BEGIN:VEVENT
DTSTART;TZID=Europe/Rome:20190227T100000
DTEND;TZID=Europe/Rome:20190227T235900
DTSTAMP:20260423T075255
CREATED:20190221T150508Z
LAST-MODIFIED:20190221T150508Z
UID:10000686-1551261600-1551311940@www.sissco.it
SUMMARY:“Identità e memoria della nazione italiana”  La storiografia tra continuità e fratture
DESCRIPTION:27 febbraio 2019 ore 10:00 Aula «G. Imbucci» \nUniversità degli studi di Salerno – Campus di Fisciano \n“Identità e memoria della nazione italiana”. La storiografia tra continuità e fratture \n  \nSALUTI \nMAURIZIO SIBILIO Direttore Dipartimento Scienze Umane\, Filosofiche e della Formazione \nROSA MARIA GRILLO \nDirettore Dipartimento Studi Umanistici \nCARMINE PINTO \nCoordinatore Dottorato Studi Letterari\, Linguistici e Storici \nCLAUDIO AZZARA Responsabile Laboratorio di Storia DISUFF \n  \nINTRODUCE \nMARIA ANNA NOTO \nUniversità degli studi di Salerno \nINTERVENGONO \nANTONINO DE FRANCESCO Università degli studi di Milano \nGIROLAMO IMBRUGLIA Università degli studi di Napoli “L’Orientale” \nAURELIO MUSI Università degli studi di Salerno
URL:https://www.sissco.it/calendario/identita-e-memoria-della-nazione-italiana-la-storiografia-tra-continuita-e-fratture/
LOCATION:Università degli Studi di Salerno\, via Giovanni Paolo II\, 132\, Fisciano (Salerno)\, 84084\, Italia
CATEGORIES:Seminario
ORGANIZER;CN="elio frescani":MAILTO:efrescani@unisa.it
END:VEVENT
BEGIN:VEVENT
DTSTART;TZID=Europe/Rome:20190226T150000
DTEND;TZID=Europe/Rome:20190226T235900
DTSTAMP:20260423T075255
CREATED:20190221T150221Z
LAST-MODIFIED:20190221T150221Z
UID:10000685-1551193200-1551225540@www.sissco.it
SUMMARY:“Una storia delle storie”  Duecento anni di storiografia sulla rivoluzione francese
DESCRIPTION:“Una storia delle storie”. Duecento anni di storiografia sulla rivoluzione francese \n26 febbraio 2019 ore 15:00 \nAula «G. Imbucci» \nUniversità degli studi di Salerno – Campus di Fisciano \n  \nSALUTI \nMAURIZIO SIBILIO \nDirettore Dipartimento Scienze Umane\, Filosofiche e della Formazione \nROSA MARIA GRILLO \nDirettore Dipartimento Studi Umanistici \nCARMINE PINTO \nCoordinatore Dottorato Studi Letterari\, Linguistici e Storici \nCLAUDIO AZZARA \nResponsabile Laboratorio di Storia DISUFF \nINTRODUCE \nMARIA ANNA NOTO \nUniversità degli studi di Salerno \nINTERVENGONO \nAURELIO MUSI \nUniversità degli studi di Salerno \nGIOVANNI BRANCACCIO \nUniversità degli studi di Chieti-Pescara “G. D’Annunzio” \nANTONINO DE FRANCESCO \nUniversità degli studi di Milano
URL:https://www.sissco.it/calendario/una-storia-delle-storie-duecento-anni-di-storiografia-sulla-rivoluzione-francese/
LOCATION:Università degli Studi di Salerno\, via Giovanni Paolo II\, 132\, Fisciano (Salerno)\, 84084\, Italia
CATEGORIES:Seminario
ORGANIZER;CN="elio frescani":MAILTO:efrescani@unisa.it
END:VEVENT
BEGIN:VEVENT
DTSTART;TZID=Europe/Rome:20181126T103000
DTEND;TZID=Europe/Rome:20181126T235900
DTSTAMP:20260423T075255
CREATED:20181121T125856Z
LAST-MODIFIED:20181121T125856Z
UID:10000649-1543228200-1543276740@www.sissco.it
SUMMARY:TRA CAPITALISMO E AMMINISTRAZIONE  IL LIBERALISMO ATLANTICO  DI FRANCESCO SAVERIO NITTI
DESCRIPTION:Presentazione del libro di\nMichele Cento\nTRA CAPITALISMO E AMMINISTRAZIONE\nIL LIBERALISMO ATLANTICO\nDI FRANCESCO SAVERIO NITTI\nil Mulino 2017\nSalutiCarmine PintoUniversità di Salerno \nNe discutono con l’autore\nMario De ProspoLuigi Musella\nCoordinaAndrea Marino \n26/11/2018 ORE 10:30\nAULA CIRC\nUniversità di Salerno
URL:https://www.sissco.it/calendario/tra-capitalismo-e-amministrazione-il-liberalismo-atlantico-di-francesco-saverio-nitti/
LOCATION:Aula CIRC Università degli Studi di Salerno\, via Giovanni Paolo II\, 132 - Fisciano\, Salerno\, 84084\, Italia
CATEGORIES:Presentazione di libro/i
ORGANIZER;CN="elio frescani":MAILTO:efrescani@unisa.it
END:VEVENT
BEGIN:VEVENT
DTSTART;TZID=Europe/Rome:20181029T153000
DTEND;TZID=Europe/Rome:20181030T235900
DTSTAMP:20260423T075255
CREATED:20181015T144753Z
LAST-MODIFIED:20181024T073054Z
UID:10000603-1540827000-1540943940@www.sissco.it
SUMMARY:BORBONISMO: UN CONFRONTO STORIOGRAFICO
DESCRIPTION:Seminario di studi \nSeconda giornata di Studi borbonici \n29 e 30 ottobre 2018 \nore 15\,30-Saluti: Aurelio Tommasetti\, Magnifico Rettore Unisa\, \nRosa Maria Grillo\, Direttrice DIPSUM \nIntroduzione: Francesco Benigno\, Scuola Normale Superiore Pisa \nCarminePinto\, Università di Salerno \nOre16\,00-Relazioni: Emanuele Felice\,Università di Chieti-Pescara\, Economia e società: il divario Nord-Sud all’Unità \nNino Blando\,Università di Palermo\, Occupazione o liberazione? La Sicilia nel 1860 \nFrancesco Benigno\, Scuola Normale Superiore Pisa\, Un’ideologia politica borbonica? \nCoordina Silvana D’Alessio\, Università di Salerno \nOre 17\,30-Discussione \n30/10 ore 9\,15- Relazioni: \nCarmine Pinto\, Università di Salerno\,Rivoluzione\, invasione e conflitto civile: il Mezzogiorno nel 1860 \nGiulio Tatasciore\, Scuola Normale Superiore Pisa\, Il brigantaggio nella propaganda di guerra napoletana (1861-1866) \nSilvia Sonetti\, Università di Salerno\, Massacro o repressione. I morti di Pontelandolfo e Casalduni \nGian Luca Fruci\, Università di Bari\, I plebisciti delle Due Sicilie fra mitografia e storia. \nCoordina Emilio Gin\, Università di Salerno \nOre 11\,15-Discussione Ore 11\,45-Pausa Ore 12\,00-Discussione conclusiva \nInterviene Salvatore Lupo\, Università di Palermo
URL:https://www.sissco.it/calendario/borbonismo-un-confronto-storiografico/
LOCATION:Aula Imbucci Università degli Studi di Salerno\, Via Giovanni Paolo II\, 132 Campus di Fisciano \, Salerno\, 84084\, Italia
CATEGORIES:Seminario
ORGANIZER;CN="elio frescani":MAILTO:efrescani@unisa.it
END:VEVENT
BEGIN:VEVENT
DTSTART;TZID=Europe/Rome:20180719T100000
DTEND;TZID=Europe/Rome:20180720T235900
DTSTAMP:20260423T075255
CREATED:20180706T105349Z
LAST-MODIFIED:20180706T105349Z
UID:10000579-1531994400-1532131140@www.sissco.it
SUMMARY:IL BILANCIAMENTO DIFFICILE. INDUSTRIA ED AMBIENTE DAL SECONDO DOPOGUERRA AD OGGI
DESCRIPTION:Il bilanciamento difficile.\nIndustria ed ambiente dal secondo dopoguerra ad oggi\n \nPotenza e Salerno\, 19-20 luglio 2018\n \n \nPotenza\, 19 luglio 2018\nSede Cgil Scuola\, via del Gallitello\, n. 143\n \nOre 10.00 Saluti introduttivi\nAngelo Summa (Segretario Generale Cgil Basilicata)\nAlfonso Conte (Università degli Studi di Salerno)\n \nComunicazione di apertura\n \nLuigi Piccioni (Università degli Studi di Calabria\, Fondazione Micheletti)\nTra documentazione e ricerca. Il contributo della Fondazione Luigi Micheletti agli studi sulla storia del rapporto industria-ambiente\n \n10.30 – 13.45 Prima sessione\nAmbiente di lavoro. Il sindacato italiano di fronte alla sfida della tutela ambientale\n \nCoordina Valerio Tramutoli (Università degli Studi di Basilicata)\n \nIntervengono\n  \nCasaletto Giovanni (Ires Cgil Basilicata)\nLe lotte per la salute in fabbrica nella storia della Cgil Basilicata (1965-1975)\n \n \nElena Davigo (Università di Firenze e Siena)\nUna riforma sanitaria dal basso. (Dis)continuità tra tutela della salute e difesa dell’ambiente nell’iniziativa sindacale italiana (1968-1978)\n \nDiego Alhaique (Ires CGIL Roma)\nLe lotte operaie e sindacali per il controllo dell’ambiente di lavoro nel Mezzogiorno (1970-1985)\n \nSilvia Pizzirani (ricercatrice indipendente)\nLa Cgil di Bologna tra spinte innovative e ambientalismo timido: nascita e attività dell’associazione Gaia (1979-1985)\n \nElisabetta Risi (Università Iulm di Milano)\nSenza le mura: tra lavoro cognitivo e ricerca del benessere ambientale (e mentale)\n \nDiscutono\n \nRossella del Prete (Università degli Studi del Sannio)\nElisa Castellano (Fondazione Di Vittorio)\n \n13.45 – 15.00 Pausa pranzo\n \n15.00 – 18.30 Seconda sessione\nPersistenze\, rimozioni e nuove traiettorie nel rapporto tra industria e ambiente: i casi del Mezzogiorno\n \nCoordina Donato di Sanzo (Università degli Studi di Salerno)\n \nIntervengono\n \nOnofrio Bellifemine (Università Cardinale Stefan Wyszynski di Varsavia)\nTaranto tra progresso e ambiente: r-impianti industriali?\n \nGiovanni Ferrarese (Università degli Studi di Salerno)\nAmbiente o lavoro? Il caso della Liquichimica nel metapontino (1973-1980)\n \nBeatrice Benocci (Università degli Studi di Salerno)\nLa percezione pubblica e sociale dell’impatto dei processi industriali sull’ambiente. Caso di Studio: Le Fonderie Pisano\n \nGloria Pessina (Politecnico di Milano)\nIl Polo industriale di Portovesme tra path dependency e tentativi di innovazione\n \nDiscutono\n \nEnzo Alliegro (Università degli Studi di Napoli)\nAlfonso Conte (Università degli Studi di Salerno)\n \n \nSalerno\, 20 luglio 2018\nUniversità degli Studi di Salerno\nAula Imbucci\, Dipartimento di Scienze Politiche\, Sociali e della Comunicazione\n \n10.00 – 13.30 Terza sessione\nProgrammi di riconversione industriale tra promesse e sconcerto\n \nCoordina Luca Castagna (Università degli Studi di Salerno)\n \nIntervengono\n \nElio Frescani (Università degli Studi di Salerno)\nUn’industria non fredda. la politica ambientale nei documentari dell’Eni\n \nAntonio Santoro (Università degli studi di Salerno)\nPetrolio e conflitti ambientali. L’Eni nel disastro del Delta del Niger (1962-1985)\n \nSara Roncaglia (Università degli Studi di Milano)\nLe trasformazioni degli spazi industriali e di vita di Mumbai nei canti dei bardi urbani (lok Shabir)\n \nFrancesco Zanotelli (Università degli Studi di Messina)\nBlanking the green. Ambientalismi a contrasto nei parchi eolici messicani\n \nFederica Tortora (Università La Sapienza)\nFrom Favela Bairro to Minha Casa Minha Vida: some reflections about the role of the construction private sector within the implementation of urban programmes in Brazil\n \nDiscutono\n \nElena Dinubila (Università Aix-Marseille)\nGennaro Avallone (Università degli Studi di Salerno)
URL:https://www.sissco.it/calendario/il-bilanciamento-difficile-industria-ed-ambiente-dal-secondo-dopoguerra-ad-oggi/
LOCATION:Potenza – Università di Salerno\, via Giovanni Paolo II\, 132\, Fisciano (SA) - Potenza\, 84084\, Italia
CATEGORIES:Convegno
ORGANIZER;CN="elio frescani":MAILTO:efrescani@unisa.it
END:VEVENT
BEGIN:VEVENT
DTSTART;TZID=Europe/Rome:20180416T103000
DTEND;TZID=Europe/Rome:20180416T235900
DTSTAMP:20260423T075255
CREATED:20180413T080638Z
LAST-MODIFIED:20180413T080638Z
UID:10001781-1523874600-1523923140@www.sissco.it
SUMMARY:Giornata di studi sul Risorgimento
DESCRIPTION:Giornata di studi sul Risorgimento \n  \n16 aprile 2018 \nAula Circec – DIPSUM \nUniversità di Salerno \nI Sessione – ore 10.30 \nSaluti: Carmine Pinto (coordinatore del Dottorato in Studi Letterari\, Linguistici e Storici) \n– Viviana Mellone (Università di Napoli”L’Orientale”): Napoli 1848. Il movimento radicale e la rivoluzione Discussants: Silvana D’Alessio (Università di Salerno)\, Renata de Lorenzo (Università di Napoli”Federico II”) Coordinatore: Alfonso Tortora (Università di Salerno) \nII Sessione – ore 14.30 \n– Chiara Pulvirenti (Università di Catania): Risorgimento Cosmopolita. Esuli in Spagna tra rivoluzione e controrivoluzione\, 1833-1839 \nDiscussants: Alessandro Bonvini(Università di Salerno)\, Marco Meriggi (Università di Napoli”Federico II”) Coordinatore: Silvia Sonetti(Università di Salerno) \nCoordinatore scientifico Alessandro Bonvini – alex.bonvini@gm
URL:https://www.sissco.it/calendario/giornata-di-studi-sul-risorgimento-2/
LOCATION:Aula Circec – Dipsum Università di Salerno\, via Giovanni Paolo II\, 132\, Fisciano (SALERNO)\, 84084\, Italia
CATEGORIES:Seminario
ORGANIZER;CN="elio frescani":MAILTO:efrescani@unisa.it
END:VEVENT
BEGIN:VEVENT
DTSTART;TZID=Europe/Rome:20180412T110000
DTEND;TZID=Europe/Rome:20180412T235900
DTSTAMP:20260423T075255
CREATED:20180405T074550Z
LAST-MODIFIED:20180405T074550Z
UID:10000527-1523530800-1523577540@www.sissco.it
SUMMARY:La Repubblica degli italiani
DESCRIPTION:12 aprile 2018\nOre 11.00\nAula Imbucci – Università degli Studi di Salerno\nPresentazione del libro di Agostino Giovagnoli\nLa Repubblica degli Italiani 1946-2016\nEditore Laterza\nSaluti Aurelio Tommasetti\, Rettore Università di Salerno\nRosa Grillo\, Direttore DIPSUM\n \nNe discutono con l’autore\nCarmine Pinto (Università di Salerno)\nAndrea Graziosi (Università di Napoli Federico II)\nAntonio Manzo (Direttore de La città\nModera\nAndrea Marino (Università di Salerno)
URL:https://www.sissco.it/calendario/la-repubblica-degli-italiani/
LOCATION:Università di Salerno\, via Giovanni Paolo II\, 132\, Fisciano (Salerno)\, 84084\, Italia
CATEGORIES:Presentazione di libro/i
ORGANIZER;CN="elio frescani":MAILTO:efrescani@unisa.it
END:VEVENT
END:VCALENDAR