BEGIN:VCALENDAR
VERSION:2.0
PRODID:-//SISSCO - ECPv6.15.20//NONSGML v1.0//EN
CALSCALE:GREGORIAN
METHOD:PUBLISH
X-WR-CALNAME:SISSCO
X-ORIGINAL-URL:https://www.sissco.it
X-WR-CALDESC:Eventi per SISSCO
REFRESH-INTERVAL;VALUE=DURATION:PT1H
X-Robots-Tag:noindex
X-PUBLISHED-TTL:PT1H
BEGIN:VTIMEZONE
TZID:Europe/Rome
BEGIN:DAYLIGHT
TZOFFSETFROM:+0100
TZOFFSETTO:+0200
TZNAME:CEST
DTSTART:20160327T010000
END:DAYLIGHT
BEGIN:STANDARD
TZOFFSETFROM:+0200
TZOFFSETTO:+0100
TZNAME:CET
DTSTART:20161030T010000
END:STANDARD
BEGIN:DAYLIGHT
TZOFFSETFROM:+0100
TZOFFSETTO:+0200
TZNAME:CEST
DTSTART:20170326T010000
END:DAYLIGHT
BEGIN:STANDARD
TZOFFSETFROM:+0200
TZOFFSETTO:+0100
TZNAME:CET
DTSTART:20171029T010000
END:STANDARD
BEGIN:DAYLIGHT
TZOFFSETFROM:+0100
TZOFFSETTO:+0200
TZNAME:CEST
DTSTART:20180325T010000
END:DAYLIGHT
BEGIN:STANDARD
TZOFFSETFROM:+0200
TZOFFSETTO:+0100
TZNAME:CET
DTSTART:20181028T010000
END:STANDARD
BEGIN:DAYLIGHT
TZOFFSETFROM:+0100
TZOFFSETTO:+0200
TZNAME:CEST
DTSTART:20190331T010000
END:DAYLIGHT
BEGIN:STANDARD
TZOFFSETFROM:+0200
TZOFFSETTO:+0100
TZNAME:CET
DTSTART:20191027T010000
END:STANDARD
BEGIN:DAYLIGHT
TZOFFSETFROM:+0100
TZOFFSETTO:+0200
TZNAME:CEST
DTSTART:20200329T010000
END:DAYLIGHT
BEGIN:STANDARD
TZOFFSETFROM:+0200
TZOFFSETTO:+0100
TZNAME:CET
DTSTART:20201025T010000
END:STANDARD
BEGIN:DAYLIGHT
TZOFFSETFROM:+0100
TZOFFSETTO:+0200
TZNAME:CEST
DTSTART:20210328T010000
END:DAYLIGHT
BEGIN:STANDARD
TZOFFSETFROM:+0200
TZOFFSETTO:+0100
TZNAME:CET
DTSTART:20211031T010000
END:STANDARD
BEGIN:DAYLIGHT
TZOFFSETFROM:+0100
TZOFFSETTO:+0200
TZNAME:CEST
DTSTART:20220327T010000
END:DAYLIGHT
BEGIN:STANDARD
TZOFFSETFROM:+0200
TZOFFSETTO:+0100
TZNAME:CET
DTSTART:20221030T010000
END:STANDARD
BEGIN:DAYLIGHT
TZOFFSETFROM:+0100
TZOFFSETTO:+0200
TZNAME:CEST
DTSTART:20230326T010000
END:DAYLIGHT
BEGIN:STANDARD
TZOFFSETFROM:+0200
TZOFFSETTO:+0100
TZNAME:CET
DTSTART:20231029T010000
END:STANDARD
BEGIN:DAYLIGHT
TZOFFSETFROM:+0100
TZOFFSETTO:+0200
TZNAME:CEST
DTSTART:20240331T010000
END:DAYLIGHT
BEGIN:STANDARD
TZOFFSETFROM:+0200
TZOFFSETTO:+0100
TZNAME:CET
DTSTART:20241027T010000
END:STANDARD
BEGIN:DAYLIGHT
TZOFFSETFROM:+0100
TZOFFSETTO:+0200
TZNAME:CEST
DTSTART:20250330T010000
END:DAYLIGHT
BEGIN:STANDARD
TZOFFSETFROM:+0200
TZOFFSETTO:+0100
TZNAME:CET
DTSTART:20251026T010000
END:STANDARD
BEGIN:DAYLIGHT
TZOFFSETFROM:+0100
TZOFFSETTO:+0200
TZNAME:CEST
DTSTART:20260329T010000
END:DAYLIGHT
BEGIN:STANDARD
TZOFFSETFROM:+0200
TZOFFSETTO:+0100
TZNAME:CET
DTSTART:20261025T010000
END:STANDARD
END:VTIMEZONE
BEGIN:VEVENT
DTSTART;VALUE=DATE:20250320
DTEND;VALUE=DATE:20250321
DTSTAMP:20260424T011302
CREATED:20250318T194519Z
LAST-MODIFIED:20250318T194519Z
UID:10003120-1742428800-1742515199@www.sissco.it
SUMMARY:Fratelli Cervi. La storia e la memoria
DESCRIPTION:La tragica storia dei sette fratelli Cervi\, fucilati dai militi fascisti a Reggio Emilia il 28 dicembre 1943\, costituisce uno dei miti più potenti della storia dell’Italia contemporanea.\nQuesto libro ricostruisce le loro storie: indaga l’universo contadino in cui vissero; segue i diversi percorsi che li portarono all’opposizione al fascismo\, al rifiuto della guerra\, alla scelta partigiana\, fino all’arresto e alla fucilazione; ripercorre gli anni successivi\, nei quali ha preso forma la narrazione del loro sacrificio e si è strutturato il loro mito\, rivelando difformità e conflitti che emergono dall’analisi del rapporto fra storia e celebrazione.
URL:https://www.sissco.it/calendario/fratelli-cervi-la-storia-e-la-memoria/
ATTACH;FMTTYPE=image/jpeg:https://www.sissco.it/wp-content/uploads/2025/03/slide_digitale_25_03_20_new-scaled.jpg
ORGANIZER;CN="Fondazione Gramsci":MAILTO:segreteria@fondazionegramsci.org
END:VEVENT
BEGIN:VEVENT
DTSTART;VALUE=DATE:20250314
DTEND;VALUE=DATE:20250315
DTSTAMP:20260424T011302
CREATED:20250227T100954Z
LAST-MODIFIED:20250227T100954Z
UID:10003089-1741910400-1741996799@www.sissco.it
SUMMARY:Le destre europee del XXI secolo tra radicalizzazione e istituzionalizzazione
DESCRIPTION:La Fondazione Gramsci promuove un ciclo di seminari per approfondire la conoscenza delle forze politiche di destra che\, in molti paesi europei\, hanno eroso i consensi delle forze moderate e centriste\, ambendo a\, e in alcuni casi occupando\, posizioni di governo. Si tratta di un fenomeno politico duraturo\, plurale e articolato\, fortificatosi nell’ultimo decennio. L’obiettivo è di discutere l’ascesa di queste “nuove destre” privilegiando una contestualizzazione storica attenta alla loro dimensione internazionale e alle loro radici nazionali\, interrogandosi sulle loro specificità e focalizzando al tempo stesso gli elementi che ne accomunano le culture politiche. \nIl quarto seminario sarà dedicato al Portogallo\, alla Spagna e alle destre al Parlamento europeo.
URL:https://www.sissco.it/calendario/le-destre-europee-del-xxi-secolo-tra-radicalizzazione-e-istituzionalizzazione-4/
ATTACH;FMTTYPE=image/jpeg:https://www.sissco.it/wp-content/uploads/2025/02/slide_digitale_25_03_14-scaled.jpg
ORGANIZER;CN="Fondazione Gramsci":MAILTO:segreteria@fondazionegramsci.org
END:VEVENT
BEGIN:VEVENT
DTSTART;VALUE=DATE:20250214
DTEND;VALUE=DATE:20250215
DTSTAMP:20260424T011302
CREATED:20250207T164022Z
LAST-MODIFIED:20250207T164022Z
UID:10003072-1739491200-1739577599@www.sissco.it
SUMMARY:Le destre europee del XXI secolo tra radicalizzazione e istituzionalizzazione
DESCRIPTION:La Fondazione promuove un ciclo di seminari per approfondire la conoscenza delle forze politiche di destra che\, in molti paesi europei\, hanno eroso i consensi delle forze moderate e centriste\, ambendo a\, e in alcuni casi occupando\, posizioni di governo. Si tratta di un fenomeno politico duraturo\, plurale e articolato\, fortificatosi nell’ultimo decennio. L’obiettivo è di discutere l’ascesa di queste “nuove destre” privilegiando una contestualizzazione storica attenta alla loro dimensione internazionale e alle loro radici nazionali\, interrogandosi sulle loro specificità e focalizzando al tempo stesso gli elementi che ne accomunano le culture politiche. \nIl terzo seminario sarà dedicato all’esame dei casi polacco\, romeno e ungherese
URL:https://www.sissco.it/calendario/le-destre-europee-del-xxi-secolo-tra-radicalizzazione-e-istituzionalizzazione-2/
ATTACH;FMTTYPE=image/jpeg:https://www.sissco.it/wp-content/uploads/2025/02/slide_digitale_25_02_14-scaled.jpg
ORGANIZER;CN="Fondazione Gramsci":MAILTO:segreteria@fondazionegramsci.org
END:VEVENT
BEGIN:VEVENT
DTSTART;VALUE=DATE:20250114
DTEND;VALUE=DATE:20250115
DTSTAMP:20260424T011302
CREATED:20250109T173527Z
LAST-MODIFIED:20250109T173527Z
UID:10003041-1736812800-1736899199@www.sissco.it
SUMMARY:Le destre europee del XXI secolo tra radicalizzazione e istituzionalizzazione
DESCRIPTION:La Fondazione Gramsci promuove un ciclo di seminari per approfondire la conoscenza delle forze politiche di destra che\, in molti paesi europei\, hanno eroso i consensi delle forze moderate e centriste\, ambendo a\, e in alcuni casi occupando\, posizioni di governo. Si tratta di un fenomeno politico duraturo\, plurale e articolato\, fortificatosi nell’ultimo decennio. L’obiettivo è di discutere l’ascesa di queste “nuove destre” privilegiando una contestualizzazione storica attenta alla loro dimensione internazionale e alle loro radici nazionali\, interrogandosi sulle loro specificità e focalizzando al tempo stesso gli elementi che ne accomunano le culture politiche.\nIl seminario sarà dedicato all’esame dei casi austriaco\, tedesco e dei paesi scandinavi.
URL:https://www.sissco.it/calendario/le-destre-europee-del-xxi-secolo-tra-radicalizzazione-e-istituzionalizzazione-3/
ORGANIZER;CN="Fondazione Gramsci":MAILTO:segreteria@fondazionegramsci.org
END:VEVENT
BEGIN:VEVENT
DTSTART;VALUE=DATE:20241121
DTEND;VALUE=DATE:20241122
DTSTAMP:20260424T011302
CREATED:20241112T163502Z
LAST-MODIFIED:20241112T163502Z
UID:10002982-1732147200-1732233599@www.sissco.it
SUMMARY:Le destre europee del XXI secolo tra radicalizzazione e istituzionalizzazione
DESCRIPTION:La Fondazione Gramsci promuove un ciclo di seminari per approfondire la conoscenza delle forze politiche di destra che\, in molti paesi europei\, hanno eroso i consensi delle forze moderate e centriste\, ambendo a\, e in alcuni casi occupando\, posizioni di governo. Si tratta di un fenomeno politico duraturo\, plurale e articolato\, fortificatosi nell’ultimo decennio. L’obiettivo è di discutere l’ascesa di queste “nuove destre” privilegiando una contestualizzazione storica attenta alla loro dimensione internazionale e alle loro radici nazionali\, interrogandosi sulle loro specificità e focalizzando al tempo stesso gli elementi che ne accomunano le culture politiche. \nIl primo seminario sarà dedicato all’esame dei casi italiano e francese.
URL:https://www.sissco.it/calendario/le-destre-europee-del-xxi-secolo-tra-radicalizzazione-e-istituzionalizzazione/
ATTACH;FMTTYPE=image/jpeg:https://www.sissco.it/wp-content/uploads/2024/11/24_11_21-seminario-destre-europee.jpg
ORGANIZER;CN="Fondazione Gramsci":MAILTO:segreteria@fondazionegramsci.org
END:VEVENT
BEGIN:VEVENT
DTSTART;TZID=Europe/Rome:20241114T100000
DTEND;TZID=Europe/Rome:20241115T170000
DTSTAMP:20260424T011302
CREATED:20241107T154120Z
LAST-MODIFIED:20241107T154120Z
UID:10002968-1731578400-1731690000@www.sissco.it
SUMMARY:Il marxismo di Antonio Labriola. Interdipendenza\, praxis e formazione
DESCRIPTION:In occasione del 120° anniversario della morte\, il convegno ripercorre i principali aspetti del pensiero di Antonio Labriola\, considerato come una figura di spicco del marxismo italiano e del socialismo europeo. Le relazioni approfondiscono la lettura dell’epoca borghese e nodi teorici come la filosofia della praxis\, la teoria della storia\, il ruolo degli intellettuali\, la linguistica e la pedagogia sociale. Sarà inoltre proposto un bilancio sulle edizioni\, lo stato degli studi\, la ricezione nazionale e internazionale.
URL:https://www.sissco.it/calendario/il-marxismo-di-antonio-labriola-interdipendenza-praxis-e-formazione/
ORGANIZER;CN="Fondazione Gramsci":MAILTO:segreteria@fondazionegramsci.org
END:VEVENT
BEGIN:VEVENT
DTSTART;TZID=Europe/Rome:20241024T173000
DTEND;TZID=Europe/Rome:20241024T190000
DTSTAMP:20260424T011302
CREATED:20241016T082612Z
LAST-MODIFIED:20241016T082612Z
UID:10002931-1729791000-1729796400@www.sissco.it
SUMMARY:Presentazione del volume CIAO SHQIPËRIA!  IL SECOLO DEI MEDIA NEI RAPPORTI CULTURALI ITALO-ALBANESI di Vito Saracino
DESCRIPTION:Il volume propone una storia dei rapporti fra Italia e Albania attraverso la diffusione dei media\, a partire dalla circolazione dei primi giornali in lingua italiana tra la fine dell’Ottocento e gli inizi del Novecento. L’autore ha ripercorso tutte le fasi che hanno portato l’Italia a diventare il paese che ha influenzato maggiormente l”Albania nell’ambito dell’informazione e della cultura di massa. L’attenzione è stata posta sulla crescente presenza della radio\, sul cinema e sulla televisione\, dai suoi timidi esordi negli anni Sessanta fino alla proliferazione delle emittenti private nel periodo post-comunista. \nPrefazione di Gabriele Balbi\nPartecipano\nAlberto Basciani\, Ermanno Taviani\, Vincenzo Vita\, Clelia Di Piro\, Vito Saracino \nSegui la diretta su\n@fondazionegramsci | www.fondazionegramsci.org
URL:https://www.sissco.it/calendario/presentazione-del-volume-ciao-shqiperia-il-secolo-dei-media-nei-rapporti-culturali-italo-albanesi-di-vito-saracino-2/
ORGANIZER;CN="Fondazione Gramsci":MAILTO:segreteria@fondazionegramsci.org
END:VEVENT
BEGIN:VEVENT
DTSTART;TZID=Europe/Rome:20230531T170000
DTEND;TZID=Europe/Rome:20230531T190000
DTSTAMP:20260424T011302
CREATED:20230517T071037Z
LAST-MODIFIED:20230519T074844Z
UID:10002517-1685552400-1685559600@www.sissco.it
SUMMARY:La dissidenza comunista italiana\, Trockij e le origini della Quarta Internazionale. 1928-1938
DESCRIPTION:Mercoledì 31 maggio alle ore 17\, presso la Fondazione Lelio e Lisli Basso si svolgerà la presentazione del libro “La dissidenza comunista italiana\, Trockij e le origini della Quarta Internazionale. 1928-1938” (Carocci\, Roma 2022)\, organizzata dalla suddetta Fondazione in collaborazione con la Fondazione Gramsci.\nCoordinerà Giancarlo Monina (Università Roma Tre) e parteciperanno\, oltre all’autore (Gabriele Mastrolillo)\, Gianluca Fiocco (Università di Roma Tor Vergata) e Maria Luisa Righi (Fondazione Gramsci).
URL:https://www.sissco.it/calendario/presentazione-del-libro-la-dissidenza-comunista-italiana-trockij-e-le-origini-della-quarta-internazionale-1928-1938/
LOCATION:Fondazione Lelio e Lisli Basso\, via della Dogana Vecchia 5\, Roma\, 00186\, Italia
ORGANIZER;CN="Fondazione Lelio e Lisli Basso-Issoco":MAILTO:basso@fondazionebasso.it
END:VEVENT
BEGIN:VEVENT
DTSTART;TZID=Europe/Rome:20170518T093000
DTEND;TZID=Europe/Rome:20170520T230000
DTSTAMP:20260424T011302
CREATED:20170512T133603Z
LAST-MODIFIED:20170517T122703Z
UID:10000405-1495099800-1495321200@www.sissco.it
SUMMARY:Egemonia e modernità. Il pensiero di Gramsci in Italia e nella cultura internazionale
DESCRIPTION:Convegno internazionale di studio nell’ottantesimo anniversario della morte di Gramsci \nEgemonia e modernità. Il pensiero di Gramsci in Italia e nella cultura internazionale. \nConvegno internazionale promosso dalla Fondazione Gramsci\, dalla International Gramsci Society – Italia e dall’Istituto dell’Enciclopedia italiana.
URL:https://www.sissco.it/calendario/convegno-internazionale-di-studio-nellottantesimo-anniversiario-della-morte-di-gramsci/
LOCATION:Istituto dell’Enciclopedia italiana\, Piazza della Enciclopedia italiana 4\, Roma\, Italia
CATEGORIES:Convegno
ORGANIZER;CN="Fondazione Gramsci":MAILTO:segreteria@fondazionegramsci.org
END:VEVENT
END:VCALENDAR