BEGIN:VCALENDAR
VERSION:2.0
PRODID:-//SISSCO - ECPv6.15.20//NONSGML v1.0//EN
CALSCALE:GREGORIAN
METHOD:PUBLISH
X-ORIGINAL-URL:https://www.sissco.it
X-WR-CALDESC:Eventi per SISSCO
REFRESH-INTERVAL;VALUE=DURATION:PT1H
X-Robots-Tag:noindex
X-PUBLISHED-TTL:PT1H
BEGIN:VTIMEZONE
TZID:Europe/Rome
BEGIN:DAYLIGHT
TZOFFSETFROM:+0100
TZOFFSETTO:+0200
TZNAME:CEST
DTSTART:20200329T010000
END:DAYLIGHT
BEGIN:STANDARD
TZOFFSETFROM:+0200
TZOFFSETTO:+0100
TZNAME:CET
DTSTART:20201025T010000
END:STANDARD
BEGIN:DAYLIGHT
TZOFFSETFROM:+0100
TZOFFSETTO:+0200
TZNAME:CEST
DTSTART:20210328T010000
END:DAYLIGHT
BEGIN:STANDARD
TZOFFSETFROM:+0200
TZOFFSETTO:+0100
TZNAME:CET
DTSTART:20211031T010000
END:STANDARD
BEGIN:DAYLIGHT
TZOFFSETFROM:+0100
TZOFFSETTO:+0200
TZNAME:CEST
DTSTART:20220327T010000
END:DAYLIGHT
BEGIN:STANDARD
TZOFFSETFROM:+0200
TZOFFSETTO:+0100
TZNAME:CET
DTSTART:20221030T010000
END:STANDARD
END:VTIMEZONE
BEGIN:VEVENT
DTSTART;TZID=Europe/Rome:20210224T163000
DTEND;TZID=Europe/Rome:20210224T235900
DTSTAMP:20260419T203621
CREATED:20210220T133933Z
LAST-MODIFIED:20210220T133933Z
UID:10000909-1614184200-1614211140@www.sissco.it
SUMMARY:Presentazione "Sport popolare e popolarità dello sport"
DESCRIPTION:Il 24 febbraio 2021 alle ore 16.30 Giancarlo Fulvetti\, Adriano Mansi e Alberto Molinari\, “arbitrati” da Giovanni Focardi\, presentano il fascicolo monografico di Passato e presente (n. 111/2020)\, dedicato a “Sport popolare e popolarità dello sport. Bilancie prospettive” (il fascicolo è visibile alla pagina web dell’editore FrancoAngeli: https://www.francoangeli.it/riviste/Sommario.aspx?IDRivista=98). Parteciperanno i curatori e gli autori. \nL’iniziativa in streaming è organizzata dall’Università di Padova. \nIl collegamento è il seguente: https://unipd.zoom.us/j/9909137330
URL:https://www.sissco.it/calendario/presentazione-sport-popolare-e-popolarita-dello-sport/
LOCATION:Padova (in streaming)\, Italia
CATEGORIES:Presentazione di libro/i
ORGANIZER;CN="Giovanni Focardi":MAILTO:giovanni.focardi@unipd.it
END:VEVENT
END:VCALENDAR