BEGIN:VCALENDAR
VERSION:2.0
PRODID:-//SISSCO - ECPv6.15.20//NONSGML v1.0//EN
CALSCALE:GREGORIAN
METHOD:PUBLISH
X-ORIGINAL-URL:https://www.sissco.it
X-WR-CALDESC:Eventi per SISSCO
REFRESH-INTERVAL;VALUE=DURATION:PT1H
X-Robots-Tag:noindex
X-PUBLISHED-TTL:PT1H
BEGIN:VTIMEZONE
TZID:Europe/Rome
BEGIN:DAYLIGHT
TZOFFSETFROM:+0100
TZOFFSETTO:+0200
TZNAME:CEST
DTSTART:20140330T010000
END:DAYLIGHT
BEGIN:STANDARD
TZOFFSETFROM:+0200
TZOFFSETTO:+0100
TZNAME:CET
DTSTART:20141026T010000
END:STANDARD
BEGIN:DAYLIGHT
TZOFFSETFROM:+0100
TZOFFSETTO:+0200
TZNAME:CEST
DTSTART:20150329T010000
END:DAYLIGHT
BEGIN:STANDARD
TZOFFSETFROM:+0200
TZOFFSETTO:+0100
TZNAME:CET
DTSTART:20151025T010000
END:STANDARD
BEGIN:DAYLIGHT
TZOFFSETFROM:+0100
TZOFFSETTO:+0200
TZNAME:CEST
DTSTART:20160327T010000
END:DAYLIGHT
BEGIN:STANDARD
TZOFFSETFROM:+0200
TZOFFSETTO:+0100
TZNAME:CET
DTSTART:20161030T010000
END:STANDARD
END:VTIMEZONE
BEGIN:VEVENT
DTSTART;TZID=Europe/Rome:20151118T100000
DTEND;TZID=Europe/Rome:20151118T235900
DTSTAMP:20260419T185320
CREATED:20151110T043307Z
LAST-MODIFIED:20151110T043307Z
UID:10001417-1447840800-1447891140@www.sissco.it
SUMMARY:Donne e relazioni di genere nel Mediterraneo. Movimenti\, corpi\, diritti
DESCRIPTION:Il convegno è organizzazto dall’Istituto di Storia dell’Europa Mediterranea (CNR) -Comitato Unico di Garanzia in collaborazione con la Biblioteca di storia moderna e contemporanea e con l’Istituto storico italiano per l’età moderna e contemporanea \n10.00 Saluti istituzionali\n10.15 – 13.30\nGiulia Calvi: Introduzione\nIlaria Boiano: Genere e diritto nei paesi del\nMediterraneo\nRenata Pepicelli: Le giovani musulmane\nin Italia: tra percorsi transnazionali e\nidentità plurali\nZsofia Lorand: Feminism and Women’s\nMovements in Yougoslavia and Western\nBalkans\nLea Nocera: Femminismi e movimenti delle\ndonne in Turchia\nDiscussione\nPausa buffet\n15.00 – 18.00\nSara Borrillo: Femminismi e politiche di genere\nin Marocco. Il corpo delle donne al centro\ndelle più recenti mobilitazioni\nLucia Sorbera: Genere e legittimità politica in\nEgitto. Quali spazi per l’attivismo politico\ndelle donne oltre il binario cooptazioneesclusione? \nLeila El Houssi: Le sfide delle donne nella\nTunisia contemporanea tra emancipazione e\nhijabophobia\nConclusioni\nRosanna De Longis\, Direttrice Biblioteca di\nStoria moderna e Contemporanea\nGabriella Liberati\, Presidente Comitato Unico di\nGaranzia – CNR\nRiccardo Pozzo\, Direttore Dipartimento Scienze\nUmane e Sociali\, Patrimonio culturale – CNR\nMarcello Verga\, Direttore Istituto di Storia\ndell’Europa mediterranea – CNR
URL:https://www.sissco.it/calendario/donne-e-relazioni-di-genere-nel-mediterraneo-movimenti-corpi-diritti/
LOCATION:Biblioteca di storia moderna e contemporanea\, Via Michelangelo Caetani\, 32\, Roma\, 00186\, Italia
CATEGORIES:Convegno
ORGANIZER;CN="Gisella Bochicchio":MAILTO:b-stmo.info@beniculturali.it; segreteria.isem@cnr.it
END:VEVENT
END:VCALENDAR