BEGIN:VCALENDAR
VERSION:2.0
PRODID:-//SISSCO - ECPv6.15.20//NONSGML v1.0//EN
CALSCALE:GREGORIAN
METHOD:PUBLISH
X-WR-CALNAME:SISSCO
X-ORIGINAL-URL:https://www.sissco.it
X-WR-CALDESC:Eventi per SISSCO
REFRESH-INTERVAL;VALUE=DURATION:PT1H
X-Robots-Tag:noindex
X-PUBLISHED-TTL:PT1H
BEGIN:VTIMEZONE
TZID:Europe/Rome
BEGIN:DAYLIGHT
TZOFFSETFROM:+0100
TZOFFSETTO:+0200
TZNAME:CEST
DTSTART:20230326T010000
END:DAYLIGHT
BEGIN:STANDARD
TZOFFSETFROM:+0200
TZOFFSETTO:+0100
TZNAME:CET
DTSTART:20231029T010000
END:STANDARD
BEGIN:DAYLIGHT
TZOFFSETFROM:+0100
TZOFFSETTO:+0200
TZNAME:CEST
DTSTART:20240331T010000
END:DAYLIGHT
BEGIN:STANDARD
TZOFFSETFROM:+0200
TZOFFSETTO:+0100
TZNAME:CET
DTSTART:20241027T010000
END:STANDARD
BEGIN:DAYLIGHT
TZOFFSETFROM:+0100
TZOFFSETTO:+0200
TZNAME:CEST
DTSTART:20250330T010000
END:DAYLIGHT
BEGIN:STANDARD
TZOFFSETFROM:+0200
TZOFFSETTO:+0100
TZNAME:CET
DTSTART:20251026T010000
END:STANDARD
END:VTIMEZONE
BEGIN:VEVENT
DTSTART;TZID=Europe/Rome:20240301T170000
DTEND;TZID=Europe/Rome:20240301T190000
DTSTAMP:20260423T212436
CREATED:20240226T145308Z
LAST-MODIFIED:20240226T145308Z
UID:10002742-1709312400-1709319600@www.sissco.it
SUMMARY:L’ “Italia moderna di Gioacchino Volpe”
DESCRIPTION:Il 36° incontro de “Le Carte e la Storia. Rivista di storia delle istituzioni” è dedicato a una delle opere più importanti\, ma probabilmente meno lette\, di Gioacchino Volpe: “Italia moderna”(3 voll. usciti tra il 1943 e il 1952\, per complessive 1.500 pagine circa). Si tratta di uno di quei casi in cui un’opera di storia è particolarmente significativa non solo o non tanto per ciò che racconta\, ma anche per la sua stessa storia: in questo caso per il fatto che  stesura e pubblicazione avvennero a cavallo tra fascismo e democrazia\, nonché per la circostanza che ad esserne autore fosse chi era stato uno dei maggiori intellettuali del regime mussoliniano.\nGiovanni Belardelli dialogherà del tema con Mirco Carrettieri\, moderati da Guido Melis.
URL:https://www.sissco.it/calendario/l-italia-moderna-di-gioacchino-volpe/
LOCATION:–\, Vedi descrizione\, Bolzano / Innsbruck\, Italia
CATEGORIES:Seminario
ATTACH;FMTTYPE=image/jpeg:https://www.sissco.it/wp-content/uploads/2024/02/1-marzo-2024_page-0001-1.jpg
ORGANIZER;CN="Le Carte e la Storia":MAILTO:federico.poggianti@hotmail.com
END:VEVENT
END:VCALENDAR