BEGIN:VCALENDAR
VERSION:2.0
PRODID:-//SISSCO - ECPv6.15.20//NONSGML v1.0//EN
CALSCALE:GREGORIAN
METHOD:PUBLISH
X-ORIGINAL-URL:https://www.sissco.it
X-WR-CALDESC:Eventi per SISSCO
REFRESH-INTERVAL;VALUE=DURATION:PT1H
X-Robots-Tag:noindex
X-PUBLISHED-TTL:PT1H
BEGIN:VTIMEZONE
TZID:Europe/Rome
BEGIN:DAYLIGHT
TZOFFSETFROM:+0100
TZOFFSETTO:+0200
TZNAME:CEST
DTSTART:20200329T010000
END:DAYLIGHT
BEGIN:STANDARD
TZOFFSETFROM:+0200
TZOFFSETTO:+0100
TZNAME:CET
DTSTART:20201025T010000
END:STANDARD
BEGIN:DAYLIGHT
TZOFFSETFROM:+0100
TZOFFSETTO:+0200
TZNAME:CEST
DTSTART:20210328T010000
END:DAYLIGHT
BEGIN:STANDARD
TZOFFSETFROM:+0200
TZOFFSETTO:+0100
TZNAME:CET
DTSTART:20211031T010000
END:STANDARD
BEGIN:DAYLIGHT
TZOFFSETFROM:+0100
TZOFFSETTO:+0200
TZNAME:CEST
DTSTART:20220327T010000
END:DAYLIGHT
BEGIN:STANDARD
TZOFFSETFROM:+0200
TZOFFSETTO:+0100
TZNAME:CET
DTSTART:20221030T010000
END:STANDARD
END:VTIMEZONE
BEGIN:VEVENT
DTSTART;TZID=Europe/Rome:20210506T140000
DTEND;TZID=Europe/Rome:20210506T235900
DTSTAMP:20260424T035620
CREATED:20210429T163743Z
LAST-MODIFIED:20210429T163743Z
UID:10000949-1620309600-1620345540@www.sissco.it
SUMMARY:VIII Seminario Storia contemporanea DSU-RomaTre: TARQUINI\, La sinistra italiana e gli ebrei
DESCRIPTION: \nGiovedì 6 Maggio 2021\, ore 14\,00-16\,00\nAlessandra Tarquini\, La sinistra italiana e gli ebrei. Socialismo\, sionismo e antisemitismo dal 1948 al 1992 \nCoordina Lucia Bonfreschi \nLuogo: piattaforma virtuale Microsoft Teams \n \nhttps://teams.microsoft.com/l/channel/19%3aa5f257c31d7a447ebe2d770db8663d6d%40thread.tacv2/Generale?groupId=de039383-98e3-4e2c-9a0a-be1027623711&tenantId=ffb4df68-f464-458c-a546-00fb3af66f6a \n 
URL:https://www.sissco.it/calendario/viii-seminario-storia-contemporanea-dsu-romatre-tarquini-la-sinistra-italiana-e-gli-ebrei/
LOCATION:a distanza\, piattaforma Microsoft Teams\, Italia
CATEGORIES:Seminario
ORGANIZER;CN="Lucia Bonfreschi":MAILTO:lucia.bonfreschi@uniroma3.it
END:VEVENT
END:VCALENDAR