BEGIN:VCALENDAR
VERSION:2.0
PRODID:-//SISSCO - ECPv6.15.20//NONSGML v1.0//EN
CALSCALE:GREGORIAN
METHOD:PUBLISH
X-WR-CALNAME:SISSCO
X-ORIGINAL-URL:https://www.sissco.it
X-WR-CALDESC:Eventi per SISSCO
REFRESH-INTERVAL;VALUE=DURATION:PT1H
X-Robots-Tag:noindex
X-PUBLISHED-TTL:PT1H
BEGIN:VTIMEZONE
TZID:Europe/Rome
BEGIN:DAYLIGHT
TZOFFSETFROM:+0100
TZOFFSETTO:+0200
TZNAME:CEST
DTSTART:20240331T010000
END:DAYLIGHT
BEGIN:STANDARD
TZOFFSETFROM:+0200
TZOFFSETTO:+0100
TZNAME:CET
DTSTART:20241027T010000
END:STANDARD
BEGIN:DAYLIGHT
TZOFFSETFROM:+0100
TZOFFSETTO:+0200
TZNAME:CEST
DTSTART:20250330T010000
END:DAYLIGHT
BEGIN:STANDARD
TZOFFSETFROM:+0200
TZOFFSETTO:+0100
TZNAME:CET
DTSTART:20251026T010000
END:STANDARD
BEGIN:DAYLIGHT
TZOFFSETFROM:+0100
TZOFFSETTO:+0200
TZNAME:CEST
DTSTART:20260329T010000
END:DAYLIGHT
BEGIN:STANDARD
TZOFFSETFROM:+0200
TZOFFSETTO:+0100
TZNAME:CET
DTSTART:20261025T010000
END:STANDARD
END:VTIMEZONE
BEGIN:VEVENT
DTSTART;VALUE=DATE:20250516
DTEND;VALUE=DATE:20250517
DTSTAMP:20260419T185103
CREATED:20250504T045104Z
LAST-MODIFIED:20250504T045104Z
UID:10003180-1747382400-1747414800@www.sissco.it
SUMMARY:Il discorso di papa Francesco sulla pace. Una prospettiva storica
DESCRIPTION:Università di Firenze\, Dipartimento SAGAS\nVenerdì 16 maggio 2025\, ore 15:00\nSeminario del prof. Daniele Menozzi nell’ambito dei corsi di Maria Paiano\nCon il patrocinio della Fondazione Romolo Murri e della Fondazione Ernesto Balducci\nIn collaborazione con il ReRhis
URL:https://www.sissco.it/calendario/il-discorso-di-papa-francesco-sulla-pace-una-prospettiva-storica/2025-05-16/2/
ORGANIZER;CN="Maria Paiano":MAILTO:maria.paiano@unifi.it
END:VEVENT
BEGIN:VEVENT
DTSTART;VALUE=DATE:20250516
DTEND;VALUE=DATE:20250517
DTSTAMP:20260419T185103
CREATED:20250504T045104Z
LAST-MODIFIED:20250504T045104Z
UID:10003179-1747353600-1747439999@www.sissco.it
SUMMARY:Il discorso di papa Francesco sulla pace. Una prospettiva storica
DESCRIPTION:Università di Firenze\, Dipartimento SAGAS\nVenerdì 16 maggio 2025\, ore 15:00\nSeminario del prof. Daniele Menozzi nell’ambito dei corsi di Maria Paiano\nCon il patrocinio della Fondazione Romolo Murri e della Fondazione Ernesto Balducci\nIn collaborazione con il ReRhis
URL:https://www.sissco.it/calendario/il-discorso-di-papa-francesco-sulla-pace-una-prospettiva-storica/2025-05-16/1/
ORGANIZER;CN="Maria Paiano":MAILTO:maria.paiano@unifi.it
END:VEVENT
END:VCALENDAR