BEGIN:VCALENDAR
VERSION:2.0
PRODID:-//SISSCO - ECPv6.15.20//NONSGML v1.0//EN
CALSCALE:GREGORIAN
METHOD:PUBLISH
X-WR-CALNAME:SISSCO
X-ORIGINAL-URL:https://www.sissco.it
X-WR-CALDESC:Eventi per SISSCO
REFRESH-INTERVAL;VALUE=DURATION:PT1H
X-Robots-Tag:noindex
X-PUBLISHED-TTL:PT1H
BEGIN:VTIMEZONE
TZID:Europe/Rome
BEGIN:DAYLIGHT
TZOFFSETFROM:+0100
TZOFFSETTO:+0200
TZNAME:CEST
DTSTART:20140330T010000
END:DAYLIGHT
BEGIN:STANDARD
TZOFFSETFROM:+0200
TZOFFSETTO:+0100
TZNAME:CET
DTSTART:20141026T010000
END:STANDARD
BEGIN:DAYLIGHT
TZOFFSETFROM:+0100
TZOFFSETTO:+0200
TZNAME:CEST
DTSTART:20150329T010000
END:DAYLIGHT
BEGIN:STANDARD
TZOFFSETFROM:+0200
TZOFFSETTO:+0100
TZNAME:CET
DTSTART:20151025T010000
END:STANDARD
BEGIN:DAYLIGHT
TZOFFSETFROM:+0100
TZOFFSETTO:+0200
TZNAME:CEST
DTSTART:20160327T010000
END:DAYLIGHT
BEGIN:STANDARD
TZOFFSETFROM:+0200
TZOFFSETTO:+0100
TZNAME:CET
DTSTART:20161030T010000
END:STANDARD
BEGIN:DAYLIGHT
TZOFFSETFROM:+0100
TZOFFSETTO:+0200
TZNAME:CEST
DTSTART:20170326T010000
END:DAYLIGHT
BEGIN:STANDARD
TZOFFSETFROM:+0200
TZOFFSETTO:+0100
TZNAME:CET
DTSTART:20171029T010000
END:STANDARD
END:VTIMEZONE
BEGIN:VEVENT
DTSTART;TZID=Europe/Rome:20161013T090000
DTEND;TZID=Europe/Rome:20161013T235900
DTSTAMP:20260424T044052
CREATED:20161002T192427Z
LAST-MODIFIED:20161005T205735Z
UID:10000297-1476349200-1476403140@www.sissco.it
SUMMARY:How the Civil War Changed America and the World
DESCRIPTION:Università IULM\nFacoltà di Arti\, turismo e mercati\nDipartimento di Studi classici\, umanistici e geografici\nConsolato Generale degli Stati Uniti d’America di Milano \ninvitano al seminario di Storia contemporanea\nHow the Civil War changed America and the world\ndel professor\nDon H. Doyle\nDirettore della Association for Research on Ethnicity and Nationalism in the Americas (University of South Carolina) \nCoordina Massimo De Giuseppe (Università IULM) \nOre 9-11 Aula Seminari \n 
URL:https://www.sissco.it/calendario/how-the-civil-war-changed-america-and-the-world/
LOCATION:Università IULM – Aula Seminari (VI piano\, sede centrale)\, Via Carlo Bo\, 1\, Milano\, 20143\, Italia
CATEGORIES:Seminario
ORGANIZER;CN="Massimo De Giuseppe":MAILTO:massimo.degiuseppe@iulm.it
END:VEVENT
BEGIN:VEVENT
DTSTART;TZID=Europe/Rome:20160510T103000
DTEND;TZID=Europe/Rome:20160510T235900
DTSTAMP:20260424T044052
CREATED:20160407T113607Z
LAST-MODIFIED:20160407T113607Z
UID:10001482-1462876200-1462924740@www.sissco.it
SUMMARY:Identità nazionale e religione cattolica: Argentina\, Italia\, Messico come casi di studio
DESCRIPTION:Seminario internazionale promosso dal \nDipartimento di Studi classici\, umanistici e geografici e Master in Comunicazione per le Relazioni internazionali \n* Saluti istituzionali: \nMario Negri\, Rettore dell’Università IULM \nMauro Ceruti\, Università IULMi \n* Relazioni: \nMiranda Lida\, Universidad Católica\, Buenos Aires \nEl caso argentino \nGuido Formigoni\, Università IULM\, Milano \nIl caso italiano \nMassimo De Giuseppe\, Università IULM\, Milano \nIl caso messicano \nDiscussant: \nAlfonso Botti\, Università di Modena e Reggio Emilia \nPaolo Acanfora\, Università IULM\, Milano
URL:https://www.sissco.it/calendario/identita-nazionale-e-religione-cattolica-argentina-italia-messico-come-casi-di-studio/
LOCATION:Università IULM – Aula Seminari\, Via Carlo Bo\, 1\, Milano\, 20143\, Italia
CATEGORIES:Seminario
ORGANIZER;CN="Massimo De Giuseppe":MAILTO:massimo.degiuseppe@iulm.it
END:VEVENT
BEGIN:VEVENT
DTSTART;TZID=Europe/Rome:20160413T110000
DTEND;TZID=Europe/Rome:20160413T235900
DTSTAMP:20260424T044052
CREATED:20160407T113035Z
LAST-MODIFIED:20160407T113035Z
UID:10001481-1460545200-1460591940@www.sissco.it
SUMMARY:Dalla "linea" al territorio. Le migrazioni americane  tra processi storici\, economici e identitari
DESCRIPTION:Seminario internazionale del ciclo “Borderland” con\nSilvia Núñez García\, Direttrice del Center for Research on North America (CISAN) della Universidad Nacional Autónoma de México (UNAM)\npromosso da Dipartimento di Studi classici\, umanistici e geografici\, Fondazione Università Iulm\, Master in Comunicazione per le Relazioni internazionali\nPROGRAMMA:\nOre 11-13.30:\nSaluti istituzionali: Mario Negri\, Rettore Università IULM\nTavola rotonda: Le migrazioni americane: esperienze per l’Europa e per Milano\nAlessio Arena (Consolato del Venezuela)\, Gilberto Bonalumi (Scientific Advisor America Latina dell’ISPI)\, Mauro Ceruti (Università IULM)\, Massimo De Giuseppe (Università IULM)\, Gloria C. Gómez (Console Generale della Colombia a Milano)\, Elizabeth Gutiérrez Romero (CISAN/UNAM)\, Pierfrancesco Majorino (Assessore alle politiche sociali del comune di Milano)\, Karla G. Martínez Herrera (Console Generale di El Salvador a Milano)\, Eugenia Montagnini (Università Cattolica)\, Marisela Morales Ibañez (Console Generale del Messico a Milano)\, Silvia Nuñez García (CISAN/UNAM)\, Claudia Rotondi (Università Cattolica)\, Natacha Sánchez (Console Generale della Rep. Dominicana a Milano)\, Narcisa Soria (Console Generale dell’Ecuador a Milano)\, Alberto Vitali (Arcidiocesi di Milano)\nOre 15-17.30:\nSilvia Núñez García\, Direttrice del CISAN/UNAM\nSocial Inequality in North America: A Comparative Perspective on Disadvantaged Youth\n Elizabeth Gutiérrez Romero\, CISAN/UNAM\n“US-Mexico: Free Trade Agreement and Labor Market for Migrants”\ndiscussant Angelo Turco\, Presidente della Fondazione Università IULM
URL:https://www.sissco.it/calendario/dalla-linea-al-territorio-le-migrazioni-americane-tra-processi-storici-economici-e-identitari/
LOCATION:Università IULM – Aula Seminari\, Via Carlo Bo\, 1\, Milano\, 20143\, Italia
CATEGORIES:Seminario
ORGANIZER;CN="Massimo De Giuseppe":MAILTO:massimo.degiuseppe@iulm.it
END:VEVENT
BEGIN:VEVENT
DTSTART;TZID=Europe/Rome:20150408T163000
DTEND;TZID=Europe/Rome:20150408T235900
DTSTAMP:20260424T044052
CREATED:20150316T110114Z
LAST-MODIFIED:20150316T110114Z
UID:10001315-1428510600-1428537540@www.sissco.it
SUMMARY:Conferenza magistrale di Javier Garciadiego (Presidente de El Colegio de México): Per una biografia politica di Octavio Paz
DESCRIPTION:Il Dipartimento di Studi classici\, umanistici e geografici\, con la Facoltà di Interpretariato\, traduzione\, studi linguistici e culturali e il Master in Comunicazione per le Relazioni internazionali \ninvitano alla Conferenza magistrale del professor \nJAVIER GARCIADIEGO: \n“PER UNA BIOGRAFIA POLITICA DI OCTAVIO PAZ” \nIntroduce: Giovanni Puglisi\, Rettore Università IULM \nIntervengono: \nMauro Ceruti\, Direttore del Dipartimento di Studi classici\, umanistici e geografici \nMassimo De Giuseppe\, Docente di Storia contemporanea \nJavier Garciadiego Dantan\, Professore di Storia contemporanea e Presidente de El Colegio de México
URL:https://www.sissco.it/calendario/conferenza-magistrale-di-javier-garciadiego-presidente-de-el-colegio-de-mexico-per-una-biografia-politica-di-octavio-paz/
LOCATION:Università IULM – Aula Seminari\, Via Carlo Bo\, 1\, Milano\, 20143\, Italia
CATEGORIES:Seminario
ORGANIZER;CN="Massimo De Giuseppe":MAILTO:massimo.degiuseppe@iulm.it
END:VEVENT
END:VCALENDAR