BEGIN:VCALENDAR
VERSION:2.0
PRODID:-//SISSCO - ECPv6.15.20//NONSGML v1.0//EN
CALSCALE:GREGORIAN
METHOD:PUBLISH
X-ORIGINAL-URL:https://www.sissco.it
X-WR-CALDESC:Eventi per SISSCO
REFRESH-INTERVAL;VALUE=DURATION:PT1H
X-Robots-Tag:noindex
X-PUBLISHED-TTL:PT1H
BEGIN:VTIMEZONE
TZID:Europe/Rome
BEGIN:DAYLIGHT
TZOFFSETFROM:+0100
TZOFFSETTO:+0200
TZNAME:CEST
DTSTART:20220327T010000
END:DAYLIGHT
BEGIN:STANDARD
TZOFFSETFROM:+0200
TZOFFSETTO:+0100
TZNAME:CET
DTSTART:20221030T010000
END:STANDARD
BEGIN:DAYLIGHT
TZOFFSETFROM:+0100
TZOFFSETTO:+0200
TZNAME:CEST
DTSTART:20230326T010000
END:DAYLIGHT
BEGIN:STANDARD
TZOFFSETFROM:+0200
TZOFFSETTO:+0100
TZNAME:CET
DTSTART:20231029T010000
END:STANDARD
BEGIN:DAYLIGHT
TZOFFSETFROM:+0100
TZOFFSETTO:+0200
TZNAME:CEST
DTSTART:20240331T010000
END:DAYLIGHT
BEGIN:STANDARD
TZOFFSETFROM:+0200
TZOFFSETTO:+0100
TZNAME:CET
DTSTART:20241027T010000
END:STANDARD
END:VTIMEZONE
BEGIN:VEVENT
DTSTART;TZID=Europe/Rome:20231013T170000
DTEND;TZID=Europe/Rome:20231013T200000
DTSTAMP:20260424T060209
CREATED:20231009T072637Z
LAST-MODIFIED:20231009T072637Z
UID:10002614-1697216400-1697227200@www.sissco.it
SUMMARY:Alla Biblioteca Oriani si celebrano i trent’anni della rivista di storia contemporanea «Memoria e Ricerca»
DESCRIPTION:Si terrà venerdì 13 ottobre\, con inizio alle ore 17.00\, presso la Sala “Spadolini” della Biblioteca di storia contemporanea “A. Oriani” un’iniziativa per celebrare i trent’anni di vita di «Memoria e Ricerca»\, la rivista quadrimestrale di storia contemporanea promossa dalla Fondazione Casa di Oriani. Nell’occasione sarà presentato il volume monografico gennaio-aprile 2023 dal titolo Ripensando la storia politica. Potere\, spazi e linguaggi\, a cura di Fulvio Conti e Maurizio Ridolfi. A discuterne col prof. Ridolfi saranno Valentina Casini\, Michele Marchi e Toni Rovatti dell’Università di Bologna e Dino Mengozzi dell’Università di Urbino. La discussione sarà preceduta dall’illustrazione del progetto di digitalizzazione delle prime otto annate della rivista\, realizzato dalla Fondazione Casa di Oriani grazie alla collaborazione del Dipartimento di Beni Culturali dell’Università di Bologna Campus di Ravenna. «Memoria e Ricerca»\, pubblicata per le edizioni de il Mulino\, è una delle più importanti riviste di storia contemporanea a livello italiano ed europeo\, collocata in fascia A dall’ANVUR (Agenzia Nazionale di Valutazione del Sistema Universitario e della Ricerca).
URL:https://www.sissco.it/calendario/alla-biblioteca-oriani-si-celebrano-i-trentanni-della-rivista-di-storia-contemporanea-memoria-e-ricerca/
LOCATION:Biblioteca di Storia Contemporanea “A. Oriani”\, via Corrado Ricci\, 26\, Ravenna\, 48121\, Italia
CATEGORIES:Seminario
ATTACH;FMTTYPE=image/jpeg:https://www.sissco.it/wp-content/uploads/2023/10/poster70x100-30anni-MeR-esec-scaled.jpg
ORGANIZER;CN="Mirko Bonanni":MAILTO:informazioni@bibliotecaoriani.it
END:VEVENT
END:VCALENDAR