BEGIN:VCALENDAR
VERSION:2.0
PRODID:-//SISSCO - ECPv6.15.20//NONSGML v1.0//EN
CALSCALE:GREGORIAN
METHOD:PUBLISH
X-ORIGINAL-URL:https://www.sissco.it
X-WR-CALDESC:Eventi per SISSCO
REFRESH-INTERVAL;VALUE=DURATION:PT1H
X-Robots-Tag:noindex
X-PUBLISHED-TTL:PT1H
BEGIN:VTIMEZONE
TZID:Europe/Rome
BEGIN:DAYLIGHT
TZOFFSETFROM:+0100
TZOFFSETTO:+0200
TZNAME:CEST
DTSTART:20230326T010000
END:DAYLIGHT
BEGIN:STANDARD
TZOFFSETFROM:+0200
TZOFFSETTO:+0100
TZNAME:CET
DTSTART:20231029T010000
END:STANDARD
BEGIN:DAYLIGHT
TZOFFSETFROM:+0100
TZOFFSETTO:+0200
TZNAME:CEST
DTSTART:20240331T010000
END:DAYLIGHT
BEGIN:STANDARD
TZOFFSETFROM:+0200
TZOFFSETTO:+0100
TZNAME:CET
DTSTART:20241027T010000
END:STANDARD
BEGIN:DAYLIGHT
TZOFFSETFROM:+0100
TZOFFSETTO:+0200
TZNAME:CEST
DTSTART:20250330T010000
END:DAYLIGHT
BEGIN:STANDARD
TZOFFSETFROM:+0200
TZOFFSETTO:+0100
TZNAME:CET
DTSTART:20251026T010000
END:STANDARD
BEGIN:DAYLIGHT
TZOFFSETFROM:+0100
TZOFFSETTO:+0200
TZNAME:CEST
DTSTART:20260329T010000
END:DAYLIGHT
BEGIN:STANDARD
TZOFFSETFROM:+0200
TZOFFSETTO:+0100
TZNAME:CET
DTSTART:20261025T010000
END:STANDARD
END:VTIMEZONE
BEGIN:VEVENT
DTSTART;TZID=Europe/Rome:20250402T100000
DTEND;TZID=Europe/Rome:20250402T160000
DTSTAMP:20260424T024631
CREATED:20250328T135205Z
LAST-MODIFIED:20250328T182856Z
UID:10003140-1743588000-1743609600@www.sissco.it
SUMMARY:New Directions in Veteran History workshop
DESCRIPTION:The worlshop brings together colleagues doing innovative research on the history of veterancy across a range of geographical and temporal contexts to explore the potential of comparative approaches to help us build a new\, global and inclusive history of the war veteran. COLVET is a four-year interdisciplinary project funded by the European Research Council (ERC) Startign Grant led by Prof. Dónal Hassett\, Department of History\, Maynooth University.
URL:https://www.sissco.it/calendario/new-directions-in-veteran-history-workshop/
ATTACH;FMTTYPE=image/jpeg:https://www.sissco.it/wp-content/uploads/2025/03/Workshop-New-Direction-Veteran-History_page-0001.jpeg
END:VEVENT
BEGIN:VEVENT
DTSTART;TZID=Europe/Rome:20240223T180000
DTEND;TZID=Europe/Rome:20240223T200000
DTSTAMP:20260424T024631
CREATED:20240206T213609Z
LAST-MODIFIED:20240215T165230Z
UID:10002722-1708711200-1708718400@www.sissco.it
SUMMARY:The Ascaro. An Eritrean Story of Italian Colonialism
DESCRIPTION:The Italian and Mediterranean Colloquia  \nUoldelul Chelati Dirar (University of Macerata) in conversation with Nicola Camilleri (Italian Acdemy\, Columbia University) on the occasion of his translation into Italian of Ghebreyesus Hailu\, ‘L’Ascaro’ moderated by Konstantina Zanou (Columbia University)  \nSponsored by the Italian Department\, the Italian Academy\, and the European Institute\, Columbia University
URL:https://www.sissco.it/calendario/the-ascaro-an-eritrean-story-of-italian-colonialism/
LOCATION:Online
CATEGORIES:Seminario
END:VEVENT
END:VCALENDAR