BEGIN:VCALENDAR
VERSION:2.0
PRODID:-//SISSCO - ECPv6.15.20//NONSGML v1.0//EN
CALSCALE:GREGORIAN
METHOD:PUBLISH
X-ORIGINAL-URL:https://www.sissco.it
X-WR-CALDESC:Eventi per SISSCO
REFRESH-INTERVAL;VALUE=DURATION:PT1H
X-Robots-Tag:noindex
X-PUBLISHED-TTL:PT1H
BEGIN:VTIMEZONE
TZID:Europe/Rome
BEGIN:DAYLIGHT
TZOFFSETFROM:+0100
TZOFFSETTO:+0200
TZNAME:CEST
DTSTART:20170326T010000
END:DAYLIGHT
BEGIN:STANDARD
TZOFFSETFROM:+0200
TZOFFSETTO:+0100
TZNAME:CET
DTSTART:20171029T010000
END:STANDARD
BEGIN:DAYLIGHT
TZOFFSETFROM:+0100
TZOFFSETTO:+0200
TZNAME:CEST
DTSTART:20180325T010000
END:DAYLIGHT
BEGIN:STANDARD
TZOFFSETFROM:+0200
TZOFFSETTO:+0100
TZNAME:CET
DTSTART:20181028T010000
END:STANDARD
BEGIN:DAYLIGHT
TZOFFSETFROM:+0100
TZOFFSETTO:+0200
TZNAME:CEST
DTSTART:20190331T010000
END:DAYLIGHT
BEGIN:STANDARD
TZOFFSETFROM:+0200
TZOFFSETTO:+0100
TZNAME:CET
DTSTART:20191027T010000
END:STANDARD
END:VTIMEZONE
BEGIN:VEVENT
DTSTART;TZID=Europe/Rome:20181122T150000
DTEND;TZID=Europe/Rome:20181123T235900
DTSTAMP:20260419T170630
CREATED:20181115T155845Z
LAST-MODIFIED:20181117T083934Z
UID:10000636-1542898800-1543017540@www.sissco.it
SUMMARY:La deindustrializzazione in prospettiva storica. Studi di caso sull'Italia
DESCRIPTION:A Napoli\, nei giorni del 22 e 23 novembre\, si terrà presso il Dipartimento di Scienze sociali dell’Università Federico II un seminario dal titolo “La deindustrializzazione in prospettiva storica. Studi di caso sull’Italia”. \nNegli ultimi anni\, in forza anche della pesante crisi strutturale che sta modificando economie e prospettive sociali di vita e di lavoro\, il tema della deindustrializzazione ha suscitato un crescente interesse dal punto di vista storico\, per l’impatto che ha avuto – in un passato ancora recente e sensibile – sulla morfologia delle città e degli insediamenti produttivi\, sulle condizioni di vita e sulle comunità\, sull’ambiente e il territorio e sprattutto sul lavoro. Grazie alla distanza temporale dai fenomeni che sono passati sotto questa denominazione nel passaggio di secolo e che avevano coinvolto allora prevalentemente l’attenzione delle scienze sociali e economiche\, oggi gli storici hanno iniziato ad occuparsene con ricerche originali\, iniziative pubbliche di riflessione\, pubblicazioni\, rassegne. \nNell’intento di fare in una qualche misura il punto\, a partire da alcuni casi molto diversi fra loro per collocazione geografica e caratteristiche (Torino\, Torre Annunziata\, Piombino\, Porto Marghera\, Bagnoli\, Milano\, Napoli Est)\, l’Associazione Amici di Passato e Presente (APeP)\, la Società Italiana di Storia del Lavoro (SISLav) e l’Istituto di Studi sulle Società Mediterranee (ISSM) del CNR\, insieme al Dipartimento di Sceinze sociali dell’Universtità Federico II di Napoli\, hanno organizzato questo seminario\, il cui programma è in allegato.
URL:https://www.sissco.it/calendario/la-deindustrializzazione-in-prospettiva-storica-studi-di-caso-sullitalia/
LOCATION:Aula Ovale – 1° piano Dip. Scienze sociali – Università di Napoli Federico II\, Vico Monte della Pietà 1\, Napoli\, Italia
CATEGORIES:Seminario
ORGANIZER;CN="Pietro Causarano":MAILTO:pietro.causarano@unifi.it
END:VEVENT
END:VCALENDAR