BEGIN:VCALENDAR
VERSION:2.0
PRODID:-//SISSCO - ECPv6.15.20//NONSGML v1.0//EN
CALSCALE:GREGORIAN
METHOD:PUBLISH
X-WR-CALNAME:SISSCO
X-ORIGINAL-URL:https://www.sissco.it
X-WR-CALDESC:Eventi per SISSCO
REFRESH-INTERVAL;VALUE=DURATION:PT1H
X-Robots-Tag:noindex
X-PUBLISHED-TTL:PT1H
BEGIN:VTIMEZONE
TZID:Europe/Rome
BEGIN:DAYLIGHT
TZOFFSETFROM:+0100
TZOFFSETTO:+0200
TZNAME:CEST
DTSTART:20150329T010000
END:DAYLIGHT
BEGIN:STANDARD
TZOFFSETFROM:+0200
TZOFFSETTO:+0100
TZNAME:CET
DTSTART:20151025T010000
END:STANDARD
BEGIN:DAYLIGHT
TZOFFSETFROM:+0100
TZOFFSETTO:+0200
TZNAME:CEST
DTSTART:20160327T010000
END:DAYLIGHT
BEGIN:STANDARD
TZOFFSETFROM:+0200
TZOFFSETTO:+0100
TZNAME:CET
DTSTART:20161030T010000
END:STANDARD
BEGIN:DAYLIGHT
TZOFFSETFROM:+0100
TZOFFSETTO:+0200
TZNAME:CEST
DTSTART:20170326T010000
END:DAYLIGHT
BEGIN:STANDARD
TZOFFSETFROM:+0200
TZOFFSETTO:+0100
TZNAME:CET
DTSTART:20171029T010000
END:STANDARD
BEGIN:DAYLIGHT
TZOFFSETFROM:+0100
TZOFFSETTO:+0200
TZNAME:CEST
DTSTART:20180325T010000
END:DAYLIGHT
BEGIN:STANDARD
TZOFFSETFROM:+0200
TZOFFSETTO:+0100
TZNAME:CET
DTSTART:20181028T010000
END:STANDARD
BEGIN:DAYLIGHT
TZOFFSETFROM:+0100
TZOFFSETTO:+0200
TZNAME:CEST
DTSTART:20190331T010000
END:DAYLIGHT
BEGIN:STANDARD
TZOFFSETFROM:+0200
TZOFFSETTO:+0100
TZNAME:CET
DTSTART:20191027T010000
END:STANDARD
BEGIN:DAYLIGHT
TZOFFSETFROM:+0100
TZOFFSETTO:+0200
TZNAME:CEST
DTSTART:20200329T010000
END:DAYLIGHT
BEGIN:STANDARD
TZOFFSETFROM:+0200
TZOFFSETTO:+0100
TZNAME:CET
DTSTART:20201025T010000
END:STANDARD
BEGIN:DAYLIGHT
TZOFFSETFROM:+0100
TZOFFSETTO:+0200
TZNAME:CEST
DTSTART:20210328T010000
END:DAYLIGHT
BEGIN:STANDARD
TZOFFSETFROM:+0200
TZOFFSETTO:+0100
TZNAME:CET
DTSTART:20211031T010000
END:STANDARD
BEGIN:DAYLIGHT
TZOFFSETFROM:+0100
TZOFFSETTO:+0200
TZNAME:CEST
DTSTART:20220327T010000
END:DAYLIGHT
BEGIN:STANDARD
TZOFFSETFROM:+0200
TZOFFSETTO:+0100
TZNAME:CET
DTSTART:20221030T010000
END:STANDARD
BEGIN:DAYLIGHT
TZOFFSETFROM:+0100
TZOFFSETTO:+0200
TZNAME:CEST
DTSTART:20230326T010000
END:DAYLIGHT
BEGIN:STANDARD
TZOFFSETFROM:+0200
TZOFFSETTO:+0100
TZNAME:CET
DTSTART:20231029T010000
END:STANDARD
BEGIN:DAYLIGHT
TZOFFSETFROM:+0100
TZOFFSETTO:+0200
TZNAME:CEST
DTSTART:20240331T010000
END:DAYLIGHT
BEGIN:STANDARD
TZOFFSETFROM:+0200
TZOFFSETTO:+0100
TZNAME:CET
DTSTART:20241027T010000
END:STANDARD
BEGIN:DAYLIGHT
TZOFFSETFROM:+0100
TZOFFSETTO:+0200
TZNAME:CEST
DTSTART:20250330T010000
END:DAYLIGHT
BEGIN:STANDARD
TZOFFSETFROM:+0200
TZOFFSETTO:+0100
TZNAME:CET
DTSTART:20251026T010000
END:STANDARD
BEGIN:DAYLIGHT
TZOFFSETFROM:+0100
TZOFFSETTO:+0200
TZNAME:CEST
DTSTART:20260329T010000
END:DAYLIGHT
BEGIN:STANDARD
TZOFFSETFROM:+0200
TZOFFSETTO:+0100
TZNAME:CET
DTSTART:20261025T010000
END:STANDARD
END:VTIMEZONE
BEGIN:VEVENT
DTSTART;TZID=Europe/Rome:20250401T150000
DTEND;TZID=Europe/Rome:20250401T170000
DTSTAMP:20260424T024433
CREATED:20250331T074123Z
LAST-MODIFIED:20250331T075552Z
UID:10003146-1743519600-1743526800@www.sissco.it
SUMMARY:Matteotti e le sorti di una democrazia parlamentare
DESCRIPTION:Marco Olivetti e Fabrizio Rossi presentano il volume Nascita e morte della democrazia in Parlamento 1920-1924. La forma di governo secondo Giacomo Matteotti (Rubbettino editore\, 2024) di Domenico Argondizzo e Giampiero Buonomo presso  l’Università LUMSA di Roma (aula 5\, via Pompeo Magno 28). Introduce l’incontro Andrea Ciampani.
URL:https://www.sissco.it/calendario/matteotti-e-le-sorti-di-una-democrazia-parlamentare/
ATTACH;FMTTYPE=image/jpeg:https://www.sissco.it/wp-content/uploads/2025/03/ABa-Matteotti.jpg
ORGANIZER;CN="prof. Andrea Ciampani":MAILTO:ciampani@lumsa.it
END:VEVENT
BEGIN:VEVENT
DTSTART;TZID=Europe/Rome:20160511T160000
DTEND;TZID=Europe/Rome:20160511T235900
DTSTAMP:20260424T024433
CREATED:20160509T103901Z
LAST-MODIFIED:20160509T103901Z
UID:10001507-1462982400-1463011140@www.sissco.it
SUMMARY:La lotta con il Leviatano. Percorsi di un ordine politico conservatore in Europa (1815-1965)
DESCRIPTION:Mercoledì 11 maggio 2016\, alle ore 16.00\,  nella sala degli Atti parlamentari della Biblioteca del Senato della Repubblica\, in Piazza della Minerva 38\, avrà luogo la presentazione del volume di Emiel Lamberts “La lotta con il Leviatano. Percorsi di un ordine politico conservatore in Europa (1815-1965)” (Rubbettino\, 2016). \nPresiede e Modera: Andrea Ciampani \nNe discutono con l’Autore:Nicola Antonetti\, Paolo Corsini\, Marco Follini. Giovanni Orsina\, Gaetano Quagliariello.
URL:https://www.sissco.it/calendario/la-lotta-con-il-leviatano-percorsi-di-un-ordine-politico-conservatore-in-europa-1815-1965/
LOCATION:Sala degli Atti Parlamentari\, Biblioteca del Senato della Repubblica\, Piazza della Minerva 38\, Roma\, 00186\, Italia
CATEGORIES:Presentazione di libro/i
ORGANIZER;CN="prof. Andrea Ciampani":MAILTO:ciampani@lumsa.it
END:VEVENT
BEGIN:VEVENT
DTSTART;TZID=Europe/Rome:20160413T160000
DTEND;TZID=Europe/Rome:20160413T235900
DTSTAMP:20260424T024433
CREATED:20160331T093533Z
LAST-MODIFIED:20160401T133954Z
UID:10000227-1460563200-1460591940@www.sissco.it
SUMMARY:Storia e Storiografia del Cattolicesimo Italiano. Dal Dizionario storico del movimento cattolico in Italia (1981) al Dizionario storico-tematico La Chiesa in Italia (2015)
DESCRIPTION:Seminario patrocinato dalla SISSCO. Roma\, 13 Aprile 2016. Promosso dall’Università LUMSA\, con le maggiori associazioni di studiosi di Storia contemporanea e di Storia della Chiesa\, il seminario costituisce un primo importante momento di riflessione sull’evoluzione della storia e della storiografia sul cattolicesimo italiano nell’ultimo trentennio.\nNell’occasione sarà ricordato il prof. Fausto Fonzi\, recentemente scomparso\, protagonista degli studi storici e della cultura cattolica in Italia. \nCoordina il prof. Andrea Ciampani\, Università LUMSA di Roma \nIntervengono: \nPaolo Gheda\, Università della Valle d’Aosta\nRoberto Morozzo della Rocca\, Università degli Studi di Roma Tre\nPaolo Trionfini\, Isacem Paolo VI\, Roma\nLuigi Michele de Palma\, Pontificio Comitato di Scienze Storiche\nFrançois Jankowiak\, Université Paris-Sud \nConclude\nFrancesco Bonini\, Rettore Università LUMSA di Roma\nMario Belardinelli in apertura del seminario\nricorderà Fausto Fonzi \nSono invitati a intervenire:\nGiorgio Campanini e Francesco Traniello\, direttori del Dizionario storico del movimento cattolico in Italia; \nFilippo Lovison\, curatore del Dizionario storico-tematico La Chiesa in Italia
URL:https://www.sissco.it/calendario/storia-e-storiografia-del-cattolicesimo-italiano-dal-dizionario-storico-del-movimento-cattolico-in-italia-1981-al-dizionario-storico-tematico-la-chiesa-in-italia-2015/
LOCATION:LUMSA\, Aula Pizzardo\, Via di Borgo Sant’Angelo 13\, Roma\, 00193\, Italia
CATEGORIES:Seminario
ORGANIZER;CN="prof. Andrea Ciampani":MAILTO:ciampani@lumsa.it
END:VEVENT
END:VCALENDAR