BEGIN:VCALENDAR
VERSION:2.0
PRODID:-//SISSCO - ECPv6.15.20//NONSGML v1.0//EN
CALSCALE:GREGORIAN
METHOD:PUBLISH
X-ORIGINAL-URL:https://www.sissco.it
X-WR-CALDESC:Eventi per SISSCO
REFRESH-INTERVAL;VALUE=DURATION:PT1H
X-Robots-Tag:noindex
X-PUBLISHED-TTL:PT1H
BEGIN:VTIMEZONE
TZID:Europe/Rome
BEGIN:DAYLIGHT
TZOFFSETFROM:+0100
TZOFFSETTO:+0200
TZNAME:CEST
DTSTART:20200329T010000
END:DAYLIGHT
BEGIN:STANDARD
TZOFFSETFROM:+0200
TZOFFSETTO:+0100
TZNAME:CET
DTSTART:20201025T010000
END:STANDARD
BEGIN:DAYLIGHT
TZOFFSETFROM:+0100
TZOFFSETTO:+0200
TZNAME:CEST
DTSTART:20210328T010000
END:DAYLIGHT
BEGIN:STANDARD
TZOFFSETFROM:+0200
TZOFFSETTO:+0100
TZNAME:CET
DTSTART:20211031T010000
END:STANDARD
BEGIN:DAYLIGHT
TZOFFSETFROM:+0100
TZOFFSETTO:+0200
TZNAME:CEST
DTSTART:20220327T010000
END:DAYLIGHT
BEGIN:STANDARD
TZOFFSETFROM:+0200
TZOFFSETTO:+0100
TZNAME:CET
DTSTART:20221030T010000
END:STANDARD
END:VTIMEZONE
BEGIN:VEVENT
DTSTART;TZID=Europe/Rome:20210625T090000
DTEND;TZID=Europe/Rome:20210625T235900
DTSTAMP:20260424T024535
CREATED:20210622T092253Z
LAST-MODIFIED:20210625T090400Z
UID:10002229-1624611600-1624665540@www.sissco.it
SUMMARY:Collapse: The Fall of the Soviet Union
DESCRIPTION:Il Keynote speech di Vladislav Zubok (LSE) – 25 giugno 2021\, ore 9\,00 – presenterà il suo prossimo libro “Collapse: The Fall of the Soviet Union” in uscita per Yale University Press e concluderà la conferenza internazionale dell’Association for Political History (APH) “Layers and Connections of the Political” organizzata dalla Luiss School of Government (14-25 giugno). \n  \nDalla descrizione di Yale University Press: \nA major study of the collapse of the Soviet Union—showing how Gorbachev’s misguided reforms led to its demiseIn 1945 the Soviet Union controlled half of Europe and was a founding member of the United Nations. By 1991\, it had an army four-million strong\, five-thousand nuclear-tipped missiles\, and was the second biggest producer of oil in the world. But soon afterward the union sank into an economic crisis and was torn apart by nationalist separatism. Its collapse was one of the seismic shifts of the twentieth century. Thirty years on\, Vladislav Zubok offers a major reinterpretation of the final years of the USSR\, refuting the notion that the breakup of the Soviet order was inevitable. Instead\, Zubok reveals how Gorbachev’s misguided reforms\, intended to modernize and democratize the Soviet Union\, deprived the government of resources and empowered separatism. Collapse sheds new light on Russian democratic populism\, the Baltic struggle for independence\, the crisis of Soviet finances—and the fragility of authoritarian state power.
URL:https://www.sissco.it/calendario/collapse-the-fall-of-the-soviet-union-keynote-speech-di-vladislav-zubok-lse/
LOCATION:Luiss School of Government\, Viale Romania 32\, Roma\, 00197\, Italia
CATEGORIES:Presentazione di libro/i
ORGANIZER;CN="Riccardo Mario Cucciolla":MAILTO:aph2020@luiss.it
END:VEVENT
END:VCALENDAR