BEGIN:VCALENDAR
VERSION:2.0
PRODID:-//SISSCO - ECPv6.15.20//NONSGML v1.0//EN
CALSCALE:GREGORIAN
METHOD:PUBLISH
X-WR-CALNAME:SISSCO
X-ORIGINAL-URL:https://www.sissco.it
X-WR-CALDESC:Eventi per SISSCO
REFRESH-INTERVAL;VALUE=DURATION:PT1H
X-Robots-Tag:noindex
X-PUBLISHED-TTL:PT1H
BEGIN:VTIMEZONE
TZID:Europe/Rome
BEGIN:DAYLIGHT
TZOFFSETFROM:+0100
TZOFFSETTO:+0200
TZNAME:CEST
DTSTART:20190331T010000
END:DAYLIGHT
BEGIN:STANDARD
TZOFFSETFROM:+0200
TZOFFSETTO:+0100
TZNAME:CET
DTSTART:20191027T010000
END:STANDARD
BEGIN:DAYLIGHT
TZOFFSETFROM:+0100
TZOFFSETTO:+0200
TZNAME:CEST
DTSTART:20200329T010000
END:DAYLIGHT
BEGIN:STANDARD
TZOFFSETFROM:+0200
TZOFFSETTO:+0100
TZNAME:CET
DTSTART:20201025T010000
END:STANDARD
BEGIN:DAYLIGHT
TZOFFSETFROM:+0100
TZOFFSETTO:+0200
TZNAME:CEST
DTSTART:20210328T010000
END:DAYLIGHT
BEGIN:STANDARD
TZOFFSETFROM:+0200
TZOFFSETTO:+0100
TZNAME:CET
DTSTART:20211031T010000
END:STANDARD
BEGIN:DAYLIGHT
TZOFFSETFROM:+0100
TZOFFSETTO:+0200
TZNAME:CEST
DTSTART:20220327T010000
END:DAYLIGHT
BEGIN:STANDARD
TZOFFSETFROM:+0200
TZOFFSETTO:+0100
TZNAME:CET
DTSTART:20221030T010000
END:STANDARD
BEGIN:DAYLIGHT
TZOFFSETFROM:+0100
TZOFFSETTO:+0200
TZNAME:CEST
DTSTART:20230326T010000
END:DAYLIGHT
BEGIN:STANDARD
TZOFFSETFROM:+0200
TZOFFSETTO:+0100
TZNAME:CET
DTSTART:20231029T010000
END:STANDARD
BEGIN:DAYLIGHT
TZOFFSETFROM:+0100
TZOFFSETTO:+0200
TZNAME:CEST
DTSTART:20240331T010000
END:DAYLIGHT
BEGIN:STANDARD
TZOFFSETFROM:+0200
TZOFFSETTO:+0100
TZNAME:CET
DTSTART:20241027T010000
END:STANDARD
BEGIN:DAYLIGHT
TZOFFSETFROM:+0100
TZOFFSETTO:+0200
TZNAME:CEST
DTSTART:20250330T010000
END:DAYLIGHT
BEGIN:STANDARD
TZOFFSETFROM:+0200
TZOFFSETTO:+0100
TZNAME:CET
DTSTART:20251026T010000
END:STANDARD
BEGIN:DAYLIGHT
TZOFFSETFROM:+0100
TZOFFSETTO:+0200
TZNAME:CEST
DTSTART:20260329T010000
END:DAYLIGHT
BEGIN:STANDARD
TZOFFSETFROM:+0200
TZOFFSETTO:+0100
TZNAME:CET
DTSTART:20261025T010000
END:STANDARD
BEGIN:DAYLIGHT
TZOFFSETFROM:+0100
TZOFFSETTO:+0200
TZNAME:CEST
DTSTART:20270328T010000
END:DAYLIGHT
BEGIN:STANDARD
TZOFFSETFROM:+0200
TZOFFSETTO:+0100
TZNAME:CET
DTSTART:20271031T010000
END:STANDARD
END:VTIMEZONE
BEGIN:VEVENT
DTSTART;TZID=Europe/Rome:20260417T123000
DTEND;TZID=Europe/Rome:20260417T143000
DTSTAMP:20260424T041833
CREATED:20260405T055225Z
LAST-MODIFIED:20260405T055225Z
UID:10003466-1776429000-1776436200@www.sissco.it
SUMMARY:Baumann "Biografie nazionali: il caso della famiglia Šulhin/Šulgin di Kyiv" UNIUPO-Vercelli
DESCRIPTION:Venerdì 17 aprile 2026 lo storico Fabian Baumann (Universität Basel) terrà un seminario dal titolo “Biografie nazionali: il caso della famiglia Šulhin/Šulgin di Kyiv”\, durante il quale presenterà la sua ricerca sui nazionalismi ucraino e russo fra XIX e XX secolo. Il seminario si svolgerà dalle 12:30 alle 14:30 nella Sala delle Colonne dell’Ex Ospedaletto del Dipartimento di Studi Umanistici dell’Università del Piemonte Orientale a Vercelli\, viale Garibaldi 98.
URL:https://www.sissco.it/calendario/baumann-biografie-nazionali-il-caso-della-famiglia-sulhin-sulgin-di-kyiv-uniupo-vercelli/
ORGANIZER;CN="Simone A. Bellezza":MAILTO:sabellezza@gmail.com
END:VEVENT
BEGIN:VEVENT
DTSTART;TZID=Europe/Rome:20260320T090000
DTEND;TZID=Europe/Rome:20260320T103000
DTSTAMP:20260424T041833
CREATED:20260308T161553Z
LAST-MODIFIED:20260308T161819Z
UID:10003433-1773997200-1774002600@www.sissco.it
SUMMARY:Carcere e scrittura popolare: un caso di studio ottocentesco
DESCRIPTION:Seminario con Alessio Petrizzo (Università di Padova) nell’ambito del corso di Storia contemporanea magistrale. Il seminario si svolgerà a Vercelli\, nell’Aula Colonne del Dipartimento di Studi umanistici dell’Università del Piemonte Orientale il 20 marzo 2026 dalle ore 9:00.
URL:https://www.sissco.it/calendario/carcere-e-scrittura-popolare-un-caso-di-studio-ottocentesco/
ORGANIZER;CN="Simone A. Bellezza":MAILTO:sabellezza@gmail.com
END:VEVENT
BEGIN:VEVENT
DTSTART;TZID=Europe/Rome:20250107T150000
DTEND;TZID=Europe/Rome:20250108T130000
DTSTAMP:20260424T041833
CREATED:20250102T083609Z
LAST-MODIFIED:20250102T083609Z
UID:10003036-1736262000-1736341200@www.sissco.it
SUMMARY:"Re-framing Neoliberalism" Torino e Vercelli 7-8 gennaio
DESCRIPTION:Nell’ambito del PRIN 2022 “Reframing Globalization in European Peripheries: Intellectual and Expert Network Facing Political and Economic Transformations (1975-2022)” il 7 e 8 gennaio si svolgerà il workshop  dal titolo “Re-framing Neoliberalism: Political\, Economic\, and Social Change (1975-2022)” che vedrà la partecipazione fra gli altri di Alan S. Kahan Université Paris-Saclay\, UVSQ)\, Fritz Bartel (Texas A&M University) e Stephanie Mudge ((University of California Davis). \nTutti i dettagli sono reperibili nel programma allegato.
URL:https://www.sissco.it/calendario/re-framing-neoliberalism-torino-e-vercelli-7-8-gennaio/
ORGANIZER;CN="Simone A. Bellezza":MAILTO:sabellezza@gmail.com
END:VEVENT
BEGIN:VEVENT
DTSTART;TZID=Europe/Rome:20231119T170000
DTEND;TZID=Europe/Rome:20231119T180000
DTSTAMP:20260424T041833
CREATED:20231110T074754Z
LAST-MODIFIED:20231110T074754Z
UID:10002654-1700413200-1700416800@www.sissco.it
SUMMARY:Un'intera giovinezza dietro le sbarre: la testimonianza del dissidente russo Eduard
DESCRIPTION:In occasione della pubblicazione dei diari segreti di Eduard Kuznecov l’associazione Memorial Italia ha organizzato una presentazione-discussione con David Bidussa\, Marcello Flores e Valentina Parisi.
URL:https://www.sissco.it/calendario/unintera-giovinezza-dietro-le-sbarre-la-testimonianza-del-dissidente-russo-eduard/
LOCATION:PIME – Pontificio Istituto Missioni Estere – Sala Vismara\, Via Monte Rosa 81\, Milano\, Italia
CATEGORIES:Presentazione di libro/i
ATTACH;FMTTYPE=image/jpeg:https://www.sissco.it/wp-content/uploads/2023/11/BCM23_MemoIT_19nov_kuznecov2-scaled.jpg
ORGANIZER;CN="Simone A. Bellezza":MAILTO:sabellezza@gmail.com
END:VEVENT
BEGIN:VEVENT
DTSTART;TZID=Europe/Rome:20231118T123000
DTEND;TZID=Europe/Rome:20231118T133000
DTSTAMP:20260424T041833
CREATED:20231106T203318Z
LAST-MODIFIED:20231106T203318Z
UID:10002648-1700310600-1700314200@www.sissco.it
SUMMARY:La questione di genere nel Gulag attraverso le fonti orali ucraine
DESCRIPTION:L’incontro vedrà le storiche Giulia Lami (Unimi) e Antonella Salomoni (Unical) discutere della questione di genere nella storia del Gulag sovietico a partire dalla traduzione in italiano dell’opera di Oksana Kis\, “Sopravvivere nel Gulag” (Viella 2023) alla presenza del curatore Simone A. Bellezza (Uniupo).
URL:https://www.sissco.it/calendario/la-questione-di-genere-nel-gulag-attraverso-le-fonti-orali-ucraine/
LOCATION:PIME – Pontificio Istituto Missioni Estere – Sala Vismara\, Via Monte Rosa 81\, Milano\, Italia
CATEGORIES:Presentazione di libro/i
ORGANIZER;CN="Simone A. Bellezza":MAILTO:sabellezza@gmail.com
END:VEVENT
BEGIN:VEVENT
DTSTART;TZID=Europe/Rome:20230613T150000
DTEND;TZID=Europe/Rome:20230613T170000
DTSTAMP:20260424T041833
CREATED:20230531T142553Z
LAST-MODIFIED:20230531T142553Z
UID:10002543-1686668400-1686675600@www.sissco.it
SUMMARY:"Larger than Any European Country": Banal Nationalism\, Republican Quasi-Statehood and Symbolic Ethnicity in Late Soviet Ukraine
DESCRIPTION:Per la serie dei Naples Seminars in Modern and Contemporary History il 13 giugno 2023 Fabian Baumann (Research Center for the History of Transformations della Università di Vienna) presenterà la sua ultima ricerca dal titolo “Larger than Any European Country”: Banal Nationalism\, Republican Quasi-Statehood and Symbolic Ethnicity in Late Soviet Ukraine. \nIl seminario si svolge in presenza nell’aula 2 della Scuola Superiore Meridionale\, al terzo piano della sede di Piazza San Marcellino 10 a Napoli\, dalle ore 15 alle ore 17. \nIn allegato la locandina con tutte le informazioni.
URL:https://www.sissco.it/calendario/larger-than-any-european-country-banal-nationalism-republican-quasi-statehood-and-symbolic-ethnicity-in-late-soviet-ukraine/
LOCATION:Aula 2 Scuola Superiore Meridionale (3° piano)\, Largo San Marcellino 10\, Napoli\, 80138\, Italia
CATEGORIES:Seminario
ORGANIZER;CN="Simone A. Bellezza":MAILTO:sabellezza@gmail.com
END:VEVENT
BEGIN:VEVENT
DTSTART;TZID=Europe/Rome:20200122T143000
DTEND;TZID=Europe/Rome:20200122T230000
DTSTAMP:20260424T041833
CREATED:20200115T081842Z
LAST-MODIFIED:20200116T091747Z
UID:10002087-1579703400-1579734000@www.sissco.it
SUMMARY:Herstories of Ukrainian Female Migration to Italy: Perspective of Philosophy and Contemporary Art
DESCRIPTION:Il prossimo incontro per il ciclo dei Seminari di Storia Contemporanea\, che mercoledì 22 gennaio alle 14:30 vedrà Yulia Lashchuk presentare una relazione intitolata Herstories of Ukrainian Female Migration to Italy: Perspective of Philosophy and Contemporary Art. \nYulia è una dottoranda ucraina presso il Dipartimento di Scienze Sociali dell’Università di Varsavia che per tre mesi è stata Erasmus+ Trainee presso il nostro dipartimento per fare ricerca sulla comunità di ucraine a Napoli e la sua ricerca è interdisciplinare fra sociologia\, antropologia\, filosofia\, gender studies e critica artistica.
URL:https://www.sissco.it/calendario/seminario-yulia-lashchuk-herstories-of-ukrainian-female-migration-to-italy-perspective-of-philosophy-and-contemporary-art/
LOCATION:16:30\, Vico Monte della Pietà 1\, Napoli\, 80138\, Italia
CATEGORIES:Seminario
ORGANIZER;CN="Simone A. Bellezza":MAILTO:sabellezza@gmail.com
END:VEVENT
END:VCALENDAR