BEGIN:VCALENDAR
VERSION:2.0
PRODID:-//SISSCO - ECPv6.15.20//NONSGML v1.0//EN
CALSCALE:GREGORIAN
METHOD:PUBLISH
X-ORIGINAL-URL:https://www.sissco.it
X-WR-CALDESC:Eventi per SISSCO
REFRESH-INTERVAL;VALUE=DURATION:PT1H
X-Robots-Tag:noindex
X-PUBLISHED-TTL:PT1H
BEGIN:VTIMEZONE
TZID:Europe/Rome
BEGIN:DAYLIGHT
TZOFFSETFROM:+0100
TZOFFSETTO:+0200
TZNAME:CEST
DTSTART:20150329T010000
END:DAYLIGHT
BEGIN:STANDARD
TZOFFSETFROM:+0200
TZOFFSETTO:+0100
TZNAME:CET
DTSTART:20151025T010000
END:STANDARD
BEGIN:DAYLIGHT
TZOFFSETFROM:+0100
TZOFFSETTO:+0200
TZNAME:CEST
DTSTART:20160327T010000
END:DAYLIGHT
BEGIN:STANDARD
TZOFFSETFROM:+0200
TZOFFSETTO:+0100
TZNAME:CET
DTSTART:20161030T010000
END:STANDARD
BEGIN:DAYLIGHT
TZOFFSETFROM:+0100
TZOFFSETTO:+0200
TZNAME:CEST
DTSTART:20170326T010000
END:DAYLIGHT
BEGIN:STANDARD
TZOFFSETFROM:+0200
TZOFFSETTO:+0100
TZNAME:CET
DTSTART:20171029T010000
END:STANDARD
BEGIN:DAYLIGHT
TZOFFSETFROM:+0100
TZOFFSETTO:+0200
TZNAME:CEST
DTSTART:20180325T010000
END:DAYLIGHT
BEGIN:STANDARD
TZOFFSETFROM:+0200
TZOFFSETTO:+0100
TZNAME:CET
DTSTART:20181028T010000
END:STANDARD
BEGIN:DAYLIGHT
TZOFFSETFROM:+0100
TZOFFSETTO:+0200
TZNAME:CEST
DTSTART:20190331T010000
END:DAYLIGHT
BEGIN:STANDARD
TZOFFSETFROM:+0200
TZOFFSETTO:+0100
TZNAME:CET
DTSTART:20191027T010000
END:STANDARD
BEGIN:DAYLIGHT
TZOFFSETFROM:+0100
TZOFFSETTO:+0200
TZNAME:CEST
DTSTART:20200329T010000
END:DAYLIGHT
BEGIN:STANDARD
TZOFFSETFROM:+0200
TZOFFSETTO:+0100
TZNAME:CET
DTSTART:20201025T010000
END:STANDARD
BEGIN:DAYLIGHT
TZOFFSETFROM:+0100
TZOFFSETTO:+0200
TZNAME:CEST
DTSTART:20210328T010000
END:DAYLIGHT
BEGIN:STANDARD
TZOFFSETFROM:+0200
TZOFFSETTO:+0100
TZNAME:CET
DTSTART:20211031T010000
END:STANDARD
BEGIN:DAYLIGHT
TZOFFSETFROM:+0100
TZOFFSETTO:+0200
TZNAME:CEST
DTSTART:20220327T010000
END:DAYLIGHT
BEGIN:STANDARD
TZOFFSETFROM:+0200
TZOFFSETTO:+0100
TZNAME:CET
DTSTART:20221030T010000
END:STANDARD
BEGIN:DAYLIGHT
TZOFFSETFROM:+0100
TZOFFSETTO:+0200
TZNAME:CEST
DTSTART:20230326T010000
END:DAYLIGHT
BEGIN:STANDARD
TZOFFSETFROM:+0200
TZOFFSETTO:+0100
TZNAME:CET
DTSTART:20231029T010000
END:STANDARD
BEGIN:DAYLIGHT
TZOFFSETFROM:+0100
TZOFFSETTO:+0200
TZNAME:CEST
DTSTART:20240331T010000
END:DAYLIGHT
BEGIN:STANDARD
TZOFFSETFROM:+0200
TZOFFSETTO:+0100
TZNAME:CET
DTSTART:20241027T010000
END:STANDARD
BEGIN:DAYLIGHT
TZOFFSETFROM:+0100
TZOFFSETTO:+0200
TZNAME:CEST
DTSTART:20250330T010000
END:DAYLIGHT
BEGIN:STANDARD
TZOFFSETFROM:+0200
TZOFFSETTO:+0100
TZNAME:CET
DTSTART:20251026T010000
END:STANDARD
END:VTIMEZONE
BEGIN:VEVENT
DTSTART;TZID=Europe/Rome:20240509T180000
DTEND;TZID=Europe/Rome:20240509T200000
DTSTAMP:20260424T011352
CREATED:20240502T200900Z
LAST-MODIFIED:20240502T200900Z
UID:10002819-1715277600-1715284800@www.sissco.it
SUMMARY:L'aborto. Una storia
DESCRIPTION:Giovedì 9 maggio 2024\, alle ore 18.00 a Milano\, presso l‘Unione Femminileazionale (Corso di Porta Nuova 32) con la collaborazione della Società italiana delle storiche\, si presenta il volume «L’aborto. Una storia»\, di Alessandra Gissi\, Paola Stelliferi (Carocci\, 2023). Intervengono\, con le autrici\, Stefania Bartoloni\, Eleonora Cirant e Claudia Mattalucci. Modera Concetta Brigadeci.
URL:https://www.sissco.it/calendario/laborto-una-storia-2/
LOCATION:Milano\, Unione femminile nazionale - Corso di Porta Nuova\, 32\, Milano\, 20121\, Italia
CATEGORIES:Presentazione di libro/i
ATTACH;FMTTYPE=image/jpeg:https://www.sissco.it/wp-content/uploads/2024/05/Aborto_Milano-9-maggio.jpg
END:VEVENT
BEGIN:VEVENT
DTSTART;TZID=Europe/Rome:20240422T150000
DTEND;TZID=Europe/Rome:20240422T170000
DTSTAMP:20260424T011352
CREATED:20240414T151042Z
LAST-MODIFIED:20240416T220706Z
UID:10002794-1713798000-1713805200@www.sissco.it
SUMMARY:La Storia (di genere) al servizio del tempo presente
DESCRIPTION:Lunedì 22 aprile p.v. alle 15.00\, in diretta sulla pagina fb https://www.facebook.com/SISstoriche.1989/ si terrà il workshop di presentazione del progetto della Società Italiana delle Storiche finanziato dai fondi dell’Otto per mille valdese 2023\, La Storia (di genere) al servizio del tempo presente.\nSaluti di Raffaella Sarti (presidente della SIS) e  Antonietta Scurani (Dirigente scolastica IIC Michelangelo di Bari\, scuola partner)\n Intervengono\nAnnastella Carrino (SIS\, coordinatrice del progetto)\nElisabetta Serafini (SIS)\nLea Durante (Università di Bari)\nAlberto Fornasari (Università di Bari)\nAurora Vimercati (Università di Bari)
URL:https://www.sissco.it/calendario/la-storia-di-genere-al-servizio-del-tempo-presente/
LOCATION:online\, Società italiana delle storiche - Via della Lungara\, 15\, Roma\, 00165\, Italia
CATEGORIES:Workshop
ATTACH;FMTTYPE=image/png:https://www.sissco.it/wp-content/uploads/2024/04/Progetto_valdese_2023_workshop_2024_4_2022.png
ORGANIZER;CN="Societ%C3%A0 Italiana delle Storiche":MAILTO:segreteria@societadellestoriche.it
END:VEVENT
BEGIN:VEVENT
DTSTART;TZID=Europe/Rome:20240208T170000
DTEND;TZID=Europe/Rome:20240208T193000
DTSTAMP:20260424T011352
CREATED:20240201T202437Z
LAST-MODIFIED:20240201T202437Z
UID:10002716-1707411600-1707420600@www.sissco.it
SUMMARY:L'ideologia gender è pericolosa
DESCRIPTION:Giovedì 8 febbraio 2024\, alle 17.00\, a Roma\, presso la Biblioteca di storia moderna e contemporanea in collaborazione con la Società italiana delle storiche\, sarà presentato il volume L’ideologia gender è pericolosa di Laura Schettini. (Laterza\, 2023)\nIntervengono: Elena Biagini\, Domenico Rizzo. Coordina Rosanna De Longis. Sarà presente l’Autrice.\nDiretta sulla pagina FB della Biblioteca https://www.facebook.com/BSMCstoriamoderna\ne su quella della SIS https://www.facebook.com/SISstoriche.1989\nChe cosa sono esattamente le questioni di genere che tanto spazio hanno guadagnato nel dibattito pubblico contemporaneo? Uno degli elementi che ricorrono quando si parla di genere è un apparente paradosso: mentre è evvocato come un pericolo incombente\, se ne lamenta la fumosità. E tuttavia lo si accusa di minacciare la nostra società\, di confondere l’identità e le menti dei nostri figli\, di mettere a repentaglio l’ordine naturale delle cose\, quello che distingue in maschi e femmine.\nMa davvero esiste un progetto per renderci tutti “fluidi”? Dove nasce l’ossessione per le questioni di genere e gli orientamenti sessuali non conformi? E quali sono le fratture politiche che si nascondono dietro a questi temi?\nLaura Schettini insegna Storia contimporanea e Storia delle donne e di genere presso l’Università di Padova. I suoi interessi di ricerca si focalizzano sulla storia sociale e culturale in età contemporanea\, con particolare attenzione alla storia di genere e della criminologia.\nSocia della Società italiana delle storiche\, è redattrice della rivista «Genesis». Tra le sue pubblicazioni Turpi traffici. Prostituzione e migrazioni globali\, 1890-1940\, (2020\, 2023)\, che ha ricevuto il Premio Gisa Giani 2021; lI gioco delle parti\, Travestimenti e paure sociali tra Otto e Novecento (2011)\, Premio SISSCO Junior 2012
URL:https://www.sissco.it/calendario/lideologia-gender-e-pericolosa/
LOCATION:Roma\, Online\, Roma\, 00186\, Italia
CATEGORIES:Presentazione di libro/i
ATTACH;FMTTYPE=image/jpeg:https://www.sissco.it/wp-content/uploads/2024/02/Schettini_gender_locandina.jpg
ORGANIZER;CN="Oriana Rizzuto":MAILTO:b-stmo.info@beniculturali.it
END:VEVENT
BEGIN:VEVENT
DTSTART;TZID=Europe/Rome:20231117T170000
DTEND;TZID=Europe/Rome:20231117T193000
DTSTAMP:20260424T011352
CREATED:20231110T205835Z
LAST-MODIFIED:20231110T211124Z
UID:10002660-1700240400-1700249400@www.sissco.it
SUMMARY:Le tante facce della violenza
DESCRIPTION:Nell’ambito del programma di manifestazioni dal titolo “Le tante facce della violenza”\, organizzata dalla Casa della donna di Pisa\, venerdì 17 novembre p.v. alle 17:00 si tiene  alla Stazione Leopolda di Pisa  la presentazione di “Mai più sole” contro la violenza sessuale. Una pagina storica del femminismo degli anni Settanta\, di Nadia M. Filippini. La presentazione del libro\, che ricostruisce la prima manifestazione femminista in un processo per stupro\, a Verona nel 1976\, è organizzata in collaborazione con la Società Italiana delle Storiche.\nCon l’autrice Nadia Maria Filippini dialogheranno le donne del Centro antiviolenza e introdurrà Laura Savelli\, storica e consigliera dell’associazione.
URL:https://www.sissco.it/calendario/le-tante-facce-della-violenza/
LOCATION:Pisa\, Università di Pisa - Scuola Superiore Sant'Anna - Scuola Normale Superiore\, Pisa\, 56126\, Italia
CATEGORIES:Presentazione di libro/i
ATTACH;FMTTYPE=image/jpeg:https://www.sissco.it/wp-content/uploads/2023/11/Mai_piu_sole_PIsa_17_novembre.jpg
ORGANIZER;CN="Societ%C3%A0 Italiana delle Storiche":MAILTO:segreteria@societadellestoriche.it
END:VEVENT
BEGIN:VEVENT
DTSTART;TZID=Europe/Rome:20161018T160000
DTEND;TZID=Europe/Rome:20161018T235900
DTSTAMP:20260424T011352
CREATED:20161012T120159Z
LAST-MODIFIED:20181005T193452Z
UID:10000303-1476806400-1476835140@www.sissco.it
SUMMARY:L'8 settembre 1943 e le donne romane
DESCRIPTION:Nel quadro del programma “Educare alle mostre educare alla città”\, organizzato dalla Sovrintendenza Capitolina ai Beni Culturali\, martedì 18 ottobre p.v.\, alle ore 16.00\, si tiene a Roma\, presso la Biblioteca Enzo Tortora (Via Nicola Zabaglia 27b) il primo dei sette incontri del ciclo “La città delle donne”\, curato dalla Società Italiana delle Storiche: L’8 settembre 1943 e le donne romane\, a cura di Simona Lunadei.
URL:https://www.sissco.it/calendario/l8-settembre-1943-e-le-donne-romane-a-cura-di-simona-lunadei/
LOCATION:Biblioteca “Enzo Tortora”\, Via Nicola Zabaglia\, 27b\, Roma\, 00153\, Italia
CATEGORIES:Workshop
ORGANIZER;CN="Societ%C3%A0 Italiana delle Storiche":MAILTO:segreteria@societadellestoriche.it
END:VEVENT
END:VCALENDAR